Workbook
Name Dom.Stats: #REF!
Name Int.Stats: #REF!
Name Mig.Stats: #REF!
Name Mig.Stats.Raw: #REF!
Name qwdwqe: '[1]Migration Stats'!$A$6:$CZ$88

Sheet Marketing Copy
B19: =M23 -> 45901 | D19: Current | E19: Previous | F19: % Change | H19: Rolling | I19: Previous | J19: % Change
D20: month | E20: year's month | F20: (month) | H20: 12 month | I20: 12 month | J20: in rolling
D21: =M23 -> 45901 | E21: =DATE(YEAR($D$21)-1,MONTH($D$21),DAY($D$21)) -> 45536 | H21: =D21 -> 45901 | I21: =E21 -> 45536 | J21: total
B23: Passenger Movements | L23: Current month | M23: ='All Data'!D2 -> 45901 | N23: ='All Data'!D3 -> 45536 | Q23: Current Month Adj | R23: Prior Month Adj | S23: 12m Adj | T23: Prior 12m Adj | V23: Prior month 12m | W23: =N23 -> 45536 | X23: Expected current month | Y23: Variance for 12 month | Z23: Variance for prior month
B24: International Passengers | D24: =INDEX('All Data'!$1:$1048576,MATCH('Marketing Copy'!M$23,'All Data'!$C:$C,0),MATCH($L24,'All Data'!$7:$7,0))+Q24 -> 68690 | E24: =INDEX('All Data'!$1:$1048576,MATCH('Marketing Copy'!N$23,'All Data'!$C:$C,0),MATCH($L24,'All Data'!$7:$7,0))+R24 -> 63465 | F24: =IF(E24=0,"",D24/E24-1) -> 0.082328843 | H24: =INDEX('All Data'!$1:$1048576,MATCH('Marketing Copy'!M$23,'All Data'!$C:$C,0),MATCH($O24,'All Data'!$7:$7,0))+S24 -> 815722 | I24: =INDEX('All Data'!$1:$1048576,MATCH('Marketing Copy'!N$23,'All Data'!$C:$C,0),MATCH($O24,'All Data'!$7:$7,0))+T24 -> 776462 | J24: =IF(I24=0,"",H24/I24-1) -> 0.05056268 | L24: INTPAX | M24: INTYTDPAX | O24: INTROLLPAX | T24: 280 | V24: 639052 | W24: 37776 | X24: =V24-W24+D24 -> 669966 | Y24: =H24-X24 -> 145756 | Z24: =E24-W24 -> 25689
B25: Domestic Passengers | D25: =INDEX('All Data'!$1:$1048576,MATCH('Marketing Copy'!M$23,'All Data'!$C:$C,0),MATCH($L25,'All Data'!$7:$7,0))+Q25 -> 372556 | E25: =INDEX('All Data'!1:1048576,MATCH('Marketing Copy'!N$23,'All Data'!$C:$C,0),MATCH($L25,'All Data'!$7:$7,0))+R25 -> 373023 | F25: =IF(E25=0,"",D25/E25-1) -> -0.0012519335 | H25: =INDEX('All Data'!1:1048576,MATCH('Marketing Copy'!M$23,'All Data'!$C:$C,0),MATCH($O25,'All Data'!$7:$7,0))+S25 -> 4420369 | I25: =INDEX('All Data'!$1:$1048576,MATCH('Marketing Copy'!N$23,'All Data'!$C:$C,0),MATCH($O25,'All Data'!$7:$7,0))+T25 -> 4609276 | J25: =IF(I25=0,"",H25/I25-1) -> -0.040984094 | L25: DOMPAX | M25: DOMYTDPAX | O25: DOMROLLPAX | V25: 4774264 | W25: 392152 | X25: =V25-W25+D25 -> 4754668 | Y25: =H25-X25 -> -334299 | Z25: =E25-W25 -> -19129
B26: Total Passenger Movements | D26: =SUM(D24:D25) -> 441246 | E26: =SUM(E24:E25) -> 436488 | F26: =IF(E26=0,"",D26/E26-1) -> 0.010900643 | H26: =SUM(H24:H25) -> 5236091 | I26: =SUM(I24:I25) -> 5385738 | J26: =IF(I26=0,"",H26/I26-1) -> -0.027785793 | V26: =SUM(V24:V25) -> 5413316 | W26: =SUM(W24:W25) -> 429928 | X26: =V26-W26+D26 -> 5424634
B29: Aircraft Movements | F29: =IF(E29=0,"",D29/E29-1) | J29: =IF(I29=0,"",H29/I29-1)
B30: International | D30: =INDEX('All Data'!1:1048576,MATCH('Marketing Copy'!M$23,'All Data'!$C:$C,0),MATCH($L30,'All Data'!$7:$7,0))+Q30 -> 464 | E30: =INDEX('All Data'!1:1048576,MATCH('Marketing Copy'!N$23,'All Data'!$C:$C,0),MATCH($L30,'All Data'!$7:$7,0))+R30 -> 447 | F30: =IF(E30=0,"",D30/E30-1) -> 0.03803132 | H30: =INDEX('All Data'!1:1048576,MATCH('Marketing Copy'!M$23,'All Data'!$C:$C,0),MATCH($O30,'All Data'!$7:$7,0))+S30 -> 5579 | I30: =INDEX('All Data'!$1:$1048576,MATCH('Marketing Copy'!N$23,'All Data'!$C:$C,0),MATCH($O30,'All Data'!$7:$7,0))+T30 -> 5498 | J30: =IF(I30=0,"",H30/I30-1) -> 0.01473263 | L30: INTMOVE | M30: INTYTDMOVE | O30: INTROLLMOVE | T30: 3 | V30: 4422 | W30: 251 | X30: =V30-W30+D30 -> 4635 | Y30: =H30-X30 -> 944 | Z30: =E30-W30 -> 196
B31: Domestic | D31: =INDEX('All Data'!1:1048576,MATCH('Marketing Copy'!M$23,'All Data'!$C:$C,0),MATCH($L31,'All Data'!$7:$7,0))+Q31 -> 5272 | E31: =INDEX('All Data'!1:1048576,MATCH('Marketing Copy'!N$23,'All Data'!$C:$C,0),MATCH($L31,'All Data'!$7:$7,0))+R31 -> 5399 | F31: =IF(E31=0,"",D31/E31-1) -> -0.023522875 | H31: =INDEX('All Data'!1:1048576,MATCH('Marketing Copy'!M$23,'All Data'!$C:$C,0),MATCH($O31,'All Data'!$7:$7,0))+S31 -> 65746 | I31: =INDEX('All Data'!$1:$1048576,MATCH('Marketing Copy'!N$23,'All Data'!$C:$C,0),MATCH($O31,'All Data'!$7:$7,0))+T31 -> 65843 | J31: =IF(I31=0,"",H31/I31-1) -> -0.0014732014 | L31: DOMMOVE | M31: DOMYTDMOVE | O31: DOMROLLMOVE | V31: 66859 | W31: 5531 | X31: =V31-W31+D31 -> 66600 | Y31: =H31-X31 -> -854 | Z31: =E31-W31 -> -132
B32: Total Aircraft Movements | D32: =SUM(D30:D31) -> 5736 | E32: =SUM(E30:E31) -> 5846 | F32: =IF(E32=0,"",D32/E32-1) -> -0.018816285 | H32: =SUM(H30:H31) -> 71325 | I32: =SUM(I30:I31) -> 71341 | J32: =IF(I32=0,"",H32/I32-1) -> -0.00022427496
B35: Capacity | F35: =IF(E35=0,"",D35/E35-1) | J35: =IF(I35=0,"",H35/I35-1)
B36: International Seat Capacity | D36: =INDEX('All Data'!$1:$1048576,MATCH('Marketing Copy'!M$23,'All Data'!$C:$C,0),MATCH($L36,'All Data'!$7:$7,0))+Q36 -> 80948 | E36: =INDEX('All Data'!$1:$1048576,MATCH('Marketing Copy'!N$23,'All Data'!$C:$C,0),MATCH($L36,'All Data'!$7:$7,0))+R36 -> 74543 | F36: =IF(E36=0,"",D36/E36-1) -> 0.085923561 | H36: =INDEX('All Data'!1:1048576,MATCH('Marketing Copy'!M$23,'All Data'!$C:$C,0),MATCH($O36,'All Data'!$7:$7,0))+S36 -> 976609 | I36: =INDEX('All Data'!$1:$1048576,MATCH('Marketing Copy'!N$23,'All Data'!$C:$C,0),MATCH($O36,'All Data'!$7:$7,0))+T36 -> 924680 | J36: =IF(I36=0,"",H36/I36-1) -> 0.056158887 | L36: INTSEAT | M36: INTYTDSEAT | O36: INTROLLSEAT | T36: 8227 | V36: 754763 | W36: 43037 | X36: =V36-W36+D36 -> 792674 | Y36: =H36-X36 -> 183935 | Z36: =E36-W36 -> 31506
B37: Domestic Seat Capacity | D37: =INDEX('All Data'!$1:$1048576,MATCH('Marketing Copy'!M$23,'All Data'!$C:$C,0),MATCH($L37,'All Data'!$7:$7,0))+Q37 -> 439993 | E37: =INDEX('All Data'!$1:$1048576,MATCH('Marketing Copy'!N$23,'All Data'!$C:$C,0),MATCH($L37,'All Data'!$7:$7,0))+R37 -> 462438 | F37: =IF(E37=0,"",D37/E37-1) -> -0.048536236 | H37: =INDEX('All Data'!1:1048576,MATCH('Marketing Copy'!M$23,'All Data'!$C:$C,0),MATCH($O37,'All Data'!$7:$7,0))+S37 -> 5436288 | I37: =INDEX('All Data'!$1:$1048576,MATCH('Marketing Copy'!N$23,'All Data'!$C:$C,0),MATCH($O37,'All Data'!$7:$7,0))+T37 -> 5646138 | J37: =IF(I37=0,"",H37/I37-1) -> -0.037166998 | L37: DOMSEAT | M37: DOMYTDSEAT | O37: DOMROLLSEAT | T37: 36 | V37: 5729361 | W37: 486236 | X37: =V37-W37+D37 -> 5683118 | Y37: =H37-X37 -> -246830 | Z37: =E37-W37 -> -23798
B38: Total Capacity | D38: =SUM(D36:D37) -> 520941 | E38: =SUM(E36:E37) -> 536981 | F38: =IF(E38=0,"",D38/E38-1) -> -0.029870703 | H38: =SUM(H36:H37) -> 6412897 | I38: =SUM(I36:I37) -> 6570818 | J38: =IF(I38=0,"",H38/I38-1) -> -0.02403369
F39: =IF(E39=0,"",D39/E39-1) | J39: =IF(I39=0,"",H39/I39-1)
B40: Average Load Factors | F40: =IF(E40=0,"",D40/E40-1) | J40: =IF(I40=0,"",H40/I40-1)
B41: International load factor | D41: =D24/D36 -> 0.84856945 | E41: =E24/E36 -> 0.85138779 | F41: =IF(E41=0,"",D41-E41) -> -0.0028183376 | H41: =H24/H36 -> 0.83525956 | I41: =I24/I36 -> 0.83970887 | J41: =IF(I41=0,"",H41-I41) -> -0.004449316
B42: Domestic load factor | D42: =D25/D37 -> 0.84673165 | E42: =E25/E37 -> 0.80664435 | F42: =IF(E42=0,"",D42-E42) -> 0.040087302 | H42: =H25/H37 -> 0.81312267 | I42: =I25/I37 -> 0.81635908 | J42: =IF(I42=0,"",H42-I42) -> -0.0032364084
B43: Overall load factor | D43: =D26/D38 -> 0.84701722 | E43: =E26/E38 -> 0.81285558 | F43: =IF(E43=0,"",D43-E43) -> 0.034161649 | H43: =H26/H38 -> 0.81649386 | I43: =I26/I38 -> 0.81964498 | J43: =IF(I43=0,"",H43-I43) -> -0.0031511257
F44: =IF(E44=0,"",D44/E44-1) | J44: =IF(I44=0,"",H44/I44-1)
F45: =IF(E45=0,"",D45/E45-1) | J45: =IF(I45=0,"",H45/I45-1)
B46: Capacity | F46: =IF(E46=0,"",D46/E46-1) | J46: =IF(I46=0,"",H46/I46-1)
B47: International Seat Capacity | D47: =D36/D30/2 -> 87.228448 | E47: =E36/E30/2 -> 83.381432 | F47: =IF(E47=0,"",D47/E47-1) -> 0.046137568 | H47: =H36/H30/2 -> 87.525453 | I47: =I36/I30/2 -> 84.092397 | J47: =IF(I47=0,"",H47/I47-1) -> 0.040824801
B48: Domestic Seat Capacity | D48: =D37/D31/2 -> 41.72923 | E48: =E37/E31/2 -> 42.826264 | F48: =IF(E48=0,"",D48/E48-1) -> -0.025615922 | H48: =H37/H31/2 -> 41.343108 | I48: =I37/I31/2 -> 42.875765 | J48: =IF(I48=0,"",H48/I48-1) -> -0.035746458
B49: Total Capacity | D49: =D38/D32/2 -> 45.40978 | E49: =E38/E32/2 -> 45.927215 | F49: =IF(E49=0,"",D49/E49-1) -> -0.01126641 | H49: =H38/H32/2 -> 44.955464 | I49: =I38/I32/2 -> 46.052186 | J49: =IF(I49=0,"",H49/I49-1) -> -0.023814756
B51: International Arrivals | J51: =IF(I51=0,"",H51/I51-1)
B52: Last Country of Residence*
B53: New Zealand | D53: =INDEX('All Data'!$1:$1048576,MATCH('Marketing Copy'!M$23,'All Data'!$C:$C,0),MATCH($L53,'All Data'!$7:$7,0))+Q53 -> 20606 | E53: =INDEX('All Data'!$1:$1048576,MATCH('Marketing Copy'!N$23,'All Data'!$C:$C,0),MATCH($L53,'All Data'!$7:$7,0))+R53 -> 18797 | F53: =IF(E53=0,"",D53/E53-1) -> 0.096238762 | H53: =INDEX('All Data'!$1:$1048576,MATCH('Marketing Copy'!M$23,'All Data'!$C:$C,0),MATCH($V69,'All Data'!$7:$7,0)) -> 228179 | I53: =INDEX('All Data'!$1:$1048576,MATCH('Marketing Copy'!N$23,'All Data'!$C:$C,0),MATCH($O53,'All Data'!$7:$7,0))+T53 -> 217469 | J53: =IF(I53=0,"",H53/I53-1) -> 0.049248399 | L53: NZ | M53: NZ3 | O53: NZ2 | R53: 0 | U53: S-E ASIA | V53: S-E ASIA2 | W53: S-E ASIA3
B54: Overseas | F54: =IF(E54=0,"",D54/E54-1) | J54: =IF(I54=0,"",H54/I54-1) | U54: N-E ASIA | V54: N-E ASIA2 | W54: N-E ASIA3
B55: Australia | D55: =INDEX('All Data'!$1:$1048576,MATCH('Marketing Copy'!M$23,'All Data'!$C:$C,0),MATCH($L55,'All Data'!$7:$7,0))+Q55 -> 11540 | E55: =INDEX('All Data'!$1:$1048576,MATCH('Marketing Copy'!N$23,'All Data'!$C:$C,0),MATCH($L55,'All Data'!$7:$7,0))+R55 -> 10276 | F55: =IF(E55=0,"",D55/E55-1) -> 0.12300506 | H55: =INDEX('All Data'!$1:$1048576,MATCH('Marketing Copy'!M$23,'All Data'!$C:$C,0),MATCH($V71,'All Data'!$7:$7,0)) -> 132671 | I55: =INDEX('All Data'!$1:$1048576,MATCH('Marketing Copy'!N$23,'All Data'!$C:$C,0),MATCH($O55,'All Data'!$7:$7,0))+T55 -> 120933 | J55: =IF(I55=0,"",H55/I55-1) -> 0.09706201 | L55: AUST | M55: AUST3 | O55: AUST2 | U55: S & C ASIA | V55: S & C ASIA2 | W55: S & C ASIA3
B56: Europe | D56: =INDEX('All Data'!$1:$1048576,MATCH('Marketing Copy'!M$23,'All Data'!$C:$C,0),MATCH($U59,'All Data'!$7:$7,0))+Q56 -> 815 | E56: =INDEX('All Data'!$1:$1048576,MATCH('Marketing Copy'!N$23,'All Data'!$C:$C,0),MATCH($U59,'All Data'!$7:$7,0))+R56 -> 619 | F56: =IF(E56=0,"",D56/E56-1) -> 0.31663974 | H56: =INDEX('All Data'!$1:$1048576,MATCH('Marketing Copy'!M$23,'All Data'!$C:$C,0),MATCH($V59,'All Data'!$7:$7,0)) -> 15659 | I56: =INDEX('All Data'!$1:$1048576,MATCH('Marketing Copy'!N$23,'All Data'!$C:$C,0),MATCH($O56,'All Data'!$7:$7,0))+T56 -> 14734 | J56: =IF(I56=0,"",H56/I56-1) -> 0.062779965 | L56: EURO | M56: EURO3 | O56: EURO2 | U56: ASIA TOTAL | V56: ASIA TOTAL2 | W56: ASIA TOTAL3
B57: North America | D57: =INDEX('All Data'!$1:$1048576,MATCH('Marketing Copy'!M$23,'All Data'!$C:$C,0),MATCH($U60,'All Data'!$7:$7,0))+Q57 -> 468 | E57: =INDEX('All Data'!$1:$1048576,MATCH('Marketing Copy'!N$23,'All Data'!$C:$C,0),MATCH($U60,'All Data'!$7:$7,0))+R57 -> 464 | F57: =IF(E57=0,"",D57/E57-1) -> 0.0086206897 | H57: =INDEX('All Data'!$1:$1048576,MATCH('Marketing Copy'!M$23,'All Data'!$C:$C,0),MATCH($V60,'All Data'!$7:$7,0)) -> 8433 | I57: =INDEX('All Data'!$1:$1048576,MATCH('Marketing Copy'!N$23,'All Data'!$C:$C,0),MATCH($O57,'All Data'!$7:$7,0))+T57 -> 8848 | J57: =IF(I57=0,"",H57/I57-1) -> -0.046903255 | L57: NTH AM | M57: NTH AM3 | O57: NTH AM2 | U57: N-W EUROPE | V57: N-W EUROPE2 | W57: N-W EUROPE3
B58: Asia | D58: =INDEX('All Data'!$1:$1048576,MATCH('Marketing Copy'!M$23,'All Data'!$C:$C,0),MATCH($U56,'All Data'!$7:$7,0))+Q58 -> 1017 | E58: =INDEX('All Data'!$1:$1048576,MATCH('Marketing Copy'!N$23,'All Data'!$C:$C,0),MATCH($U56,'All Data'!$7:$7,0))+R58 -> 942 | F58: =IF(E58=0,"",D58/E58-1) -> 0.079617834 | H58: =INDEX('All Data'!$1:$1048576,MATCH('Marketing Copy'!M$23,'All Data'!$C:$C,0),MATCH($V56,'All Data'!$7:$7,0)) -> 13281 | I58: =INDEX('All Data'!$1:$1048576,MATCH('Marketing Copy'!N$23,'All Data'!$C:$C,0),MATCH($O58,'All Data'!$7:$7,0))+T58 -> 14337 | J58: =IF(I58=0,"",H58/I58-1) -> -0.073655576 | L58: ASIA | M58: ASIA3 | O58: ASIA2 | U58: S-E EUROPE | V58: S-E EUROPE2 | W58: S-E EUROPE3
B59: Pacific Islands | D59: =INDEX('All Data'!$1:$1048576,MATCH('Marketing Copy'!M$23,'All Data'!$C:$C,0),MATCH($L59,'All Data'!$7:$7,0))+Q59 -> 247 | E59: =INDEX('All Data'!$1:$1048576,MATCH('Marketing Copy'!N$23,'All Data'!$C:$C,0),MATCH($L59,'All Data'!$7:$7,0))+R59 -> 270 | F59: =IF(E59=0,"",D59/E59-1) -> -0.085185185 | H59: =INDEX('All Data'!$1:$1048576,MATCH('Marketing Copy'!M$23,'All Data'!$C:$C,0),MATCH($V68,'All Data'!$7:$7,0)) -> 3626 | I59: =INDEX('All Data'!$1:$1048576,MATCH('Marketing Copy'!N$23,'All Data'!$C:$C,0),MATCH($O59,'All Data'!$7:$7,0))+T59 -> 3904 | J59: =IF(I59=0,"",H59/I59-1) -> -0.071209016 | L59: PAC | M59: PAC3 | O59: PAC2 | U59: EUROPE TOTAL | V59: EUROPE TOTAL2 | W59: EUROPE TOTAL3
B60: Other | D60: =INDEX('All Data'!$1:$1048576,MATCH('Marketing Copy'!M$23,'All Data'!$C:$C,0),MATCH($U67,'All Data'!$7:$7,0))+INDEX('All Data'!$1:$1048576,MATCH('Marketing Copy'!M$23,'All Data'!$C:$C,0),MATCH($U61,'All Data'!$7:$7,0))+INDEX('All Data'!$1:$1048576,MATCH('Marketing Copy'!M$23,'All Data'!$C:$C,0),MATCH($U62,'All Data'!$7:$7,0))+INDEX('All Data'!$1:$1048576,MATCH('Marketing Copy'!M$23,'All Data'!$C:$C,0),MATCH($U64,'All Data'!$7:$7,0))+INDEX('All Data'!$1:$1048576,MATCH('Marketing Copy'!M$23,'All Data'!$C:$C,0),MATCH($U65,'All Data'!$7:$7,0))+Q60 -> 337 | E60: =INDEX('All Data'!$1:$1048576,MATCH('Marketing Copy'!N$23,'All Data'!$C:$C,0),MATCH($L60,'All Data'!$7:$7,0))+R60 -> 354 | F60: =IF(E60=0,"",D60/E60-1) -> -0.048022599 | H60: =INDEX('All Data'!$1:$1048576,MATCH('Marketing Copy'!M$23,'All Data'!$C:$C,0),MATCH($V67,'All Data'!$7:$7,0)) -> 4798 | I60: =INDEX('All Data'!$1:$1048576,MATCH('Marketing Copy'!N$23,'All Data'!$C:$C,0),MATCH($O60,'All Data'!$7:$7,0))+T60 -> 6141 | J60: =IF(I60=0,"",H60/I60-1) -> -0.21869402 | L60: OTHER | M60: OTHER3 | O60: OTHER2 | U60: N AMER | V60: N AMER2 | W60: N AMER3
B61: Total Overseas | D61: =SUM(D55:D60) -> 14424 | E61: =SUM(E55:E60)+Q61 -> 12925 | F61: =IF(E61=0,"",D61/E61-1) -> 0.11597679 | H61: =SUM(H55:H60) -> 178468 | I61: =SUM(I55:I60)+T61 -> 168897 | J61: =IF(I61=0,"",H61/I61-1) -> 0.056667673 | U61: S AMER | V61: S AMER2 | W61: S AMER3
B62: Total International Arrivals | D62: =SUM(D53+D61) -> 35030 | E62: =SUM(E53+E61) -> 31722 | F62: =IF(E62=0,"",D62/E62-1) -> 0.10428094 | H62: =SUM(H53+H61) -> 406647 | I62: =SUM(I53+I61) -> 386366 | J62: =IF(I62=0,"",H62/I62-1) -> 0.052491679 | L62: =I60-6190 -> -49 | U62: CENT AMER & CARIB | V62: CENT AMER & CARIB2 | W62: CENT AMER & CARIB3
F63: =IF(E63=0,"",D63/E63-1) | J63: =IF(I63=0,"",H63/I63-1) | U63: AMER TOTAL | V63: AMER TOTAL2 | W63: AMER TOTAL3
U64: N AFRICA & MIDDLE EAST | V64: N AFRICA & MIDDLE EAST2 | W64: N AFRICA & MIDDLE EAST3
B65: International Visitors Arrivals | F65: =IF(E65=0,"",D65/E65-1) | J65: =IF(I65=0,"",H65/I65-1) | U65: SUB-SAHARAN AFRICA | V65: SUB-SAHARAN AFRICA2 | W65: SUB-SAHARAN AFRICA3
B66: Purpose of Visit* | U66: OCEANIA & ANTARCTICA | V66: OCEANIA & ANTARCTICA2 | W66: OCEANIA & ANTARCTICA3
B67: Business/Conference | D67: =INDEX('All Data'!$1:$1048576,MATCH('Marketing Copy'!M$23,'All Data'!$C:$C,0),MATCH($L67,'All Data'!$7:$7,0))+Q67 -> 2297 | E67: =INDEX('All Data'!$1:$1048576,MATCH('Marketing Copy'!N$23,'All Data'!$C:$C,0),MATCH($L67,'All Data'!$7:$7,0))+R67 -> 2321 | F67: =IF(E67=0,"",D67/E67-1) -> -0.010340371 | H67: =INDEX('All Data'!$1:$1048576,MATCH('Marketing Copy'!M$23,'All Data'!$C:$C,0),MATCH($O67,'All Data'!$7:$7,0)) -> 23945 | I67: =INDEX('All Data'!$1:$1048576,MATCH('Marketing Copy'!N$23,'All Data'!$C:$C,0),MATCH($O67,'All Data'!$7:$7,0))+T67 -> 24472 | J67: =IF(I67=0,"",H67/I67-1) -> -0.021534815 | L67: BUS/CON | M67: BUS/CON3 | O67: BUS/CON2 | U67: OTHER | V67: OTHER2 | W67: OTHERS3
B68: Holiday | D68: =INDEX('All Data'!$1:$1048576,MATCH('Marketing Copy'!M$23,'All Data'!$C:$C,0),MATCH($L68,'All Data'!$7:$7,0))+Q68 -> 3494 | E68: =INDEX('All Data'!$1:$1048576,MATCH('Marketing Copy'!N$23,'All Data'!$C:$C,0),MATCH($L68,'All Data'!$7:$7,0))+R68 -> 2536 | F68: =IF(E68=0,"",D68/E68-1) -> 0.37776025 | H68: =INDEX('All Data'!$1:$1048576,MATCH('Marketing Copy'!M$23,'All Data'!$C:$C,0),MATCH($O68,'All Data'!$7:$7,0)) -> 36831 | I68: =INDEX('All Data'!$1:$1048576,MATCH('Marketing Copy'!N$23,'All Data'!$C:$C,0),MATCH($O68,'All Data'!$7:$7,0))+T68 -> 33366 | J68: =IF(I68=0,"",H68/I68-1) -> 0.10384823 | L68: HOL/VAC | M68: HOL/VAC3 | O68: HOL/VAC2 | U68: PAC | V68: PAC2 | W68: PAC3
B69: Visit Friends/Relatives | D69: =INDEX('All Data'!$1:$1048576,MATCH('Marketing Copy'!M$23,'All Data'!$C:$C,0),MATCH($L69,'All Data'!$7:$7,0))+Q69 -> 7081 | E69: =INDEX('All Data'!$1:$1048576,MATCH('Marketing Copy'!N$23,'All Data'!$C:$C,0),MATCH($L69,'All Data'!$7:$7,0))+R69 -> 6442 | F69: =IF(E69=0,"",D69/E69-1) -> 0.099192797 | H69: =INDEX('All Data'!$1:$1048576,MATCH('Marketing Copy'!M$23,'All Data'!$C:$C,0),MATCH($O69,'All Data'!$7:$7,0)) -> 98411 | I69: =INDEX('All Data'!$1:$1048576,MATCH('Marketing Copy'!N$23,'All Data'!$C:$C,0),MATCH($O69,'All Data'!$7:$7,0))+T69 -> 88346 | J69: =IF(I69=0,"",H69/I69-1) -> 0.11392706 | L69: FRI/REL | M69: FRI/REL3 | O69: FRI/REL2 | U69: NZ | V69: NZ2 | W69: NZ3
B70: Educational/Medical | D70: =INDEX('All Data'!$1:$1048576,MATCH('Marketing Copy'!M$23,'All Data'!$C:$C,0),MATCH($L70,'All Data'!$7:$7,0))+Q70 -> 0 | E70: =INDEX('All Data'!$1:$1048576,MATCH('Marketing Copy'!N$23,'All Data'!$C:$C,0),MATCH($L70,'All Data'!$7:$7,0))+R70 -> 0 | I70: =INDEX('All Data'!$1:$1048576,MATCH('Marketing Copy'!N$23,'All Data'!$C:$C,0),MATCH($O70,'All Data'!$7:$7,0)) -> 0 | L70: EDU/MED | M70: EDU/MED3 | O70: EDU/MED2 | U70: PAC | V70: PAC2 | W70: PAC3
B71: Other | D71: =INDEX('All Data'!$1:$1048576,MATCH('Marketing Copy'!M$23,'All Data'!$C:$C,0),MATCH($L71,'All Data'!$7:$7,0))+Q71 -> 1212 | E71: =INDEX('All Data'!$1:$1048576,MATCH('Marketing Copy'!N$23,'All Data'!$C:$C,0),MATCH($L71,'All Data'!$7:$7,0))+R71 -> 1366 | F71: =IF(E71=0,"",D71/E71-1) -> -0.11273792 | H71: =INDEX('All Data'!$1:$1048576,MATCH('Marketing Copy'!M$23,'All Data'!$C:$C,0),MATCH($O71,'All Data'!$7:$7,0))+INDEX('All Data'!$1:$1048576,MATCH('Marketing Copy'!M$23,'All Data'!$C:$C,0),MATCH($O70,'All Data'!$7:$7,0)) -> 15853 | I71: =INDEX('All Data'!$1:$1048576,MATCH('Marketing Copy'!N$23,'All Data'!$C:$C,0),MATCH($O71,'All Data'!$7:$7,0))+T71 -> 18561 | J71: =IF(I71=0,"",H71/I71-1) -> -0.14589731 | L71: OTH | M71: OTH3 | O71: OTH2 | U71: AUST | V71: AUST2 | W71: AUST3
B72: Total International Visitors Arrivals | D72: =SUM(D67:D71) -> 14084 | E72: =SUM(E67:E71) -> 12665 | F72: =IF(E72=0,"",D72/E72-1) -> 0.11204106 | H72: =SUM(H67:H71) -> 175040 | I72: =SUM(I67:I71) -> 164745 | J72: =IF(I72=0,"",H72/I72-1) -> 0.062490516
B74: Departures by country of next residence | F74: =IF(E74=0,"",D74/E74-1) | J74: =IF(I74=0,"",H74/I74-1)
B75: New Zealand | D75: =VLOOKUP($D$21,#REF!,44,0) -> #REF! | E75: =VLOOKUP($E$21,#REF!,44,0) -> #REF! | F75: =IF(E75=0,"",D75/E75-1) -> #REF! | H75: =VLOOKUP($D$21,#REF!,138,0) -> #REF! | I75: =VLOOKUP($E$21,#REF!,138,0) -> #REF! | J75: =IF(I75=0,"",H75/I75-1) -> #REF!
B76: Australia | D76: =VLOOKUP($D$21,#REF!,45,0) -> #REF! | E76: =VLOOKUP($E$21,#REF!,45,0) -> #REF! | F76: =IF(E76=0,"",D76/E76-1) -> #REF! | H76: =VLOOKUP($D$21,#REF!,139,0) -> #REF! | I76: =VLOOKUP($E$21,#REF!,139,0) -> #REF! | J76: =IF(I76=0,"",H76/I76-1) -> #REF!
B77: UK/EU | D77: =VLOOKUP($D$21,#REF!,46,0) -> #REF! | E77: =VLOOKUP($E$21,#REF!,46,0) -> #REF! | F77: =IF(E77=0,"",D77/E77-1) -> #REF! | H77: =VLOOKUP($D$21,#REF!,140,0) -> #REF! | I77: =VLOOKUP($E$21,#REF!,140,0) -> #REF! | J77: =IF(I77=0,"",H77/I77-1) -> #REF!
B78: North America | D78: =VLOOKUP($D$21,#REF!,47,0) -> #REF! | E78: =VLOOKUP($E$21,#REF!,47,0) -> #REF! | F78: =IF(E78=0,"",D78/E78-1) -> #REF! | H78: =VLOOKUP($D$21,#REF!,141,0) -> #REF! | I78: =VLOOKUP($E$21,#REF!,141,0) -> #REF! | J78: =IF(I78=0,"",H78/I78-1) -> #REF!
B79: Asia | D79: =VLOOKUP($D$21,#REF!,48,0) -> #REF! | E79: =VLOOKUP($E$21,#REF!,48,0) -> #REF! | F79: =IF(E79=0,"",D79/E79-1) -> #REF! | H79: =VLOOKUP($D$21,#REF!,142,0) -> #REF! | I79: =VLOOKUP($E$21,#REF!,142,0) -> #REF! | J79: =IF(I79=0,"",H79/I79-1) -> #REF!
B80: Pacific Islands | D80: =VLOOKUP($D$21,#REF!,49,0) -> #REF! | E80: =VLOOKUP($E$21,#REF!,49,0) -> #REF! | F80: =IF(E80=0,"",D80/E80-1) -> #REF! | H80: =VLOOKUP($D$21,#REF!,143,0) -> #REF! | I80: =VLOOKUP($E$21,#REF!,143,0) -> #REF! | J80: =IF(I80=0,"",H80/I80-1) -> #REF!
B81: Other | D81: =VLOOKUP($D$21,#REF!,50,0) -> #REF! | E81: =VLOOKUP($E$21,#REF!,50,0) -> #REF! | F81: =IF(E81=0,"",D81/E81-1) -> #REF! | H81: =VLOOKUP($D$21,#REF!,144,0) -> #REF! | I81: =VLOOKUP($E$21,#REF!,144,0) -> #REF! | J81: =IF(I81=0,"",H81/I81-1) -> #REF!
B82: Total Overseas | D82: =SUM(D76:D81) -> #REF! | E82: =SUM(E76:E81) -> #REF! | F82: =IF(E82=0,"",D82/E82-1) -> #REF! | H82: =SUM(H76:H81) -> #REF! | I82: =SUM(I76:I81) -> #REF! | J82: =IF(I82=0,"",H82/I82-1) -> #REF!
B83: Total | D83: =SUM(D75:D81) -> #REF! | E83: =SUM(E75:E81) -> #REF! | F83: =IF(E83=0,"",D83/E83-1) -> #REF! | H83: =SUM(H75:H81) -> #REF! | I83: =SUM(I75:I81) -> #REF! | J83: =IF(I83=0,"",H83/I83-1) -> #REF!
B86: * The international arrival information is based on a sample and only represents passengers flying international directly to Wellington Airport (excludes visitors connecting domestically via Auckland/Christchurch).
B87: This monthly traffic update from Wellington International Airport Limited (WIAL) is generated with assistance and data from Statistics New Zealand, the New Zealand Customs Service, Airways New Zealand, Immigration New Zealand flight operators. This document is intended for information purposes. The data provided herein has not been subject to independent audit. No guarantees are given as to the completeness and accuracy of the data. WIAL (by its officers, agents or employees) will not be liable for any loss suffered by any person relying or acting upon this information or analysis thereof.

Sheet All Data
C2: This month: | D2: 45901
C3: Last Year: | D3: =DATE(YEAR(D2),MONTH(D2)-12,DAY(D2)) -> 45536
C4: First month of current year | D4: =DATE(YEAR(D2),4,1) -> 45748
C5: First month of previous year | D5: =DATE(YEAR(D3),4,1) -> 45383
J6: INTPAX | K6: INTMOVE | L6: INTSEAT | S6: DOMPAX | T6: DOMMOVE | U6: DOMSEAT | BN6: ASIA | BO6: AUST | BP6: EURO | BQ6: NZ | BR6: OTHER | BS6: PAC | BT6: NTH AM | BU6: S-E ASIA | BV6: N-E ASIA | BW6: S & C ASIA | BX6: ASIA TOTAL | BY6: N-W EUROPE | BZ6: S-E EUROPE | CA6: EUROPE TOTAL | CB6: N AMER | CC6: S AMER | CD6: CENT AMER & CARIB | CE6: AMER TOTAL | CF6: N AFRICA & MIDDLE EAST | CG6: SUB-SAHARAN AFRICA | CH6: OCEANIA & ANTARCTICA | CI6: OTHERS | CT6: BUS/CON | CU6: HOL/VAC | CV6: FRI/REL | CW6: EDU/MED | CX6: OTH
D7: INTPAX | E7: INTMOVE | F7: INTSEAT | G7: INTROLLPAX | H7: INTROLLMOVE | I7: INTROLLSEAT | J7: INTYTDPAX | K7: INTYTDMOVE | L7: INTYTDSEAT | M7: DOMPAX | N7: DOMMOVE | O7: DOMSEAT | P7: DOMROLLPAX | Q7: DOMROLLMOVE | R7: DOMROLLSEAT | S7: DOMYTDPAX | T7: DOMYTDMOVE | U7: DOMYTDSEAT | V7: ASIA | W7: AUST | X7: EURO | Y7: NZ | Z7: OTHER | AA7: PAC | AB7: NTH AM | AC7: S-E ASIA | AD7: N-E ASIA | AE7: S & C ASIA | AF7: ASIA TOTAL | AG7: N-W EUROPE | AH7: S-E EUROPE | AI7: EUROPE TOTAL | AJ7: N AMER | AK7: S AMER | AL7: CENT AMER & CARIB | AM7: AMER TOTAL | AN7: N AFRICA & MIDDLE EAST | AO7: SUB-SAHARAN AFRICA | AP7: OCEANIA & ANTARCTICA | AQ7: OTHERS | AR7: ASIA2 | AS7: AUST2 | AT7: EURO2 | AU7: NZ2 | AV7: OTHER2 | AW7: PAC2 | AX7: NTH AM2 | AY7: S-E ASIA2 | AZ7: N-E ASIA2 | BA7: S & C ASIA2 | BB7: ASIA TOTAL2 | BC7: N-W EUROPE2 | BD7: S-E EUROPE2 | BE7: EUROPE TOTAL2 | BF7: N AMER2 | BG7: S AMER2 | BH7: CENT AMER & CARIB2 | BI7: AMER TOTAL2 | BJ7: N AFRICA & MIDDLE EAST2 | BK7: SUB-SAHARAN AFRICA2 | BL7: OCEANIA & ANTARCTICA2 | BM7: OTHERS2 | BN7: ASIA3 | BO7: AUST3 | BP7: EURO3 | BQ7: NZ3 | BR7: OTHER3 | BS7: PAC3 | BT7: NTH AM3 | BU7: S-E ASIA3 | BV7: N-E ASIA3 | BW7: S & C ASIA3 | BX7: ASIA TOTAL3 | BY7: N-W EUROPE3 | BZ7: S-E EUROPE3 | CA7: EUROPE TOTAL3 | CB7: N AMER3 | CC7: S AMER3 | CD7: CENT AMER & CARIB3 | CE7: AMER TOTAL3 | CF7: N AFRICA & MIDDLE EAST3 | CG7: SUB-SAHARAN AFRICA3 | CH7: OCEANIA & ANTARCTICA3 | CI7: OTHERS3 | CJ7: BUS/CON | CK7: HOL/VAC | CL7: FRI/REL | CM7: EDU/MED | CN7: OTH | CO7: BUS/CON2 | CP7: HOL/VAC2 | CQ7: FRI/REL2 | CR7: EDU/MED2 | CS7: OTH2 | CT7: BUS/CON3 | CU7: HOL/VAC3 | CV7: FRI/REL3 | CW7: EDU/MED3 | CX7: OTH3
D8: Pax Total | E8: Movements | F8: Seat Total | G8: Rolling 12 month Pax Total | H8: Rolling 12 month Movements Total | I8: Rolling 12 month Seat Total | J8: YTD Pax Total | K8: YTD Movements Total | L8: YTD Seat Total | M8: Pax Total | N8: Movements | O8: Seat Total | P8: Rolling 12 month Pax Total | Q8: Rolling 12 month Movements | R8: Rolling 12 month Seat Total | S8: YTD Pax Total | T8: YTD Movements | U8: YTD Seat Total | V8: Arrivals | W8: Arrivals | X8: Arrivals | Y8: Arrivals | Z8: Arrivals | AA8: Arrivals | AB8: Arrivals | AC8: Arrivals | AD8: Arrivals | AE8: Arrivals | AF8: Arrivals | AG8: Arrivals | AH8: Arrivals | AI8: Arrivals | AJ8: Arrivals | AK8: Arrivals | AL8: Arrivals | AM8: Arrivals | AN8: Arrivals | AO8: Arrivals | AP8: Arrivals | AQ8: Arrivals | AR8: Rolling 12 month | AS8: Rolling 12 month | AT8: Rolling 12 month | AU8: Rolling 12 month | AV8: Rolling 12 month | AW8: Rolling 12 month | AX8: Rolling 12 month | AY8: Rolling 12 month | AZ8: Rolling 12 month | BA8: Rolling 12 month | BB8: Rolling 12 month | BC8: Rolling 12 month | BD8: Rolling 12 month | BE8: Rolling 12 month | BF8: Rolling 12 month | BG8: Rolling 12 month | BH8: Rolling 12 month | BI8: Rolling 12 month | BJ8: Rolling 12 month | BK8: Rolling 12 month | BL8: Rolling 12 month | BN8: YTD | BO8: YTD | BP8: YTD | BQ8: YTD | BR8: YTD | BS8: YTD | BT8: YTD | BU8: YTD | BV8: YTD | BW8: YTD | BX8: YTD | BY8: YTD | BZ8: YTD | CA8: YTD | CB8: YTD | CC8: YTD | CD8: YTD | CE8: YTD | CF8: YTD | CG8: YTD | CH8: YTD | CJ8: Arrivals | CK8: Arrivals | CL8: Arrivals | CM8: Arrivals | CN8: Arrivals | CO8: Rolling 12 month | CP8: Rolling 12 month | CQ8: Rolling 12 month | CR8: Rolling 12 month | CS8: Rolling 12 month | CT8: YTD | CU8: YTD | CV8: YTD | CW8: YTD | CX8: YTD
D9: Intl | E9: Int | F9: Intl | G9: Intl | H9: Intl | I9: Intl | J9: Intl | K9: Intl | L9: Intl | M9: Dom | N9: Dom | O9: Dom | P9: Dom | Q9: Dom | R9: Dom | S9: Dom | T9: Dom | U9: Dom | V9: Intl | W9: Intl | X9: Intl | Y9: Intl | Z9: Intl | AA9: Intl | AB9: Intl | AC9: Intl | AD9: Intl | AE9: Intl | AF9: Intl | AG9: Intl | AH9: Intl | AI9: Intl | AJ9: Intl | AK9: Intl | AL9: Intl | AM9: Intl | AN9: Intl | AO9: Intl | AP9: Intl | AQ9: Intl | AR9: Intl | AS9: Intl | AT9: Intl | AU9: Intl | AV9: Intl | AW9: Intl | AX9: Intl | AY9: Intl | AZ9: Intl | BA9: Intl | BB9: Intl | BC9: Intl | BD9: Intl | BE9: Intl | BF9: Intl | BG9: Intl | BH9: Intl | BI9: Intl | BJ9: Intl | BK9: Intl | BL9: Intl | BN9: Intl | BO9: Intl | BP9: Intl | BQ9: Intl | BR9: Intl | BS9: Intl | BT9: Intl | BU9: Intl | BV9: Intl | BW9: Intl | BX9: Intl | BY9: Intl | BZ9: Intl | CA9: Intl | CB9: Intl | CC9: Intl | CD9: Intl | CE9: Intl | CF9: Intl | CG9: Intl | CH9: Intl | CJ9: Intl | CK9: Intl | CL9: Intl | CM9: Intl | CN9: Intl | CO9: Intl | CP9: Intl | CQ9: Intl | CR9: Intl | CS9: Intl | CT9: Intl | CU9: Intl | CV9: Intl | CW9: Intl | CX9: Intl
B10: =IF(MONTH(C10)>=4,(MONTH(C10))-3,(MONTH(C10))+9) -> 10 | C10: 38718 | D10: 51263 | E10: 236 | F10: 64300 | J10: =SUM(OFFSET($B10,-($B10-1),MATCH(J$6,$7:$7,)-1,1,1):OFFSET($B10,0,MATCH(J$6,$7:$7,)-1,1,1)) -> 236 | K10: =SUM(OFFSET($B10,-($B10-1),MATCH(K$6,$7:$7,)-1,1,1):OFFSET($B10,0,MATCH(K$6,$7:$7,)-1,1,1)) -> 64300 | L10: =SUM(OFFSET($B10,-($B10-1),MATCH(L$6,$7:$7,)-1,1,1):OFFSET($B10,0,MATCH(L$6,$7:$7,)-1,1,1)) -> 0 | M10: 283041 | N10: 3724 | O10: 396918 | S10: =SUM(OFFSET($B10,-($B10-1),MATCH(S$6,$7:$7,)-1,1,1):OFFSET($B10,0,MATCH(S$6,$7:$7,)-1,1,1)) -> 3724 | T10: =SUM(OFFSET($B10,-($B10-1),MATCH(T$6,$7:$7,)-1,1,1):OFFSET($B10,0,MATCH(T$6,$7:$7,)-1,1,1)) -> 396918 | U10: =SUM(OFFSET($B10,-($B10-1),MATCH(U$6,$7:$7,)-1,1,1):OFFSET($B10,0,MATCH(U$6,$7:$7,)-1,1,1)) -> 0 | AR10: =SUM(V2:V10) -> 0 | AS10: =SUM(W2:W10) -> 0 | AT10: =SUM(X2:X10) -> 0 | AU10: =SUM(Y2:Y10) -> 0 | AV10: =SUM(Z2:Z10) -> 0 | AW10: =SUM(AA2:AA10) -> 0 | AX10: =SUM(AB2:AB10) -> 0 | BN10: =SUM(OFFSET($B10,-($B10-1),MATCH(BN$6,$7:$7,)-1,1,1):OFFSET($B10,0,MATCH(BN$6,$7:$7,)-1,1,1)) -> 0 | BO10: =SUM(OFFSET($B10,-($B10-1),MATCH(BO$6,$7:$7,)-1,1,1):OFFSET($B10,0,MATCH(BO$6,$7:$7,)-1,1,1)) -> 0 | BP10: =SUM(OFFSET($B10,-($B10-1),MATCH(BP$6,$7:$7,)-1,1,1):OFFSET($B10,0,MATCH(BP$6,$7:$7,)-1,1,1)) -> 0 | BQ10: =SUM(OFFSET($B10,-($B10-1),MATCH(BQ$6,$7:$7,)-1,1,1):OFFSET($B10,0,MATCH(BQ$6,$7:$7,)-1,1,1)) -> 0 | BR10: =SUM(OFFSET($B10,-($B10-1),MATCH(BR$6,$7:$7,)-1,1,1):OFFSET($B10,0,MATCH(BR$6,$7:$7,)-1,1,1)) -> 0 | BS10: =SUM(OFFSET($B10,-($B10-1),MATCH(BS$6,$7:$7,)-1,1,1):OFFSET($B10,0,MATCH(BS$6,$7:$7,)-1,1,1)) -> 0 | BT10: =SUM(OFFSET($B10,-($B10-1),MATCH(BT$6,$7:$7,)-1,1,1):OFFSET($B10,0,MATCH(BT$6,$7:$7,)-1,1,1)) -> 0 | BU10: =SUM(OFFSET($B10,-($B10-1),MATCH(BU$6,$7:$7,)-1,1,1):OFFSET($B10,0,MATCH(BU$6,$7:$7,)-1,1,1)) -> 0 | ... CH10: =SUM(OFFSET($B10,-($B10-1),MATCH(CH$6,$7:$7,)-1,1,1):OFFSET($B10,0,MATCH(CH$6,$7:$7,)-1,1,1)) -> 0 | CO10: =SUM(CJ8:CJ10) -> 0 | CP10: =SUM(CK8:CK10) -> 0 | CQ10: =SUM(CL8:CL10) -> 0 | CR10: =SUM(CM8:CM10) -> 0 | CS10: =SUM(CN8:CN10) -> 0 | CT10: =SUM(OFFSET($B10,-($B10-1),MATCH(CT$6,$7:$7,)-1,1,1):OFFSET($B10,0,MATCH(CT$6,$7:$7,)-1,1,1)) -> 0 | CU10: =SUM(OFFSET($B10,-($B10-1),MATCH(CU$6,$7:$7,)-1,1,1):OFFSET($B10,0,MATCH(CU$6,$7:$7,)-1,1,1)) -> 0 | CV10: =SUM(OFFSET($B10,-($B10-1),MATCH(CV$6,$7:$7,)-1,1,1):OFFSET($B10,0,MATCH(CV$6,$7:$7,)-1,1,1)) -> 0 | CW10: =SUM(OFFSET($B10,-($B10-1),MATCH(CW$6,$7:$7,)-1,1,1):OFFSET($B10,0,MATCH(CW$6,$7:$7,)-1,1,1)) -> 0 | CX10: =SUM(OFFSET($B10,-($B10-1),MATCH(CX$6,$7:$7,)-1,1,1):OFFSET($B10,0,MATCH(CX$6,$7:$7,)-1,1,1)) -> 0
B11: =IF(MONTH(C11)>=4,(MONTH(C11))-3,(MONTH(C11))+9) -> 11 | C11: 38749 | D11: 42893 | E11: 219 | F11: 59608 | J11: =SUM(OFFSET($B11,-($B11-1),MATCH(J$6,$7:$7,)-1,1,1):OFFSET($B11,0,MATCH(J$6,$7:$7,)-1,1,1)) -> 455 | K11: =SUM(OFFSET($B11,-($B11-1),MATCH(K$6,$7:$7,)-1,1,1):OFFSET($B11,0,MATCH(K$6,$7:$7,)-1,1,1)) -> 123908 | L11: =SUM(OFFSET($B11,-($B11-1),MATCH(L$6,$7:$7,)-1,1,1):OFFSET($B11,0,MATCH(L$6,$7:$7,)-1,1,1)) -> 0 | M11: 323580 | N11: 3790 | O11: 434319 | S11: =SUM(OFFSET($B11,-($B11-1),MATCH(S$6,$7:$7,)-1,1,1):OFFSET($B11,0,MATCH(S$6,$7:$7,)-1,1,1)) -> 7514 | T11: =SUM(OFFSET($B11,-($B11-1),MATCH(T$6,$7:$7,)-1,1,1):OFFSET($B11,0,MATCH(T$6,$7:$7,)-1,1,1)) -> 831237 | U11: =SUM(OFFSET($B11,-($B11-1),MATCH(U$6,$7:$7,)-1,1,1):OFFSET($B11,0,MATCH(U$6,$7:$7,)-1,1,1)) -> 0 | AR11: =SUM(V3:V11) -> 0 | AS11: =SUM(W3:W11) -> 0 | AT11: =SUM(X3:X11) -> 0 | AU11: =SUM(Y3:Y11) -> 0 | AV11: =SUM(Z3:Z11) -> 0 | AW11: =SUM(AA3:AA11) -> 0 | AX11: =SUM(AB3:AB11) -> 0 | BN11: =SUM(OFFSET($B11,-($B11-1),MATCH(BN$6,$7:$7,)-1,1,1):OFFSET($B11,0,MATCH(BN$6,$7:$7,)-1,1,1)) -> 0 | BO11: =SUM(OFFSET($B11,-($B11-1),MATCH(BO$6,$7:$7,)-1,1,1):OFFSET($B11,0,MATCH(BO$6,$7:$7,)-1,1,1)) -> 0 | BP11: =SUM(OFFSET($B11,-($B11-1),MATCH(BP$6,$7:$7,)-1,1,1):OFFSET($B11,0,MATCH(BP$6,$7:$7,)-1,1,1)) -> 0 | BQ11: =SUM(OFFSET($B11,-($B11-1),MATCH(BQ$6,$7:$7,)-1,1,1):OFFSET($B11,0,MATCH(BQ$6,$7:$7,)-1,1,1)) -> 0 | BR11: =SUM(OFFSET($B11,-($B11-1),MATCH(BR$6,$7:$7,)-1,1,1):OFFSET($B11,0,MATCH(BR$6,$7:$7,)-1,1,1)) -> 0 | BS11: =SUM(OFFSET($B11,-($B11-1),MATCH(BS$6,$7:$7,)-1,1,1):OFFSET($B11,0,MATCH(BS$6,$7:$7,)-1,1,1)) -> 0 | BT11: =SUM(OFFSET($B11,-($B11-1),MATCH(BT$6,$7:$7,)-1,1,1):OFFSET($B11,0,MATCH(BT$6,$7:$7,)-1,1,1)) -> 0 | BU11: =SUM(OFFSET($B11,-($B11-1),MATCH(BU$6,$7:$7,)-1,1,1):OFFSET($B11,0,MATCH(BU$6,$7:$7,)-1,1,1)) -> 0 | ... CH11: =SUM(OFFSET($B11,-($B11-1),MATCH(CH$6,$7:$7,)-1,1,1):OFFSET($B11,0,MATCH(CH$6,$7:$7,)-1,1,1)) -> 0 | CJ11: 3300 | CK11: 3432 | CL11: 5236 | CM11: 286 | CN11: 550 | CO11: =SUM(CJ9:CJ11) -> 3300 | CP11: =SUM(CK9:CK11) -> 3432 | CQ11: =SUM(CL9:CL11) -> 5236 | CR11: =SUM(CM9:CM11) -> 286 | CS11: =SUM(CN9:CN11) -> 550 | CT11: =SUM(OFFSET($B11,-($B11-1),MATCH(CT$6,$7:$7,)-1,1,1):OFFSET($B11,0,MATCH(CT$6,$7:$7,)-1,1,1)) -> 3432 | CU11: =SUM(OFFSET($B11,-($B11-1),MATCH(CU$6,$7:$7,)-1,1,1):OFFSET($B11,0,MATCH(CU$6,$7:$7,)-1,1,1)) -> 5236 | CV11: =SUM(OFFSET($B11,-($B11-1),MATCH(CV$6,$7:$7,)-1,1,1):OFFSET($B11,0,MATCH(CV$6,$7:$7,)-1,1,1)) -> 286 | CW11: =SUM(OFFSET($B11,-($B11-1),MATCH(CW$6,$7:$7,)-1,1,1):OFFSET($B11,0,MATCH(CW$6,$7:$7,)-1,1,1)) -> 550 | CX11: =SUM(OFFSET($B11,-($B11-1),MATCH(CX$6,$7:$7,)-1,1,1):OFFSET($B11,0,MATCH(CX$6,$7:$7,)-1,1,1)) -> 3300
B12: =IF(MONTH(C12)>=4,(MONTH(C12))-3,(MONTH(C12))+9) -> 12 | C12: 38777 | D12: 45064 | E12: 239 | F12: 64874 | J12: =SUM(OFFSET($B12,-($B12-1),MATCH(J$6,$7:$7,)-1,1,1):OFFSET($B12,0,MATCH(J$6,$7:$7,)-1,1,1)) -> 694 | K12: =SUM(OFFSET($B12,-($B12-1),MATCH(K$6,$7:$7,)-1,1,1):OFFSET($B12,0,MATCH(K$6,$7:$7,)-1,1,1)) -> 188782 | L12: =SUM(OFFSET($B12,-($B12-1),MATCH(L$6,$7:$7,)-1,1,1):OFFSET($B12,0,MATCH(L$6,$7:$7,)-1,1,1)) -> 0 | M12: 361212 | N12: 4121 | O12: 479645 | S12: =SUM(OFFSET($B12,-($B12-1),MATCH(S$6,$7:$7,)-1,1,1):OFFSET($B12,0,MATCH(S$6,$7:$7,)-1,1,1)) -> 11635 | T12: =SUM(OFFSET($B12,-($B12-1),MATCH(T$6,$7:$7,)-1,1,1):OFFSET($B12,0,MATCH(T$6,$7:$7,)-1,1,1)) -> 1310882 | U12: =SUM(OFFSET($B12,-($B12-1),MATCH(U$6,$7:$7,)-1,1,1):OFFSET($B12,0,MATCH(U$6,$7:$7,)-1,1,1)) -> 0 | AR12: =SUM(V4:V12) -> 0 | AS12: =SUM(W4:W12) -> 0 | AT12: =SUM(X4:X12) -> 0 | AU12: =SUM(Y4:Y12) -> 0 | AV12: =SUM(Z4:Z12) -> 0 | AW12: =SUM(AA4:AA12) -> 0 | AX12: =SUM(AB4:AB12) -> 0 | BN12: =SUM(OFFSET($B12,-($B12-1),MATCH(BN$6,$7:$7,)-1,1,1):OFFSET($B12,0,MATCH(BN$6,$7:$7,)-1,1,1)) -> 0 | BO12: =SUM(OFFSET($B12,-($B12-1),MATCH(BO$6,$7:$7,)-1,1,1):OFFSET($B12,0,MATCH(BO$6,$7:$7,)-1,1,1)) -> 0 | BP12: =SUM(OFFSET($B12,-($B12-1),MATCH(BP$6,$7:$7,)-1,1,1):OFFSET($B12,0,MATCH(BP$6,$7:$7,)-1,1,1)) -> 0 | BQ12: =SUM(OFFSET($B12,-($B12-1),MATCH(BQ$6,$7:$7,)-1,1,1):OFFSET($B12,0,MATCH(BQ$6,$7:$7,)-1,1,1)) -> 0 | BR12: =SUM(OFFSET($B12,-($B12-1),MATCH(BR$6,$7:$7,)-1,1,1):OFFSET($B12,0,MATCH(BR$6,$7:$7,)-1,1,1)) -> 0 | BS12: =SUM(OFFSET($B12,-($B12-1),MATCH(BS$6,$7:$7,)-1,1,1):OFFSET($B12,0,MATCH(BS$6,$7:$7,)-1,1,1)) -> 0 | BT12: =SUM(OFFSET($B12,-($B12-1),MATCH(BT$6,$7:$7,)-1,1,1):OFFSET($B12,0,MATCH(BT$6,$7:$7,)-1,1,1)) -> 0 | BU12: =SUM(OFFSET($B12,-($B12-1),MATCH(BU$6,$7:$7,)-1,1,1):OFFSET($B12,0,MATCH(BU$6,$7:$7,)-1,1,1)) -> 0 | ... CH12: =SUM(OFFSET($B12,-($B12-1),MATCH(CH$6,$7:$7,)-1,1,1):OFFSET($B12,0,MATCH(CH$6,$7:$7,)-1,1,1)) -> 0 | CJ12: 3013 | CK12: 3059 | CL12: 4531 | CM12: 69 | CN12: 437 | CO12: =SUM(CJ10:CJ12) -> 6313 | CP12: =SUM(CK10:CK12) -> 6491 | CQ12: =SUM(CL10:CL12) -> 9767 | CR12: =SUM(CM10:CM12) -> 355 | CS12: =SUM(CN10:CN12) -> 987 | CT12: =SUM(OFFSET($B12,-($B12-1),MATCH(CT$6,$7:$7,)-1,1,1):OFFSET($B12,0,MATCH(CT$6,$7:$7,)-1,1,1)) -> 6491 | CU12: =SUM(OFFSET($B12,-($B12-1),MATCH(CU$6,$7:$7,)-1,1,1):OFFSET($B12,0,MATCH(CU$6,$7:$7,)-1,1,1)) -> 9767 | CV12: =SUM(OFFSET($B12,-($B12-1),MATCH(CV$6,$7:$7,)-1,1,1):OFFSET($B12,0,MATCH(CV$6,$7:$7,)-1,1,1)) -> 355 | CW12: =SUM(OFFSET($B12,-($B12-1),MATCH(CW$6,$7:$7,)-1,1,1):OFFSET($B12,0,MATCH(CW$6,$7:$7,)-1,1,1)) -> 987 | CX12: =SUM(OFFSET($B12,-($B12-1),MATCH(CX$6,$7:$7,)-1,1,1):OFFSET($B12,0,MATCH(CX$6,$7:$7,)-1,1,1)) -> 9613
B13: =IF(MONTH(C13)>=4,(MONTH(C13))-3,(MONTH(C13))+9) -> 1 | C13: 38808 | D13: 49339 | E13: 246 | F13: 65506 | J13: =SUM(OFFSET($B13,-($B13-1),MATCH(J$6,$7:$7,)-1,1,1):OFFSET($B13,0,MATCH(J$6,$7:$7,)-1,1,1)) -> 246 | K13: =SUM(OFFSET($B13,-($B13-1),MATCH(K$6,$7:$7,)-1,1,1):OFFSET($B13,0,MATCH(K$6,$7:$7,)-1,1,1)) -> 65506 | L13: =SUM(OFFSET($B13,-($B13-1),MATCH(L$6,$7:$7,)-1,1,1):OFFSET($B13,0,MATCH(L$6,$7:$7,)-1,1,1)) -> 0 | M13: 344424 | N13: 4101 | O13: 456487 | S13: =SUM(OFFSET($B13,-($B13-1),MATCH(S$6,$7:$7,)-1,1,1):OFFSET($B13,0,MATCH(S$6,$7:$7,)-1,1,1)) -> 4101 | T13: =SUM(OFFSET($B13,-($B13-1),MATCH(T$6,$7:$7,)-1,1,1):OFFSET($B13,0,MATCH(T$6,$7:$7,)-1,1,1)) -> 456487 | U13: =SUM(OFFSET($B13,-($B13-1),MATCH(U$6,$7:$7,)-1,1,1):OFFSET($B13,0,MATCH(U$6,$7:$7,)-1,1,1)) -> 0 | AR13: =SUM(V5:V13) -> 0 | AS13: =SUM(W5:W13) -> 0 | AT13: =SUM(X5:X13) -> 0 | AU13: =SUM(Y5:Y13) -> 0 | AV13: =SUM(Z5:Z13) -> 0 | AW13: =SUM(AA5:AA13) -> 0 | AX13: =SUM(AB5:AB13) -> 0 | BN13: =SUM(OFFSET($B13,-($B13-1),MATCH(BN$6,$7:$7,)-1,1,1):OFFSET($B13,0,MATCH(BN$6,$7:$7,)-1,1,1)) -> 0 | BO13: =SUM(OFFSET($B13,-($B13-1),MATCH(BO$6,$7:$7,)-1,1,1):OFFSET($B13,0,MATCH(BO$6,$7:$7,)-1,1,1)) -> 0 | BP13: =SUM(OFFSET($B13,-($B13-1),MATCH(BP$6,$7:$7,)-1,1,1):OFFSET($B13,0,MATCH(BP$6,$7:$7,)-1,1,1)) -> 0 | BQ13: =SUM(OFFSET($B13,-($B13-1),MATCH(BQ$6,$7:$7,)-1,1,1):OFFSET($B13,0,MATCH(BQ$6,$7:$7,)-1,1,1)) -> 0 | BR13: =SUM(OFFSET($B13,-($B13-1),MATCH(BR$6,$7:$7,)-1,1,1):OFFSET($B13,0,MATCH(BR$6,$7:$7,)-1,1,1)) -> 0 | BS13: =SUM(OFFSET($B13,-($B13-1),MATCH(BS$6,$7:$7,)-1,1,1):OFFSET($B13,0,MATCH(BS$6,$7:$7,)-1,1,1)) -> 0 | BT13: =SUM(OFFSET($B13,-($B13-1),MATCH(BT$6,$7:$7,)-1,1,1):OFFSET($B13,0,MATCH(BT$6,$7:$7,)-1,1,1)) -> 0 | BU13: =SUM(OFFSET($B13,-($B13-1),MATCH(BU$6,$7:$7,)-1,1,1):OFFSET($B13,0,MATCH(BU$6,$7:$7,)-1,1,1)) -> 0 | ... CH13: =SUM(OFFSET($B13,-($B13-1),MATCH(CH$6,$7:$7,)-1,1,1):OFFSET($B13,0,MATCH(CH$6,$7:$7,)-1,1,1)) -> 0 | CJ13: 2662 | CK13: 2200 | CL13: 4994 | CM13: 220 | CN13: 396 | CO13: =SUM(CJ1:CJ13) -> 8975 | CP13: =SUM(CK1:CK13) -> 8691 | CQ13: =SUM(CL1:CL13) -> 14761 | CR13: =SUM(CM1:CM13) -> 575 | CS13: =SUM(CN1:CN13) -> 1383 | CT13: =SUM(OFFSET($B13,-($B13-1),MATCH(CT$6,$7:$7,)-1,1,1):OFFSET($B13,0,MATCH(CT$6,$7:$7,)-1,1,1)) -> 2200 | CU13: =SUM(OFFSET($B13,-($B13-1),MATCH(CU$6,$7:$7,)-1,1,1):OFFSET($B13,0,MATCH(CU$6,$7:$7,)-1,1,1)) -> 4994 | CV13: =SUM(OFFSET($B13,-($B13-1),MATCH(CV$6,$7:$7,)-1,1,1):OFFSET($B13,0,MATCH(CV$6,$7:$7,)-1,1,1)) -> 220 | CW13: =SUM(OFFSET($B13,-($B13-1),MATCH(CW$6,$7:$7,)-1,1,1):OFFSET($B13,0,MATCH(CW$6,$7:$7,)-1,1,1)) -> 396 | CX13: =SUM(OFFSET($B13,-($B13-1),MATCH(CX$6,$7:$7,)-1,1,1):OFFSET($B13,0,MATCH(CX$6,$7:$7,)-1,1,1)) -> 8975
B14: =IF(MONTH(C14)>=4,(MONTH(C14))-3,(MONTH(C14))+9) -> 2 | C14: 38838 | D14: 41552 | E14: 244 | F14: 65580 | J14: =SUM(OFFSET($B14,-($B14-1),MATCH(J$6,$7:$7,)-1,1,1):OFFSET($B14,0,MATCH(J$6,$7:$7,)-1,1,1)) -> 490 | K14: =SUM(OFFSET($B14,-($B14-1),MATCH(K$6,$7:$7,)-1,1,1):OFFSET($B14,0,MATCH(K$6,$7:$7,)-1,1,1)) -> 131086 | L14: =SUM(OFFSET($B14,-($B14-1),MATCH(L$6,$7:$7,)-1,1,1):OFFSET($B14,0,MATCH(L$6,$7:$7,)-1,1,1)) -> 0 | M14: 331593 | N14: 4165 | O14: 479734 | S14: =SUM(OFFSET($B14,-($B14-1),MATCH(S$6,$7:$7,)-1,1,1):OFFSET($B14,0,MATCH(S$6,$7:$7,)-1,1,1)) -> 8266 | T14: =SUM(OFFSET($B14,-($B14-1),MATCH(T$6,$7:$7,)-1,1,1):OFFSET($B14,0,MATCH(T$6,$7:$7,)-1,1,1)) -> 936221 | U14: =SUM(OFFSET($B14,-($B14-1),MATCH(U$6,$7:$7,)-1,1,1):OFFSET($B14,0,MATCH(U$6,$7:$7,)-1,1,1)) -> 0 | AR14: =SUM(V7:V14) -> 0 | AS14: =SUM(W7:W14) -> 0 | AT14: =SUM(X7:X14) -> 0 | AU14: =SUM(Y7:Y14) -> 0 | AV14: =SUM(Z7:Z14) -> 0 | AW14: =SUM(AA7:AA14) -> 0 | AX14: =SUM(AB7:AB14) -> 0 | BN14: =SUM(OFFSET($B14,-($B14-1),MATCH(BN$6,$7:$7,)-1,1,1):OFFSET($B14,0,MATCH(BN$6,$7:$7,)-1,1,1)) -> 0 | BO14: =SUM(OFFSET($B14,-($B14-1),MATCH(BO$6,$7:$7,)-1,1,1):OFFSET($B14,0,MATCH(BO$6,$7:$7,)-1,1,1)) -> 0 | BP14: =SUM(OFFSET($B14,-($B14-1),MATCH(BP$6,$7:$7,)-1,1,1):OFFSET($B14,0,MATCH(BP$6,$7:$7,)-1,1,1)) -> 0 | BQ14: =SUM(OFFSET($B14,-($B14-1),MATCH(BQ$6,$7:$7,)-1,1,1):OFFSET($B14,0,MATCH(BQ$6,$7:$7,)-1,1,1)) -> 0 | BR14: =SUM(OFFSET($B14,-($B14-1),MATCH(BR$6,$7:$7,)-1,1,1):OFFSET($B14,0,MATCH(BR$6,$7:$7,)-1,1,1)) -> 0 | BS14: =SUM(OFFSET($B14,-($B14-1),MATCH(BS$6,$7:$7,)-1,1,1):OFFSET($B14,0,MATCH(BS$6,$7:$7,)-1,1,1)) -> 0 | BT14: =SUM(OFFSET($B14,-($B14-1),MATCH(BT$6,$7:$7,)-1,1,1):OFFSET($B14,0,MATCH(BT$6,$7:$7,)-1,1,1)) -> 0 | BU14: =SUM(OFFSET($B14,-($B14-1),MATCH(BU$6,$7:$7,)-1,1,1):OFFSET($B14,0,MATCH(BU$6,$7:$7,)-1,1,1)) -> 0 | ... CH14: =SUM(OFFSET($B14,-($B14-1),MATCH(CH$6,$7:$7,)-1,1,1):OFFSET($B14,0,MATCH(CH$6,$7:$7,)-1,1,1)) -> 0 | CJ14: 3757 | CK14: 1802 | CL14: 3077 | CM14: 136 | CN14: 459 | CO14: =SUM(CJ2:CJ14) -> 12732 | CP14: =SUM(CK2:CK14) -> 10493 | CQ14: =SUM(CL2:CL14) -> 17838 | CR14: =SUM(CM2:CM14) -> 711 | CS14: =SUM(CN2:CN14) -> 1842 | CT14: =SUM(OFFSET($B14,-($B14-1),MATCH(CT$6,$7:$7,)-1,1,1):OFFSET($B14,0,MATCH(CT$6,$7:$7,)-1,1,1)) -> 4002 | CU14: =SUM(OFFSET($B14,-($B14-1),MATCH(CU$6,$7:$7,)-1,1,1):OFFSET($B14,0,MATCH(CU$6,$7:$7,)-1,1,1)) -> 8071 | CV14: =SUM(OFFSET($B14,-($B14-1),MATCH(CV$6,$7:$7,)-1,1,1):OFFSET($B14,0,MATCH(CV$6,$7:$7,)-1,1,1)) -> 356 | CW14: =SUM(OFFSET($B14,-($B14-1),MATCH(CW$6,$7:$7,)-1,1,1):OFFSET($B14,0,MATCH(CW$6,$7:$7,)-1,1,1)) -> 855 | CX14: =SUM(OFFSET($B14,-($B14-1),MATCH(CX$6,$7:$7,)-1,1,1):OFFSET($B14,0,MATCH(CX$6,$7:$7,)-1,1,1)) -> 21707
B15: =IF(MONTH(C15)>=4,(MONTH(C15))-3,(MONTH(C15))+9) -> 3 | C15: 38869 | D15: 41055 | E15: 229 | F15: 63264 | J15: =SUM(OFFSET($B15,-($B15-1),MATCH(J$6,$7:$7,)-1,1,1):OFFSET($B15,0,MATCH(J$6,$7:$7,)-1,1,1)) -> 719 | K15: =SUM(OFFSET($B15,-($B15-1),MATCH(K$6,$7:$7,)-1,1,1):OFFSET($B15,0,MATCH(K$6,$7:$7,)-1,1,1)) -> 194350 | L15: =SUM(OFFSET($B15,-($B15-1),MATCH(L$6,$7:$7,)-1,1,1):OFFSET($B15,0,MATCH(L$6,$7:$7,)-1,1,1)) -> 0 | M15: 319970 | N15: 3933 | O15: 453779 | S15: =SUM(OFFSET($B15,-($B15-1),MATCH(S$6,$7:$7,)-1,1,1):OFFSET($B15,0,MATCH(S$6,$7:$7,)-1,1,1)) -> 12199 | T15: =SUM(OFFSET($B15,-($B15-1),MATCH(T$6,$7:$7,)-1,1,1):OFFSET($B15,0,MATCH(T$6,$7:$7,)-1,1,1)) -> 1390000 | U15: =SUM(OFFSET($B15,-($B15-1),MATCH(U$6,$7:$7,)-1,1,1):OFFSET($B15,0,MATCH(U$6,$7:$7,)-1,1,1)) -> 0 | AR15: =SUM(V7:V15) -> 0 | AS15: =SUM(W7:W15) -> 0 | AT15: =SUM(X7:X15) -> 0 | AU15: =SUM(Y7:Y15) -> 0 | AV15: =SUM(Z7:Z15) -> 0 | AW15: =SUM(AA7:AA15) -> 0 | AX15: =SUM(AB7:AB15) -> 0 | BN15: =SUM(OFFSET($B15,-($B15-1),MATCH(BN$6,$7:$7,)-1,1,1):OFFSET($B15,0,MATCH(BN$6,$7:$7,)-1,1,1)) -> 0 | BO15: =SUM(OFFSET($B15,-($B15-1),MATCH(BO$6,$7:$7,)-1,1,1):OFFSET($B15,0,MATCH(BO$6,$7:$7,)-1,1,1)) -> 0 | BP15: =SUM(OFFSET($B15,-($B15-1),MATCH(BP$6,$7:$7,)-1,1,1):OFFSET($B15,0,MATCH(BP$6,$7:$7,)-1,1,1)) -> 0 | BQ15: =SUM(OFFSET($B15,-($B15-1),MATCH(BQ$6,$7:$7,)-1,1,1):OFFSET($B15,0,MATCH(BQ$6,$7:$7,)-1,1,1)) -> 0 | BR15: =SUM(OFFSET($B15,-($B15-1),MATCH(BR$6,$7:$7,)-1,1,1):OFFSET($B15,0,MATCH(BR$6,$7:$7,)-1,1,1)) -> 0 | BS15: =SUM(OFFSET($B15,-($B15-1),MATCH(BS$6,$7:$7,)-1,1,1):OFFSET($B15,0,MATCH(BS$6,$7:$7,)-1,1,1)) -> 0 | BT15: =SUM(OFFSET($B15,-($B15-1),MATCH(BT$6,$7:$7,)-1,1,1):OFFSET($B15,0,MATCH(BT$6,$7:$7,)-1,1,1)) -> 0 | BU15: =SUM(OFFSET($B15,-($B15-1),MATCH(BU$6,$7:$7,)-1,1,1):OFFSET($B15,0,MATCH(BU$6,$7:$7,)-1,1,1)) -> 0 | ... CH15: =SUM(OFFSET($B15,-($B15-1),MATCH(CH$6,$7:$7,)-1,1,1):OFFSET($B15,0,MATCH(CH$6,$7:$7,)-1,1,1)) -> 0 | CJ15: 2772 | CK15: 1332 | CL15: 3312 | CM15: 252 | CN15: 396 | CO15: =SUM(CJ3:CJ15) -> 15504 | CP15: =SUM(CK3:CK15) -> 11825 | CQ15: =SUM(CL3:CL15) -> 21150 | CR15: =SUM(CM3:CM15) -> 963 | CS15: =SUM(CN3:CN15) -> 2238 | CT15: =SUM(OFFSET($B15,-($B15-1),MATCH(CT$6,$7:$7,)-1,1,1):OFFSET($B15,0,MATCH(CT$6,$7:$7,)-1,1,1)) -> 5334 | CU15: =SUM(OFFSET($B15,-($B15-1),MATCH(CU$6,$7:$7,)-1,1,1):OFFSET($B15,0,MATCH(CU$6,$7:$7,)-1,1,1)) -> 11383 | CV15: =SUM(OFFSET($B15,-($B15-1),MATCH(CV$6,$7:$7,)-1,1,1):OFFSET($B15,0,MATCH(CV$6,$7:$7,)-1,1,1)) -> 608 | CW15: =SUM(OFFSET($B15,-($B15-1),MATCH(CW$6,$7:$7,)-1,1,1):OFFSET($B15,0,MATCH(CW$6,$7:$7,)-1,1,1)) -> 1251 | CX15: =SUM(OFFSET($B15,-($B15-1),MATCH(CX$6,$7:$7,)-1,1,1):OFFSET($B15,0,MATCH(CX$6,$7:$7,)-1,1,1)) -> 37211
B16: =IF(MONTH(C16)>=4,(MONTH(C16))-3,(MONTH(C16))+9) -> 4 | C16: 38899 | D16: 47125 | E16: 247 | F16: 66714 | J16: =SUM(OFFSET($B16,-($B16-1),MATCH(J$6,$7:$7,)-1,1,1):OFFSET($B16,0,MATCH(J$6,$7:$7,)-1,1,1)) -> 966 | K16: =SUM(OFFSET($B16,-($B16-1),MATCH(K$6,$7:$7,)-1,1,1):OFFSET($B16,0,MATCH(K$6,$7:$7,)-1,1,1)) -> 261064 | L16: =SUM(OFFSET($B16,-($B16-1),MATCH(L$6,$7:$7,)-1,1,1):OFFSET($B16,0,MATCH(L$6,$7:$7,)-1,1,1)) -> 0 | M16: 336870 | N16: 4140 | O16: 470716 | S16: =SUM(OFFSET($B16,-($B16-1),MATCH(S$6,$7:$7,)-1,1,1):OFFSET($B16,0,MATCH(S$6,$7:$7,)-1,1,1)) -> 16339 | T16: =SUM(OFFSET($B16,-($B16-1),MATCH(T$6,$7:$7,)-1,1,1):OFFSET($B16,0,MATCH(T$6,$7:$7,)-1,1,1)) -> 1860716 | U16: =SUM(OFFSET($B16,-($B16-1),MATCH(U$6,$7:$7,)-1,1,1):OFFSET($B16,0,MATCH(U$6,$7:$7,)-1,1,1)) -> 0 | AR16: =SUM(V7:V16) -> 0 | AS16: =SUM(W7:W16) -> 0 | AT16: =SUM(X7:X16) -> 0 | AU16: =SUM(Y7:Y16) -> 0 | AV16: =SUM(Z7:Z16) -> 0 | AW16: =SUM(AA7:AA16) -> 0 | AX16: =SUM(AB7:AB16) -> 0 | BN16: =SUM(OFFSET($B16,-($B16-1),MATCH(BN$6,$7:$7,)-1,1,1):OFFSET($B16,0,MATCH(BN$6,$7:$7,)-1,1,1)) -> 0 | BO16: =SUM(OFFSET($B16,-($B16-1),MATCH(BO$6,$7:$7,)-1,1,1):OFFSET($B16,0,MATCH(BO$6,$7:$7,)-1,1,1)) -> 0 | BP16: =SUM(OFFSET($B16,-($B16-1),MATCH(BP$6,$7:$7,)-1,1,1):OFFSET($B16,0,MATCH(BP$6,$7:$7,)-1,1,1)) -> 0 | BQ16: =SUM(OFFSET($B16,-($B16-1),MATCH(BQ$6,$7:$7,)-1,1,1):OFFSET($B16,0,MATCH(BQ$6,$7:$7,)-1,1,1)) -> 0 | BR16: =SUM(OFFSET($B16,-($B16-1),MATCH(BR$6,$7:$7,)-1,1,1):OFFSET($B16,0,MATCH(BR$6,$7:$7,)-1,1,1)) -> 0 | BS16: =SUM(OFFSET($B16,-($B16-1),MATCH(BS$6,$7:$7,)-1,1,1):OFFSET($B16,0,MATCH(BS$6,$7:$7,)-1,1,1)) -> 0 | BT16: =SUM(OFFSET($B16,-($B16-1),MATCH(BT$6,$7:$7,)-1,1,1):OFFSET($B16,0,MATCH(BT$6,$7:$7,)-1,1,1)) -> 0 | BU16: =SUM(OFFSET($B16,-($B16-1),MATCH(BU$6,$7:$7,)-1,1,1):OFFSET($B16,0,MATCH(BU$6,$7:$7,)-1,1,1)) -> 0 | ... CH16: =SUM(OFFSET($B16,-($B16-1),MATCH(CH$6,$7:$7,)-1,1,1):OFFSET($B16,0,MATCH(CH$6,$7:$7,)-1,1,1)) -> 0 | CJ16: 2904 | CK16: 1008 | CL16: 3384 | CM16: 312 | CN16: 408 | CO16: =SUM(CJ4:CJ16) -> 18408 | CP16: =SUM(CK4:CK16) -> 12833 | CQ16: =SUM(CL4:CL16) -> 24534 | CR16: =SUM(CM4:CM16) -> 1275 | CS16: =SUM(CN4:CN16) -> 2646 | CT16: =SUM(OFFSET($B16,-($B16-1),MATCH(CT$6,$7:$7,)-1,1,1):OFFSET($B16,0,MATCH(CT$6,$7:$7,)-1,1,1)) -> 6342 | CU16: =SUM(OFFSET($B16,-($B16-1),MATCH(CU$6,$7:$7,)-1,1,1):OFFSET($B16,0,MATCH(CU$6,$7:$7,)-1,1,1)) -> 14767 | CV16: =SUM(OFFSET($B16,-($B16-1),MATCH(CV$6,$7:$7,)-1,1,1):OFFSET($B16,0,MATCH(CV$6,$7:$7,)-1,1,1)) -> 920 | CW16: =SUM(OFFSET($B16,-($B16-1),MATCH(CW$6,$7:$7,)-1,1,1):OFFSET($B16,0,MATCH(CW$6,$7:$7,)-1,1,1)) -> 1659 | CX16: =SUM(OFFSET($B16,-($B16-1),MATCH(CX$6,$7:$7,)-1,1,1):OFFSET($B16,0,MATCH(CX$6,$7:$7,)-1,1,1)) -> 55619
B17: =IF(MONTH(C17)>=4,(MONTH(C17))-3,(MONTH(C17))+9) -> 5 | C17: 38930 | D17: 43922 | E17: 252 | F17: 70020 | J17: =SUM(OFFSET($B17,-($B17-1),MATCH(J$6,$7:$7,)-1,1,1):OFFSET($B17,0,MATCH(J$6,$7:$7,)-1,1,1)) -> 1218 | K17: =SUM(OFFSET($B17,-($B17-1),MATCH(K$6,$7:$7,)-1,1,1):OFFSET($B17,0,MATCH(K$6,$7:$7,)-1,1,1)) -> 331084 | L17: =SUM(OFFSET($B17,-($B17-1),MATCH(L$6,$7:$7,)-1,1,1):OFFSET($B17,0,MATCH(L$6,$7:$7,)-1,1,1)) -> 0 | M17: 334477 | N17: 4017 | O17: 478346 | S17: =SUM(OFFSET($B17,-($B17-1),MATCH(S$6,$7:$7,)-1,1,1):OFFSET($B17,0,MATCH(S$6,$7:$7,)-1,1,1)) -> 20356 | T17: =SUM(OFFSET($B17,-($B17-1),MATCH(T$6,$7:$7,)-1,1,1):OFFSET($B17,0,MATCH(T$6,$7:$7,)-1,1,1)) -> 2339062 | U17: =SUM(OFFSET($B17,-($B17-1),MATCH(U$6,$7:$7,)-1,1,1):OFFSET($B17,0,MATCH(U$6,$7:$7,)-1,1,1)) -> 0 | AR17: =SUM(V7:V17) -> 0 | AS17: =SUM(W7:W17) -> 0 | AT17: =SUM(X7:X17) -> 0 | AU17: =SUM(Y7:Y17) -> 0 | AV17: =SUM(Z7:Z17) -> 0 | AW17: =SUM(AA7:AA17) -> 0 | AX17: =SUM(AB7:AB17) -> 0 | BN17: =SUM(OFFSET($B17,-($B17-1),MATCH(BN$6,$7:$7,)-1,1,1):OFFSET($B17,0,MATCH(BN$6,$7:$7,)-1,1,1)) -> 0 | BO17: =SUM(OFFSET($B17,-($B17-1),MATCH(BO$6,$7:$7,)-1,1,1):OFFSET($B17,0,MATCH(BO$6,$7:$7,)-1,1,1)) -> 0 | BP17: =SUM(OFFSET($B17,-($B17-1),MATCH(BP$6,$7:$7,)-1,1,1):OFFSET($B17,0,MATCH(BP$6,$7:$7,)-1,1,1)) -> 0 | BQ17: =SUM(OFFSET($B17,-($B17-1),MATCH(BQ$6,$7:$7,)-1,1,1):OFFSET($B17,0,MATCH(BQ$6,$7:$7,)-1,1,1)) -> 0 | BR17: =SUM(OFFSET($B17,-($B17-1),MATCH(BR$6,$7:$7,)-1,1,1):OFFSET($B17,0,MATCH(BR$6,$7:$7,)-1,1,1)) -> 0 | BS17: =SUM(OFFSET($B17,-($B17-1),MATCH(BS$6,$7:$7,)-1,1,1):OFFSET($B17,0,MATCH(BS$6,$7:$7,)-1,1,1)) -> 0 | BT17: =SUM(OFFSET($B17,-($B17-1),MATCH(BT$6,$7:$7,)-1,1,1):OFFSET($B17,0,MATCH(BT$6,$7:$7,)-1,1,1)) -> 0 | BU17: =SUM(OFFSET($B17,-($B17-1),MATCH(BU$6,$7:$7,)-1,1,1):OFFSET($B17,0,MATCH(BU$6,$7:$7,)-1,1,1)) -> 0 | ... CH17: =SUM(OFFSET($B17,-($B17-1),MATCH(CH$6,$7:$7,)-1,1,1):OFFSET($B17,0,MATCH(CH$6,$7:$7,)-1,1,1)) -> 0 | CJ17: 2667 | CK17: 1323 | CL17: 3402 | CM17: 252 | CN17: 441 | CO17: =SUM(CJ5:CJ17) -> 21075 | CP17: =SUM(CK5:CK17) -> 14156 | CQ17: =SUM(CL5:CL17) -> 27936 | CR17: =SUM(CM5:CM17) -> 1527 | CS17: =SUM(CN5:CN17) -> 3087 | CT17: =SUM(OFFSET($B17,-($B17-1),MATCH(CT$6,$7:$7,)-1,1,1):OFFSET($B17,0,MATCH(CT$6,$7:$7,)-1,1,1)) -> 7665 | CU17: =SUM(OFFSET($B17,-($B17-1),MATCH(CU$6,$7:$7,)-1,1,1):OFFSET($B17,0,MATCH(CU$6,$7:$7,)-1,1,1)) -> 18169 | CV17: =SUM(OFFSET($B17,-($B17-1),MATCH(CV$6,$7:$7,)-1,1,1):OFFSET($B17,0,MATCH(CV$6,$7:$7,)-1,1,1)) -> 1172 | CW17: =SUM(OFFSET($B17,-($B17-1),MATCH(CW$6,$7:$7,)-1,1,1):OFFSET($B17,0,MATCH(CW$6,$7:$7,)-1,1,1)) -> 2100 | CX17: =SUM(OFFSET($B17,-($B17-1),MATCH(CX$6,$7:$7,)-1,1,1):OFFSET($B17,0,MATCH(CX$6,$7:$7,)-1,1,1)) -> 76694
B18: =IF(MONTH(C18)>=4,(MONTH(C18))-3,(MONTH(C18))+9) -> 6 | C18: 38961 | D18: 48299 | E18: 236 | F18: 65490 | J18: =SUM(OFFSET($B18,-($B18-1),MATCH(J$6,$7:$7,)-1,1,1):OFFSET($B18,0,MATCH(J$6,$7:$7,)-1,1,1)) -> 1454 | K18: =SUM(OFFSET($B18,-($B18-1),MATCH(K$6,$7:$7,)-1,1,1):OFFSET($B18,0,MATCH(K$6,$7:$7,)-1,1,1)) -> 396574 | L18: =SUM(OFFSET($B18,-($B18-1),MATCH(L$6,$7:$7,)-1,1,1):OFFSET($B18,0,MATCH(L$6,$7:$7,)-1,1,1)) -> 0 | M18: 336082 | N18: 3872 | O18: 460716 | S18: =SUM(OFFSET($B18,-($B18-1),MATCH(S$6,$7:$7,)-1,1,1):OFFSET($B18,0,MATCH(S$6,$7:$7,)-1,1,1)) -> 24228 | T18: =SUM(OFFSET($B18,-($B18-1),MATCH(T$6,$7:$7,)-1,1,1):OFFSET($B18,0,MATCH(T$6,$7:$7,)-1,1,1)) -> 2799778 | U18: =SUM(OFFSET($B18,-($B18-1),MATCH(U$6,$7:$7,)-1,1,1):OFFSET($B18,0,MATCH(U$6,$7:$7,)-1,1,1)) -> 0 | AR18: =SUM(V7:V18) -> 0 | AS18: =SUM(W7:W18) -> 0 | AT18: =SUM(X7:X18) -> 0 | AU18: =SUM(Y7:Y18) -> 0 | AV18: =SUM(Z7:Z18) -> 0 | AW18: =SUM(AA7:AA18) -> 0 | AX18: =SUM(AB7:AB18) -> 0 | BN18: =SUM(OFFSET($B18,-($B18-1),MATCH(BN$6,$7:$7,)-1,1,1):OFFSET($B18,0,MATCH(BN$6,$7:$7,)-1,1,1)) -> 0 | BO18: =SUM(OFFSET($B18,-($B18-1),MATCH(BO$6,$7:$7,)-1,1,1):OFFSET($B18,0,MATCH(BO$6,$7:$7,)-1,1,1)) -> 0 | BP18: =SUM(OFFSET($B18,-($B18-1),MATCH(BP$6,$7:$7,)-1,1,1):OFFSET($B18,0,MATCH(BP$6,$7:$7,)-1,1,1)) -> 0 | BQ18: =SUM(OFFSET($B18,-($B18-1),MATCH(BQ$6,$7:$7,)-1,1,1):OFFSET($B18,0,MATCH(BQ$6,$7:$7,)-1,1,1)) -> 0 | BR18: =SUM(OFFSET($B18,-($B18-1),MATCH(BR$6,$7:$7,)-1,1,1):OFFSET($B18,0,MATCH(BR$6,$7:$7,)-1,1,1)) -> 0 | BS18: =SUM(OFFSET($B18,-($B18-1),MATCH(BS$6,$7:$7,)-1,1,1):OFFSET($B18,0,MATCH(BS$6,$7:$7,)-1,1,1)) -> 0 | BT18: =SUM(OFFSET($B18,-($B18-1),MATCH(BT$6,$7:$7,)-1,1,1):OFFSET($B18,0,MATCH(BT$6,$7:$7,)-1,1,1)) -> 0 | BU18: =SUM(OFFSET($B18,-($B18-1),MATCH(BU$6,$7:$7,)-1,1,1):OFFSET($B18,0,MATCH(BU$6,$7:$7,)-1,1,1)) -> 0 | ... CH18: =SUM(OFFSET($B18,-($B18-1),MATCH(CH$6,$7:$7,)-1,1,1):OFFSET($B18,0,MATCH(CH$6,$7:$7,)-1,1,1)) -> 0 | CJ18: 2877 | CK18: 2100 | CL18: 3507 | CM18: 189 | CN18: 609 | CO18: =SUM(CJ7:CJ18) -> 23952 | CP18: =SUM(CK7:CK18) -> 16256 | CQ18: =SUM(CL7:CL18) -> 31443 | CR18: =SUM(CM7:CM18) -> 1716 | CS18: =SUM(CN7:CN18) -> 3696 | CT18: =SUM(OFFSET($B18,-($B18-1),MATCH(CT$6,$7:$7,)-1,1,1):OFFSET($B18,0,MATCH(CT$6,$7:$7,)-1,1,1)) -> 9765 | CU18: =SUM(OFFSET($B18,-($B18-1),MATCH(CU$6,$7:$7,)-1,1,1):OFFSET($B18,0,MATCH(CU$6,$7:$7,)-1,1,1)) -> 21676 | CV18: =SUM(OFFSET($B18,-($B18-1),MATCH(CV$6,$7:$7,)-1,1,1):OFFSET($B18,0,MATCH(CV$6,$7:$7,)-1,1,1)) -> 1361 | CW18: =SUM(OFFSET($B18,-($B18-1),MATCH(CW$6,$7:$7,)-1,1,1):OFFSET($B18,0,MATCH(CW$6,$7:$7,)-1,1,1)) -> 2709 | CX18: =SUM(OFFSET($B18,-($B18-1),MATCH(CX$6,$7:$7,)-1,1,1):OFFSET($B18,0,MATCH(CX$6,$7:$7,)-1,1,1)) -> 100646
B19: =IF(MONTH(C19)>=4,(MONTH(C19))-3,(MONTH(C19))+9) -> 7 | C19: 38991 | D19: 52010 | E19: 255 | F19: 68554 | J19: =SUM(OFFSET($B19,-($B19-1),MATCH(J$6,$7:$7,)-1,1,1):OFFSET($B19,0,MATCH(J$6,$7:$7,)-1,1,1)) -> 1709 | K19: =SUM(OFFSET($B19,-($B19-1),MATCH(K$6,$7:$7,)-1,1,1):OFFSET($B19,0,MATCH(K$6,$7:$7,)-1,1,1)) -> 465128 | L19: =SUM(OFFSET($B19,-($B19-1),MATCH(L$6,$7:$7,)-1,1,1):OFFSET($B19,0,MATCH(L$6,$7:$7,)-1,1,1)) -> 0 | M19: 337090 | N19: 3823 | O19: 456298 | S19: =SUM(OFFSET($B19,-($B19-1),MATCH(S$6,$7:$7,)-1,1,1):OFFSET($B19,0,MATCH(S$6,$7:$7,)-1,1,1)) -> 28051 | T19: =SUM(OFFSET($B19,-($B19-1),MATCH(T$6,$7:$7,)-1,1,1):OFFSET($B19,0,MATCH(T$6,$7:$7,)-1,1,1)) -> 3256076 | U19: =SUM(OFFSET($B19,-($B19-1),MATCH(U$6,$7:$7,)-1,1,1):OFFSET($B19,0,MATCH(U$6,$7:$7,)-1,1,1)) -> 0 | AR19: =SUM(V8:V19) -> 0 | AS19: =SUM(W8:W19) -> 0 | AT19: =SUM(X8:X19) -> 0 | AU19: =SUM(Y8:Y19) -> 0 | AV19: =SUM(Z8:Z19) -> 0 | AW19: =SUM(AA8:AA19) -> 0 | AX19: =SUM(AB8:AB19) -> 0 | BN19: =SUM(OFFSET($B19,-($B19-1),MATCH(BN$6,$7:$7,)-1,1,1):OFFSET($B19,0,MATCH(BN$6,$7:$7,)-1,1,1)) -> 0 | BO19: =SUM(OFFSET($B19,-($B19-1),MATCH(BO$6,$7:$7,)-1,1,1):OFFSET($B19,0,MATCH(BO$6,$7:$7,)-1,1,1)) -> 0 | BP19: =SUM(OFFSET($B19,-($B19-1),MATCH(BP$6,$7:$7,)-1,1,1):OFFSET($B19,0,MATCH(BP$6,$7:$7,)-1,1,1)) -> 0 | BQ19: =SUM(OFFSET($B19,-($B19-1),MATCH(BQ$6,$7:$7,)-1,1,1):OFFSET($B19,0,MATCH(BQ$6,$7:$7,)-1,1,1)) -> 0 | BR19: =SUM(OFFSET($B19,-($B19-1),MATCH(BR$6,$7:$7,)-1,1,1):OFFSET($B19,0,MATCH(BR$6,$7:$7,)-1,1,1)) -> 0 | BS19: =SUM(OFFSET($B19,-($B19-1),MATCH(BS$6,$7:$7,)-1,1,1):OFFSET($B19,0,MATCH(BS$6,$7:$7,)-1,1,1)) -> 0 | BT19: =SUM(OFFSET($B19,-($B19-1),MATCH(BT$6,$7:$7,)-1,1,1):OFFSET($B19,0,MATCH(BT$6,$7:$7,)-1,1,1)) -> 0 | BU19: =SUM(OFFSET($B19,-($B19-1),MATCH(BU$6,$7:$7,)-1,1,1):OFFSET($B19,0,MATCH(BU$6,$7:$7,)-1,1,1)) -> 0 | ... CH19: =SUM(OFFSET($B19,-($B19-1),MATCH(CH$6,$7:$7,)-1,1,1):OFFSET($B19,0,MATCH(CH$6,$7:$7,)-1,1,1)) -> 0 | CJ19: 3366 | CK19: 2090 | CL19: 3564 | CM19: 44 | CN19: 550 | CO19: =SUM(CJ8:CJ19) -> 27318 | CP19: =SUM(CK8:CK19) -> 18346 | CQ19: =SUM(CL8:CL19) -> 35007 | CR19: =SUM(CM8:CM19) -> 1760 | CS19: =SUM(CN8:CN19) -> 4246 | CT19: =SUM(OFFSET($B19,-($B19-1),MATCH(CT$6,$7:$7,)-1,1,1):OFFSET($B19,0,MATCH(CT$6,$7:$7,)-1,1,1)) -> 11855 | CU19: =SUM(OFFSET($B19,-($B19-1),MATCH(CU$6,$7:$7,)-1,1,1):OFFSET($B19,0,MATCH(CU$6,$7:$7,)-1,1,1)) -> 25240 | CV19: =SUM(OFFSET($B19,-($B19-1),MATCH(CV$6,$7:$7,)-1,1,1):OFFSET($B19,0,MATCH(CV$6,$7:$7,)-1,1,1)) -> 1405 | CW19: =SUM(OFFSET($B19,-($B19-1),MATCH(CW$6,$7:$7,)-1,1,1):OFFSET($B19,0,MATCH(CW$6,$7:$7,)-1,1,1)) -> 3259 | CX19: =SUM(OFFSET($B19,-($B19-1),MATCH(CX$6,$7:$7,)-1,1,1):OFFSET($B19,0,MATCH(CX$6,$7:$7,)-1,1,1)) -> 127964
B20: =IF(MONTH(C20)>=4,(MONTH(C20))-3,(MONTH(C20))+9) -> 8 | C20: 39022 | D20: 49358 | E20: 222 | F20: 65646 | J20: =SUM(OFFSET($B20,-($B20-1),MATCH(J$6,$7:$7,)-1,1,1):OFFSET($B20,0,MATCH(J$6,$7:$7,)-1,1,1)) -> 1931 | K20: =SUM(OFFSET($B20,-($B20-1),MATCH(K$6,$7:$7,)-1,1,1):OFFSET($B20,0,MATCH(K$6,$7:$7,)-1,1,1)) -> 530774 | L20: =SUM(OFFSET($B20,-($B20-1),MATCH(L$6,$7:$7,)-1,1,1):OFFSET($B20,0,MATCH(L$6,$7:$7,)-1,1,1)) -> 0 | M20: 351063 | N20: 3845 | O20: 462424 | S20: =SUM(OFFSET($B20,-($B20-1),MATCH(S$6,$7:$7,)-1,1,1):OFFSET($B20,0,MATCH(S$6,$7:$7,)-1,1,1)) -> 31896 | T20: =SUM(OFFSET($B20,-($B20-1),MATCH(T$6,$7:$7,)-1,1,1):OFFSET($B20,0,MATCH(T$6,$7:$7,)-1,1,1)) -> 3718500 | U20: =SUM(OFFSET($B20,-($B20-1),MATCH(U$6,$7:$7,)-1,1,1):OFFSET($B20,0,MATCH(U$6,$7:$7,)-1,1,1)) -> 0 | AR20: =SUM(V9:V20) -> 0 | AS20: =SUM(W9:W20) -> 0 | AT20: =SUM(X9:X20) -> 0 | AU20: =SUM(Y9:Y20) -> 0 | AV20: =SUM(Z9:Z20) -> 0 | AW20: =SUM(AA9:AA20) -> 0 | AX20: =SUM(AB9:AB20) -> 0 | BN20: =SUM(OFFSET($B20,-($B20-1),MATCH(BN$6,$7:$7,)-1,1,1):OFFSET($B20,0,MATCH(BN$6,$7:$7,)-1,1,1)) -> 0 | BO20: =SUM(OFFSET($B20,-($B20-1),MATCH(BO$6,$7:$7,)-1,1,1):OFFSET($B20,0,MATCH(BO$6,$7:$7,)-1,1,1)) -> 0 | BP20: =SUM(OFFSET($B20,-($B20-1),MATCH(BP$6,$7:$7,)-1,1,1):OFFSET($B20,0,MATCH(BP$6,$7:$7,)-1,1,1)) -> 0 | BQ20: =SUM(OFFSET($B20,-($B20-1),MATCH(BQ$6,$7:$7,)-1,1,1):OFFSET($B20,0,MATCH(BQ$6,$7:$7,)-1,1,1)) -> 0 | BR20: =SUM(OFFSET($B20,-($B20-1),MATCH(BR$6,$7:$7,)-1,1,1):OFFSET($B20,0,MATCH(BR$6,$7:$7,)-1,1,1)) -> 0 | BS20: =SUM(OFFSET($B20,-($B20-1),MATCH(BS$6,$7:$7,)-1,1,1):OFFSET($B20,0,MATCH(BS$6,$7:$7,)-1,1,1)) -> 0 | BT20: =SUM(OFFSET($B20,-($B20-1),MATCH(BT$6,$7:$7,)-1,1,1):OFFSET($B20,0,MATCH(BT$6,$7:$7,)-1,1,1)) -> 0 | BU20: =SUM(OFFSET($B20,-($B20-1),MATCH(BU$6,$7:$7,)-1,1,1):OFFSET($B20,0,MATCH(BU$6,$7:$7,)-1,1,1)) -> 0 | ... CH20: =SUM(OFFSET($B20,-($B20-1),MATCH(CH$6,$7:$7,)-1,1,1):OFFSET($B20,0,MATCH(CH$6,$7:$7,)-1,1,1)) -> 0 | CJ20: 3652 | CK20: 2750 | CL20: 4334 | CM20: 110 | CN20: 572 | CO20: =SUM(CJ9:CJ20) -> 30970 | CP20: =SUM(CK9:CK20) -> 21096 | CQ20: =SUM(CL9:CL20) -> 39341 | CR20: =SUM(CM9:CM20) -> 1870 | CS20: =SUM(CN9:CN20) -> 4818 | CT20: =SUM(OFFSET($B20,-($B20-1),MATCH(CT$6,$7:$7,)-1,1,1):OFFSET($B20,0,MATCH(CT$6,$7:$7,)-1,1,1)) -> 14605 | CU20: =SUM(OFFSET($B20,-($B20-1),MATCH(CU$6,$7:$7,)-1,1,1):OFFSET($B20,0,MATCH(CU$6,$7:$7,)-1,1,1)) -> 29574 | CV20: =SUM(OFFSET($B20,-($B20-1),MATCH(CV$6,$7:$7,)-1,1,1):OFFSET($B20,0,MATCH(CV$6,$7:$7,)-1,1,1)) -> 1515 | CW20: =SUM(OFFSET($B20,-($B20-1),MATCH(CW$6,$7:$7,)-1,1,1):OFFSET($B20,0,MATCH(CW$6,$7:$7,)-1,1,1)) -> 3831 | CX20: =SUM(OFFSET($B20,-($B20-1),MATCH(CX$6,$7:$7,)-1,1,1):OFFSET($B20,0,MATCH(CX$6,$7:$7,)-1,1,1)) -> 158934
B21: =IF(MONTH(C21)>=4,(MONTH(C21))-3,(MONTH(C21))+9) -> 9 | C21: 39052 | D21: 52550 | E21: 236 | F21: 68182 | G21: =SUM(D10:D21) -> 564430 | H21: =SUM(E10:E21) -> 2861 | I21: =SUM(F10:F21) -> 787738 | J21: =SUM(OFFSET($B21,-($B21-1),MATCH(J$6,$7:$7,)-1,1,1):OFFSET($B21,0,MATCH(J$6,$7:$7,)-1,1,1)) -> 2167 | K21: =SUM(OFFSET($B21,-($B21-1),MATCH(K$6,$7:$7,)-1,1,1):OFFSET($B21,0,MATCH(K$6,$7:$7,)-1,1,1)) -> 598956 | L21: =SUM(OFFSET($B21,-($B21-1),MATCH(L$6,$7:$7,)-1,1,1):OFFSET($B21,0,MATCH(L$6,$7:$7,)-1,1,1)) -> 564430 | M21: 330980 | N21: 3772 | O21: 439232 | P21: =SUM(M10:M21) -> 3990382 | Q21: =SUM(N10:N21) -> 47303 | R21: =SUM(O10:O21) -> 5468614 | S21: =SUM(OFFSET($B21,-($B21-1),MATCH(S$6,$7:$7,)-1,1,1):OFFSET($B21,0,MATCH(S$6,$7:$7,)-1,1,1)) -> 35668 | T21: =SUM(OFFSET($B21,-($B21-1),MATCH(T$6,$7:$7,)-1,1,1):OFFSET($B21,0,MATCH(T$6,$7:$7,)-1,1,1)) -> 4157732 | U21: =SUM(OFFSET($B21,-($B21-1),MATCH(U$6,$7:$7,)-1,1,1):OFFSET($B21,0,MATCH(U$6,$7:$7,)-1,1,1)) -> 3990382 | AR21: =SUM(V10:V21) -> 0 | AS21: =SUM(W10:W21) -> 0 | AT21: =SUM(X10:X21) -> 0 | AU21: =SUM(Y10:Y21) -> 0 | AV21: =SUM(Z10:Z21) -> 0 | AW21: =SUM(AA10:AA21) -> 0 | AX21: =SUM(AB10:AB21) -> 0 | BN21: =SUM(OFFSET($B21,-($B21-1),MATCH(BN$6,$7:$7,)-1,1,1):OFFSET($B21,0,MATCH(BN$6,$7:$7,)-1,1,1)) -> 0 | BO21: =SUM(OFFSET($B21,-($B21-1),MATCH(BO$6,$7:$7,)-1,1,1):OFFSET($B21,0,MATCH(BO$6,$7:$7,)-1,1,1)) -> 0 | BP21: =SUM(OFFSET($B21,-($B21-1),MATCH(BP$6,$7:$7,)-1,1,1):OFFSET($B21,0,MATCH(BP$6,$7:$7,)-1,1,1)) -> 0 | BQ21: =SUM(OFFSET($B21,-($B21-1),MATCH(BQ$6,$7:$7,)-1,1,1):OFFSET($B21,0,MATCH(BQ$6,$7:$7,)-1,1,1)) -> 0 | BR21: =SUM(OFFSET($B21,-($B21-1),MATCH(BR$6,$7:$7,)-1,1,1):OFFSET($B21,0,MATCH(BR$6,$7:$7,)-1,1,1)) -> 0 | BS21: =SUM(OFFSET($B21,-($B21-1),MATCH(BS$6,$7:$7,)-1,1,1):OFFSET($B21,0,MATCH(BS$6,$7:$7,)-1,1,1)) -> 0 | BT21: =SUM(OFFSET($B21,-($B21-1),MATCH(BT$6,$7:$7,)-1,1,1):OFFSET($B21,0,MATCH(BT$6,$7:$7,)-1,1,1)) -> 0 | BU21: =SUM(OFFSET($B21,-($B21-1),MATCH(BU$6,$7:$7,)-1,1,1):OFFSET($B21,0,MATCH(BU$6,$7:$7,)-1,1,1)) -> 0 | ... CH21: =SUM(OFFSET($B21,-($B21-1),MATCH(CH$6,$7:$7,)-1,1,1):OFFSET($B21,0,MATCH(CH$6,$7:$7,)-1,1,1)) -> 0 | CJ21: 2132 | CK21: 4446 | CL21: 9698 | CM21: 26 | CN21: 754 | CO21: =SUM(CJ10:CJ21) -> 33102 | CP21: =SUM(CK10:CK21) -> 25542 | CQ21: =SUM(CL10:CL21) -> 49039 | CR21: =SUM(CM10:CM21) -> 1896 | CS21: =SUM(CN10:CN21) -> 5572 | CT21: =SUM(OFFSET($B21,-($B21-1),MATCH(CT$6,$7:$7,)-1,1,1):OFFSET($B21,0,MATCH(CT$6,$7:$7,)-1,1,1)) -> 19051 | CU21: =SUM(OFFSET($B21,-($B21-1),MATCH(CU$6,$7:$7,)-1,1,1):OFFSET($B21,0,MATCH(CU$6,$7:$7,)-1,1,1)) -> 39272 | CV21: =SUM(OFFSET($B21,-($B21-1),MATCH(CV$6,$7:$7,)-1,1,1):OFFSET($B21,0,MATCH(CV$6,$7:$7,)-1,1,1)) -> 1541 | CW21: =SUM(OFFSET($B21,-($B21-1),MATCH(CW$6,$7:$7,)-1,1,1):OFFSET($B21,0,MATCH(CW$6,$7:$7,)-1,1,1)) -> 4585 | CX21: =SUM(OFFSET($B21,-($B21-1),MATCH(CX$6,$7:$7,)-1,1,1):OFFSET($B21,0,MATCH(CX$6,$7:$7,)-1,1,1)) -> 192036
B22: =IF(MONTH(C22)>=4,(MONTH(C22))-3,(MONTH(C22))+9) -> 10 | C22: 39083 | D22: 53679 | E22: 229 | F22: 65680 | G22: =SUM(D11:D22) -> 566846 | H22: =SUM(E11:E22) -> 2854 | I22: =SUM(F11:F22) -> 789118 | J22: =SUM(OFFSET($B22,-($B22-1),MATCH(J$6,$7:$7,)-1,1,1):OFFSET($B22,0,MATCH(J$6,$7:$7,)-1,1,1)) -> 2396 | K22: =SUM(OFFSET($B22,-($B22-1),MATCH(K$6,$7:$7,)-1,1,1):OFFSET($B22,0,MATCH(K$6,$7:$7,)-1,1,1)) -> 664636 | L22: =SUM(OFFSET($B22,-($B22-1),MATCH(L$6,$7:$7,)-1,1,1):OFFSET($B22,0,MATCH(L$6,$7:$7,)-1,1,1)) -> 1131276 | M22: 283288 | N22: 3586 | O22: 393177 | P22: =SUM(M11:M22) -> 3990629 | Q22: =SUM(N11:N22) -> 47165 | R22: =SUM(O11:O22) -> 5464873 | S22: =SUM(OFFSET($B22,-($B22-1),MATCH(S$6,$7:$7,)-1,1,1):OFFSET($B22,0,MATCH(S$6,$7:$7,)-1,1,1)) -> 39254 | T22: =SUM(OFFSET($B22,-($B22-1),MATCH(T$6,$7:$7,)-1,1,1):OFFSET($B22,0,MATCH(T$6,$7:$7,)-1,1,1)) -> 4550909 | U22: =SUM(OFFSET($B22,-($B22-1),MATCH(U$6,$7:$7,)-1,1,1):OFFSET($B22,0,MATCH(U$6,$7:$7,)-1,1,1)) -> 7981011 | AR22: =SUM(V11:V22) -> 0 | AS22: =SUM(W11:W22) -> 0 | AT22: =SUM(X11:X22) -> 0 | AU22: =SUM(Y11:Y22) -> 0 | AV22: =SUM(Z11:Z22) -> 0 | AW22: =SUM(AA11:AA22) -> 0 | AX22: =SUM(AB11:AB22) -> 0 | BN22: =SUM(OFFSET($B22,-($B22-1),MATCH(BN$6,$7:$7,)-1,1,1):OFFSET($B22,0,MATCH(BN$6,$7:$7,)-1,1,1)) -> 0 | BO22: =SUM(OFFSET($B22,-($B22-1),MATCH(BO$6,$7:$7,)-1,1,1):OFFSET($B22,0,MATCH(BO$6,$7:$7,)-1,1,1)) -> 0 | BP22: =SUM(OFFSET($B22,-($B22-1),MATCH(BP$6,$7:$7,)-1,1,1):OFFSET($B22,0,MATCH(BP$6,$7:$7,)-1,1,1)) -> 0 | BQ22: =SUM(OFFSET($B22,-($B22-1),MATCH(BQ$6,$7:$7,)-1,1,1):OFFSET($B22,0,MATCH(BQ$6,$7:$7,)-1,1,1)) -> 0 | BR22: =SUM(OFFSET($B22,-($B22-1),MATCH(BR$6,$7:$7,)-1,1,1):OFFSET($B22,0,MATCH(BR$6,$7:$7,)-1,1,1)) -> 0 | BS22: =SUM(OFFSET($B22,-($B22-1),MATCH(BS$6,$7:$7,)-1,1,1):OFFSET($B22,0,MATCH(BS$6,$7:$7,)-1,1,1)) -> 0 | BT22: =SUM(OFFSET($B22,-($B22-1),MATCH(BT$6,$7:$7,)-1,1,1):OFFSET($B22,0,MATCH(BT$6,$7:$7,)-1,1,1)) -> 0 | BU22: =SUM(OFFSET($B22,-($B22-1),MATCH(BU$6,$7:$7,)-1,1,1):OFFSET($B22,0,MATCH(BU$6,$7:$7,)-1,1,1)) -> 0 | ... CH22: =SUM(OFFSET($B22,-($B22-1),MATCH(CH$6,$7:$7,)-1,1,1):OFFSET($B22,0,MATCH(CH$6,$7:$7,)-1,1,1)) -> 0 | CJ22: 1540 | CK22: 3500 | CL22: 5432 | CM22: 308 | CN22: 476 | CO22: =SUM(CJ11:CJ22) -> 34642 | CP22: =SUM(CK11:CK22) -> 29042 | CQ22: =SUM(CL11:CL22) -> 54471 | CR22: =SUM(CM11:CM22) -> 2204 | CS22: =SUM(CN11:CN22) -> 6048 | CT22: =SUM(OFFSET($B22,-($B22-1),MATCH(CT$6,$7:$7,)-1,1,1):OFFSET($B22,0,MATCH(CT$6,$7:$7,)-1,1,1)) -> 22551 | CU22: =SUM(OFFSET($B22,-($B22-1),MATCH(CU$6,$7:$7,)-1,1,1):OFFSET($B22,0,MATCH(CU$6,$7:$7,)-1,1,1)) -> 44704 | CV22: =SUM(OFFSET($B22,-($B22-1),MATCH(CV$6,$7:$7,)-1,1,1):OFFSET($B22,0,MATCH(CV$6,$7:$7,)-1,1,1)) -> 1849 | CW22: =SUM(OFFSET($B22,-($B22-1),MATCH(CW$6,$7:$7,)-1,1,1):OFFSET($B22,0,MATCH(CW$6,$7:$7,)-1,1,1)) -> 5061 | CX22: =SUM(OFFSET($B22,-($B22-1),MATCH(CX$6,$7:$7,)-1,1,1):OFFSET($B22,0,MATCH(CX$6,$7:$7,)-1,1,1)) -> 226678
B23: =IF(MONTH(C23)>=4,(MONTH(C23))-3,(MONTH(C23))+9) -> 11 | C23: 39114 | D23: 46656 | E23: 211 | F23: 60140 | G23: =SUM(D12:D23) -> 570609 | H23: =SUM(E12:E23) -> 2846 | I23: =SUM(F12:F23) -> 789650 | J23: =SUM(OFFSET($B23,-($B23-1),MATCH(J$6,$7:$7,)-1,1,1):OFFSET($B23,0,MATCH(J$6,$7:$7,)-1,1,1)) -> 2607 | K23: =SUM(OFFSET($B23,-($B23-1),MATCH(K$6,$7:$7,)-1,1,1):OFFSET($B23,0,MATCH(K$6,$7:$7,)-1,1,1)) -> 724776 | L23: =SUM(OFFSET($B23,-($B23-1),MATCH(L$6,$7:$7,)-1,1,1):OFFSET($B23,0,MATCH(L$6,$7:$7,)-1,1,1)) -> 1701885 | M23: 337044 | N23: 3690 | O23: 436785 | P23: =SUM(M12:M23) -> 4004093 | Q23: =SUM(N12:N23) -> 47065 | R23: =SUM(O12:O23) -> 5467339 | S23: =SUM(OFFSET($B23,-($B23-1),MATCH(S$6,$7:$7,)-1,1,1):OFFSET($B23,0,MATCH(S$6,$7:$7,)-1,1,1)) -> 42944 | T23: =SUM(OFFSET($B23,-($B23-1),MATCH(T$6,$7:$7,)-1,1,1):OFFSET($B23,0,MATCH(T$6,$7:$7,)-1,1,1)) -> 4987694 | U23: =SUM(OFFSET($B23,-($B23-1),MATCH(U$6,$7:$7,)-1,1,1):OFFSET($B23,0,MATCH(U$6,$7:$7,)-1,1,1)) -> 11985104 | AR23: =SUM(V12:V23) -> 0 | AS23: =SUM(W12:W23) -> 0 | AT23: =SUM(X12:X23) -> 0 | AU23: =SUM(Y12:Y23) -> 0 | AV23: =SUM(Z12:Z23) -> 0 | AW23: =SUM(AA12:AA23) -> 0 | AX23: =SUM(AB12:AB23) -> 0 | BN23: =SUM(OFFSET($B23,-($B23-1),MATCH(BN$6,$7:$7,)-1,1,1):OFFSET($B23,0,MATCH(BN$6,$7:$7,)-1,1,1)) -> 0 | BO23: =SUM(OFFSET($B23,-($B23-1),MATCH(BO$6,$7:$7,)-1,1,1):OFFSET($B23,0,MATCH(BO$6,$7:$7,)-1,1,1)) -> 0 | BP23: =SUM(OFFSET($B23,-($B23-1),MATCH(BP$6,$7:$7,)-1,1,1):OFFSET($B23,0,MATCH(BP$6,$7:$7,)-1,1,1)) -> 0 | BQ23: =SUM(OFFSET($B23,-($B23-1),MATCH(BQ$6,$7:$7,)-1,1,1):OFFSET($B23,0,MATCH(BQ$6,$7:$7,)-1,1,1)) -> 0 | BR23: =SUM(OFFSET($B23,-($B23-1),MATCH(BR$6,$7:$7,)-1,1,1):OFFSET($B23,0,MATCH(BR$6,$7:$7,)-1,1,1)) -> 0 | BS23: =SUM(OFFSET($B23,-($B23-1),MATCH(BS$6,$7:$7,)-1,1,1):OFFSET($B23,0,MATCH(BS$6,$7:$7,)-1,1,1)) -> 0 | BT23: =SUM(OFFSET($B23,-($B23-1),MATCH(BT$6,$7:$7,)-1,1,1):OFFSET($B23,0,MATCH(BT$6,$7:$7,)-1,1,1)) -> 0 | BU23: =SUM(OFFSET($B23,-($B23-1),MATCH(BU$6,$7:$7,)-1,1,1):OFFSET($B23,0,MATCH(BU$6,$7:$7,)-1,1,1)) -> 0 | ... CH23: =SUM(OFFSET($B23,-($B23-1),MATCH(CH$6,$7:$7,)-1,1,1):OFFSET($B23,0,MATCH(CH$6,$7:$7,)-1,1,1)) -> 0 | CJ23: 3059 | CK23: 3680 | CL23: 5612 | CM23: 276 | CN23: 736 | CO23: =SUM(CJ12:CJ23) -> 34401 | CP23: =SUM(CK12:CK23) -> 29290 | CQ23: =SUM(CL12:CL23) -> 54847 | CR23: =SUM(CM12:CM23) -> 2194 | CS23: =SUM(CN12:CN23) -> 6234 | CT23: =SUM(OFFSET($B23,-($B23-1),MATCH(CT$6,$7:$7,)-1,1,1):OFFSET($B23,0,MATCH(CT$6,$7:$7,)-1,1,1)) -> 26231 | CU23: =SUM(OFFSET($B23,-($B23-1),MATCH(CU$6,$7:$7,)-1,1,1):OFFSET($B23,0,MATCH(CU$6,$7:$7,)-1,1,1)) -> 50316 | CV23: =SUM(OFFSET($B23,-($B23-1),MATCH(CV$6,$7:$7,)-1,1,1):OFFSET($B23,0,MATCH(CV$6,$7:$7,)-1,1,1)) -> 2125 | CW23: =SUM(OFFSET($B23,-($B23-1),MATCH(CW$6,$7:$7,)-1,1,1):OFFSET($B23,0,MATCH(CW$6,$7:$7,)-1,1,1)) -> 5797 | CX23: =SUM(OFFSET($B23,-($B23-1),MATCH(CX$6,$7:$7,)-1,1,1):OFFSET($B23,0,MATCH(CX$6,$7:$7,)-1,1,1)) -> 261079
B24: =IF(MONTH(C24)>=4,(MONTH(C24))-3,(MONTH(C24))+9) -> 12 | C24: 39142 | D24: 49853 | E24: 232 | F24: 67210 | G24: =SUM(D13:D24) -> 575398 | H24: =SUM(E13:E24) -> 2839 | I24: =SUM(F13:F24) -> 791986 | J24: =SUM(OFFSET($B24,-($B24-1),MATCH(J$6,$7:$7,)-1,1,1):OFFSET($B24,0,MATCH(J$6,$7:$7,)-1,1,1)) -> 2839 | K24: =SUM(OFFSET($B24,-($B24-1),MATCH(K$6,$7:$7,)-1,1,1):OFFSET($B24,0,MATCH(K$6,$7:$7,)-1,1,1)) -> 791986 | L24: =SUM(OFFSET($B24,-($B24-1),MATCH(L$6,$7:$7,)-1,1,1):OFFSET($B24,0,MATCH(L$6,$7:$7,)-1,1,1)) -> 2277283 | M24: 369643 | N24: 4031 | O24: 475783 | P24: =SUM(M13:M24) -> 4012524 | Q24: =SUM(N13:N24) -> 46975 | R24: =SUM(O13:O24) -> 5463477 | S24: =SUM(OFFSET($B24,-($B24-1),MATCH(S$6,$7:$7,)-1,1,1):OFFSET($B24,0,MATCH(S$6,$7:$7,)-1,1,1)) -> 46975 | T24: =SUM(OFFSET($B24,-($B24-1),MATCH(T$6,$7:$7,)-1,1,1):OFFSET($B24,0,MATCH(T$6,$7:$7,)-1,1,1)) -> 5463477 | U24: =SUM(OFFSET($B24,-($B24-1),MATCH(U$6,$7:$7,)-1,1,1):OFFSET($B24,0,MATCH(U$6,$7:$7,)-1,1,1)) -> 15997628 | AR24: =SUM(V13:V24) -> 0 | AS24: =SUM(W13:W24) -> 0 | AT24: =SUM(X13:X24) -> 0 | AU24: =SUM(Y13:Y24) -> 0 | AV24: =SUM(Z13:Z24) -> 0 | AW24: =SUM(AA13:AA24) -> 0 | AX24: =SUM(AB13:AB24) -> 0 | BN24: =SUM(OFFSET($B24,-($B24-1),MATCH(BN$6,$7:$7,)-1,1,1):OFFSET($B24,0,MATCH(BN$6,$7:$7,)-1,1,1)) -> 0 | BO24: =SUM(OFFSET($B24,-($B24-1),MATCH(BO$6,$7:$7,)-1,1,1):OFFSET($B24,0,MATCH(BO$6,$7:$7,)-1,1,1)) -> 0 | BP24: =SUM(OFFSET($B24,-($B24-1),MATCH(BP$6,$7:$7,)-1,1,1):OFFSET($B24,0,MATCH(BP$6,$7:$7,)-1,1,1)) -> 0 | BQ24: =SUM(OFFSET($B24,-($B24-1),MATCH(BQ$6,$7:$7,)-1,1,1):OFFSET($B24,0,MATCH(BQ$6,$7:$7,)-1,1,1)) -> 0 | BR24: =SUM(OFFSET($B24,-($B24-1),MATCH(BR$6,$7:$7,)-1,1,1):OFFSET($B24,0,MATCH(BR$6,$7:$7,)-1,1,1)) -> 0 | BS24: =SUM(OFFSET($B24,-($B24-1),MATCH(BS$6,$7:$7,)-1,1,1):OFFSET($B24,0,MATCH(BS$6,$7:$7,)-1,1,1)) -> 0 | BT24: =SUM(OFFSET($B24,-($B24-1),MATCH(BT$6,$7:$7,)-1,1,1):OFFSET($B24,0,MATCH(BT$6,$7:$7,)-1,1,1)) -> 0 | BU24: =SUM(OFFSET($B24,-($B24-1),MATCH(BU$6,$7:$7,)-1,1,1):OFFSET($B24,0,MATCH(BU$6,$7:$7,)-1,1,1)) -> 0 | ... CH24: =SUM(OFFSET($B24,-($B24-1),MATCH(CH$6,$7:$7,)-1,1,1):OFFSET($B24,0,MATCH(CH$6,$7:$7,)-1,1,1)) -> 0 | CJ24: 3519 | CK24: 3082 | CL24: 4646 | CM24: 184 | CN24: 598 | CO24: =SUM(CJ13:CJ24) -> 34907 | CP24: =SUM(CK13:CK24) -> 29313 | CQ24: =SUM(CL13:CL24) -> 54962 | CR24: =SUM(CM13:CM24) -> 2309 | CS24: =SUM(CN13:CN24) -> 6395 | CT24: =SUM(OFFSET($B24,-($B24-1),MATCH(CT$6,$7:$7,)-1,1,1):OFFSET($B24,0,MATCH(CT$6,$7:$7,)-1,1,1)) -> 29313 | CU24: =SUM(OFFSET($B24,-($B24-1),MATCH(CU$6,$7:$7,)-1,1,1):OFFSET($B24,0,MATCH(CU$6,$7:$7,)-1,1,1)) -> 54962 | CV24: =SUM(OFFSET($B24,-($B24-1),MATCH(CV$6,$7:$7,)-1,1,1):OFFSET($B24,0,MATCH(CV$6,$7:$7,)-1,1,1)) -> 2309 | CW24: =SUM(OFFSET($B24,-($B24-1),MATCH(CW$6,$7:$7,)-1,1,1):OFFSET($B24,0,MATCH(CW$6,$7:$7,)-1,1,1)) -> 6395 | CX24: =SUM(OFFSET($B24,-($B24-1),MATCH(CX$6,$7:$7,)-1,1,1):OFFSET($B24,0,MATCH(CX$6,$7:$7,)-1,1,1)) -> 295986
B25: =IF(MONTH(C25)>=4,(MONTH(C25))-3,(MONTH(C25))+9) -> 1 | C25: 39173 | D25: 50876 | E25: 213 | F25: 61456 | G25: =SUM(D14:D25) -> 576935 | H25: =SUM(E14:E25) -> 2806 | I25: =SUM(F14:F25) -> 787936 | J25: =SUM(OFFSET($B25,-($B25-1),MATCH(J$6,$7:$7,)-1,1,1):OFFSET($B25,0,MATCH(J$6,$7:$7,)-1,1,1)) -> 213 | K25: =SUM(OFFSET($B25,-($B25-1),MATCH(K$6,$7:$7,)-1,1,1):OFFSET($B25,0,MATCH(K$6,$7:$7,)-1,1,1)) -> 61456 | L25: =SUM(OFFSET($B25,-($B25-1),MATCH(L$6,$7:$7,)-1,1,1):OFFSET($B25,0,MATCH(L$6,$7:$7,)-1,1,1)) -> 576935 | M25: 339568 | N25: 3848 | O25: 445321 | P25: =SUM(M14:M25) -> 4007668 | Q25: =SUM(N14:N25) -> 46722 | R25: =SUM(O14:O25) -> 5452311 | S25: =SUM(OFFSET($B25,-($B25-1),MATCH(S$6,$7:$7,)-1,1,1):OFFSET($B25,0,MATCH(S$6,$7:$7,)-1,1,1)) -> 3848 | T25: =SUM(OFFSET($B25,-($B25-1),MATCH(T$6,$7:$7,)-1,1,1):OFFSET($B25,0,MATCH(T$6,$7:$7,)-1,1,1)) -> 445321 | U25: =SUM(OFFSET($B25,-($B25-1),MATCH(U$6,$7:$7,)-1,1,1):OFFSET($B25,0,MATCH(U$6,$7:$7,)-1,1,1)) -> 4007668 | AR25: =SUM(V14:V25) -> 0 | AS25: =SUM(W14:W25) -> 0 | AT25: =SUM(X14:X25) -> 0 | AU25: =SUM(Y14:Y25) -> 0 | AV25: =SUM(Z14:Z25) -> 0 | AW25: =SUM(AA14:AA25) -> 0 | AX25: =SUM(AB14:AB25) -> 0 | BN25: =SUM(OFFSET($B25,-($B25-1),MATCH(BN$6,$7:$7,)-1,1,1):OFFSET($B25,0,MATCH(BN$6,$7:$7,)-1,1,1)) -> 0 | BO25: =SUM(OFFSET($B25,-($B25-1),MATCH(BO$6,$7:$7,)-1,1,1):OFFSET($B25,0,MATCH(BO$6,$7:$7,)-1,1,1)) -> 0 | BP25: =SUM(OFFSET($B25,-($B25-1),MATCH(BP$6,$7:$7,)-1,1,1):OFFSET($B25,0,MATCH(BP$6,$7:$7,)-1,1,1)) -> 0 | BQ25: =SUM(OFFSET($B25,-($B25-1),MATCH(BQ$6,$7:$7,)-1,1,1):OFFSET($B25,0,MATCH(BQ$6,$7:$7,)-1,1,1)) -> 0 | BR25: =SUM(OFFSET($B25,-($B25-1),MATCH(BR$6,$7:$7,)-1,1,1):OFFSET($B25,0,MATCH(BR$6,$7:$7,)-1,1,1)) -> 0 | BS25: =SUM(OFFSET($B25,-($B25-1),MATCH(BS$6,$7:$7,)-1,1,1):OFFSET($B25,0,MATCH(BS$6,$7:$7,)-1,1,1)) -> 0 | BT25: =SUM(OFFSET($B25,-($B25-1),MATCH(BT$6,$7:$7,)-1,1,1):OFFSET($B25,0,MATCH(BT$6,$7:$7,)-1,1,1)) -> 0 | BU25: =SUM(OFFSET($B25,-($B25-1),MATCH(BU$6,$7:$7,)-1,1,1):OFFSET($B25,0,MATCH(BU$6,$7:$7,)-1,1,1)) -> 0 | ... CH25: =SUM(OFFSET($B25,-($B25-1),MATCH(CH$6,$7:$7,)-1,1,1):OFFSET($B25,0,MATCH(CH$6,$7:$7,)-1,1,1)) -> 0 | CJ25: 2300 | CK25: 2438 | CL25: 5129 | CM25: 115 | CN25: 506 | CO25: =SUM(CJ14:CJ25) -> 34545 | CP25: =SUM(CK14:CK25) -> 29551 | CQ25: =SUM(CL14:CL25) -> 55097 | CR25: =SUM(CM14:CM25) -> 2204 | CS25: =SUM(CN14:CN25) -> 6505 | CT25: =SUM(OFFSET($B25,-($B25-1),MATCH(CT$6,$7:$7,)-1,1,1):OFFSET($B25,0,MATCH(CT$6,$7:$7,)-1,1,1)) -> 2438 | CU25: =SUM(OFFSET($B25,-($B25-1),MATCH(CU$6,$7:$7,)-1,1,1):OFFSET($B25,0,MATCH(CU$6,$7:$7,)-1,1,1)) -> 5129 | CV25: =SUM(OFFSET($B25,-($B25-1),MATCH(CV$6,$7:$7,)-1,1,1):OFFSET($B25,0,MATCH(CV$6,$7:$7,)-1,1,1)) -> 115 | CW25: =SUM(OFFSET($B25,-($B25-1),MATCH(CW$6,$7:$7,)-1,1,1):OFFSET($B25,0,MATCH(CW$6,$7:$7,)-1,1,1)) -> 506 | CX25: =SUM(OFFSET($B25,-($B25-1),MATCH(CX$6,$7:$7,)-1,1,1):OFFSET($B25,0,MATCH(CX$6,$7:$7,)-1,1,1)) -> 34545
B26: =IF(MONTH(C26)>=4,(MONTH(C26))-3,(MONTH(C26))+9) -> 2 | C26: 39203 | D26: 46297 | E26: 221 | F26: 64398 | G26: =SUM(D15:D26) -> 581680 | H26: =SUM(E15:E26) -> 2783 | I26: =SUM(F15:F26) -> 786754 | J26: =SUM(OFFSET($B26,-($B26-1),MATCH(J$6,$7:$7,)-1,1,1):OFFSET($B26,0,MATCH(J$6,$7:$7,)-1,1,1)) -> 434 | K26: =SUM(OFFSET($B26,-($B26-1),MATCH(K$6,$7:$7,)-1,1,1):OFFSET($B26,0,MATCH(K$6,$7:$7,)-1,1,1)) -> 125854 | L26: =SUM(OFFSET($B26,-($B26-1),MATCH(L$6,$7:$7,)-1,1,1):OFFSET($B26,0,MATCH(L$6,$7:$7,)-1,1,1)) -> 1158615 | M26: 332414 | N26: 3826 | O26: 448037 | P26: =SUM(M15:M26) -> 4008489 | Q26: =SUM(N15:N26) -> 46383 | R26: =SUM(O15:O26) -> 5420614 | S26: =SUM(OFFSET($B26,-($B26-1),MATCH(S$6,$7:$7,)-1,1,1):OFFSET($B26,0,MATCH(S$6,$7:$7,)-1,1,1)) -> 7674 | T26: =SUM(OFFSET($B26,-($B26-1),MATCH(T$6,$7:$7,)-1,1,1):OFFSET($B26,0,MATCH(T$6,$7:$7,)-1,1,1)) -> 893358 | U26: =SUM(OFFSET($B26,-($B26-1),MATCH(U$6,$7:$7,)-1,1,1):OFFSET($B26,0,MATCH(U$6,$7:$7,)-1,1,1)) -> 8016157 | AR26: =SUM(V15:V26) -> 0 | AS26: =SUM(W15:W26) -> 0 | AT26: =SUM(X15:X26) -> 0 | AU26: =SUM(Y15:Y26) -> 0 | AV26: =SUM(Z15:Z26) -> 0 | AW26: =SUM(AA15:AA26) -> 0 | AX26: =SUM(AB15:AB26) -> 0 | BN26: =SUM(OFFSET($B26,-($B26-1),MATCH(BN$6,$7:$7,)-1,1,1):OFFSET($B26,0,MATCH(BN$6,$7:$7,)-1,1,1)) -> 0 | BO26: =SUM(OFFSET($B26,-($B26-1),MATCH(BO$6,$7:$7,)-1,1,1):OFFSET($B26,0,MATCH(BO$6,$7:$7,)-1,1,1)) -> 0 | BP26: =SUM(OFFSET($B26,-($B26-1),MATCH(BP$6,$7:$7,)-1,1,1):OFFSET($B26,0,MATCH(BP$6,$7:$7,)-1,1,1)) -> 0 | BQ26: =SUM(OFFSET($B26,-($B26-1),MATCH(BQ$6,$7:$7,)-1,1,1):OFFSET($B26,0,MATCH(BQ$6,$7:$7,)-1,1,1)) -> 0 | BR26: =SUM(OFFSET($B26,-($B26-1),MATCH(BR$6,$7:$7,)-1,1,1):OFFSET($B26,0,MATCH(BR$6,$7:$7,)-1,1,1)) -> 0 | BS26: =SUM(OFFSET($B26,-($B26-1),MATCH(BS$6,$7:$7,)-1,1,1):OFFSET($B26,0,MATCH(BS$6,$7:$7,)-1,1,1)) -> 0 | BT26: =SUM(OFFSET($B26,-($B26-1),MATCH(BT$6,$7:$7,)-1,1,1):OFFSET($B26,0,MATCH(BT$6,$7:$7,)-1,1,1)) -> 0 | BU26: =SUM(OFFSET($B26,-($B26-1),MATCH(BU$6,$7:$7,)-1,1,1):OFFSET($B26,0,MATCH(BU$6,$7:$7,)-1,1,1)) -> 0 | ... CH26: =SUM(OFFSET($B26,-($B26-1),MATCH(CH$6,$7:$7,)-1,1,1):OFFSET($B26,0,MATCH(CH$6,$7:$7,)-1,1,1)) -> 0 | CJ26: 3168 | CK26: 1512 | CL26: 3402 | CM26: 144 | CN26: 468 | CO26: =SUM(CJ15:CJ26) -> 33956 | CP26: =SUM(CK15:CK26) -> 29261 | CQ26: =SUM(CL15:CL26) -> 55422 | CR26: =SUM(CM15:CM26) -> 2212 | CS26: =SUM(CN15:CN26) -> 6514 | CT26: =SUM(OFFSET($B26,-($B26-1),MATCH(CT$6,$7:$7,)-1,1,1):OFFSET($B26,0,MATCH(CT$6,$7:$7,)-1,1,1)) -> 3950 | CU26: =SUM(OFFSET($B26,-($B26-1),MATCH(CU$6,$7:$7,)-1,1,1):OFFSET($B26,0,MATCH(CU$6,$7:$7,)-1,1,1)) -> 8531 | CV26: =SUM(OFFSET($B26,-($B26-1),MATCH(CV$6,$7:$7,)-1,1,1):OFFSET($B26,0,MATCH(CV$6,$7:$7,)-1,1,1)) -> 259 | CW26: =SUM(OFFSET($B26,-($B26-1),MATCH(CW$6,$7:$7,)-1,1,1):OFFSET($B26,0,MATCH(CW$6,$7:$7,)-1,1,1)) -> 974 | CX26: =SUM(OFFSET($B26,-($B26-1),MATCH(CX$6,$7:$7,)-1,1,1):OFFSET($B26,0,MATCH(CX$6,$7:$7,)-1,1,1)) -> 68501
B27: =IF(MONTH(C27)>=4,(MONTH(C27))-3,(MONTH(C27))+9) -> 3 | C27: 39234 | D27: 45407 | E27: 209 | F27: 62622 | G27: =SUM(D16:D27) -> 586032 | H27: =SUM(E16:E27) -> 2763 | I27: =SUM(F16:F27) -> 786112 | J27: =SUM(OFFSET($B27,-($B27-1),MATCH(J$6,$7:$7,)-1,1,1):OFFSET($B27,0,MATCH(J$6,$7:$7,)-1,1,1)) -> 643 | K27: =SUM(OFFSET($B27,-($B27-1),MATCH(K$6,$7:$7,)-1,1,1):OFFSET($B27,0,MATCH(K$6,$7:$7,)-1,1,1)) -> 188476 | L27: =SUM(OFFSET($B27,-($B27-1),MATCH(L$6,$7:$7,)-1,1,1):OFFSET($B27,0,MATCH(L$6,$7:$7,)-1,1,1)) -> 1744647 | M27: 330141 | N27: 3645 | O27: 430941 | P27: =SUM(M16:M27) -> 4018660 | Q27: =SUM(N16:N27) -> 46095 | R27: =SUM(O16:O27) -> 5397776 | S27: =SUM(OFFSET($B27,-($B27-1),MATCH(S$6,$7:$7,)-1,1,1):OFFSET($B27,0,MATCH(S$6,$7:$7,)-1,1,1)) -> 11319 | T27: =SUM(OFFSET($B27,-($B27-1),MATCH(T$6,$7:$7,)-1,1,1):OFFSET($B27,0,MATCH(T$6,$7:$7,)-1,1,1)) -> 1324299 | U27: =SUM(OFFSET($B27,-($B27-1),MATCH(U$6,$7:$7,)-1,1,1):OFFSET($B27,0,MATCH(U$6,$7:$7,)-1,1,1)) -> 12034817 | AR27: =SUM(V16:V27) -> 0 | AS27: =SUM(W16:W27) -> 0 | AT27: =SUM(X16:X27) -> 0 | AU27: =SUM(Y16:Y27) -> 0 | AV27: =SUM(Z16:Z27) -> 0 | AW27: =SUM(AA16:AA27) -> 0 | AX27: =SUM(AB16:AB27) -> 0 | BN27: =SUM(OFFSET($B27,-($B27-1),MATCH(BN$6,$7:$7,)-1,1,1):OFFSET($B27,0,MATCH(BN$6,$7:$7,)-1,1,1)) -> 0 | BO27: =SUM(OFFSET($B27,-($B27-1),MATCH(BO$6,$7:$7,)-1,1,1):OFFSET($B27,0,MATCH(BO$6,$7:$7,)-1,1,1)) -> 0 | BP27: =SUM(OFFSET($B27,-($B27-1),MATCH(BP$6,$7:$7,)-1,1,1):OFFSET($B27,0,MATCH(BP$6,$7:$7,)-1,1,1)) -> 0 | BQ27: =SUM(OFFSET($B27,-($B27-1),MATCH(BQ$6,$7:$7,)-1,1,1):OFFSET($B27,0,MATCH(BQ$6,$7:$7,)-1,1,1)) -> 0 | BR27: =SUM(OFFSET($B27,-($B27-1),MATCH(BR$6,$7:$7,)-1,1,1):OFFSET($B27,0,MATCH(BR$6,$7:$7,)-1,1,1)) -> 0 | BS27: =SUM(OFFSET($B27,-($B27-1),MATCH(BS$6,$7:$7,)-1,1,1):OFFSET($B27,0,MATCH(BS$6,$7:$7,)-1,1,1)) -> 0 | BT27: =SUM(OFFSET($B27,-($B27-1),MATCH(BT$6,$7:$7,)-1,1,1):OFFSET($B27,0,MATCH(BT$6,$7:$7,)-1,1,1)) -> 0 | BU27: =SUM(OFFSET($B27,-($B27-1),MATCH(BU$6,$7:$7,)-1,1,1):OFFSET($B27,0,MATCH(BU$6,$7:$7,)-1,1,1)) -> 0 | ... CH27: =SUM(OFFSET($B27,-($B27-1),MATCH(CH$6,$7:$7,)-1,1,1):OFFSET($B27,0,MATCH(CH$6,$7:$7,)-1,1,1)) -> 0 | CJ27: 2337 | CK27: 1710 | CL27: 3534 | CM27: 247 | CN27: 532 | CO27: =SUM(CJ16:CJ27) -> 33521 | CP27: =SUM(CK16:CK27) -> 29639 | CQ27: =SUM(CL16:CL27) -> 55644 | CR27: =SUM(CM16:CM27) -> 2207 | CS27: =SUM(CN16:CN27) -> 6650 | CT27: =SUM(OFFSET($B27,-($B27-1),MATCH(CT$6,$7:$7,)-1,1,1):OFFSET($B27,0,MATCH(CT$6,$7:$7,)-1,1,1)) -> 5660 | CU27: =SUM(OFFSET($B27,-($B27-1),MATCH(CU$6,$7:$7,)-1,1,1):OFFSET($B27,0,MATCH(CU$6,$7:$7,)-1,1,1)) -> 12065 | CV27: =SUM(OFFSET($B27,-($B27-1),MATCH(CV$6,$7:$7,)-1,1,1):OFFSET($B27,0,MATCH(CV$6,$7:$7,)-1,1,1)) -> 506 | CW27: =SUM(OFFSET($B27,-($B27-1),MATCH(CW$6,$7:$7,)-1,1,1):OFFSET($B27,0,MATCH(CW$6,$7:$7,)-1,1,1)) -> 1506 | CX27: =SUM(OFFSET($B27,-($B27-1),MATCH(CX$6,$7:$7,)-1,1,1):OFFSET($B27,0,MATCH(CX$6,$7:$7,)-1,1,1)) -> 102022
B28: =IF(MONTH(C28)>=4,(MONTH(C28))-3,(MONTH(C28))+9) -> 4 | C28: 39264 | D28: 48899 | E28: 219 | F28: 64676 | G28: =SUM(D17:D28) -> 587806 | H28: =SUM(E17:E28) -> 2735 | I28: =SUM(F17:F28) -> 784074 | J28: =SUM(OFFSET($B28,-($B28-1),MATCH(J$6,$7:$7,)-1,1,1):OFFSET($B28,0,MATCH(J$6,$7:$7,)-1,1,1)) -> 862 | K28: =SUM(OFFSET($B28,-($B28-1),MATCH(K$6,$7:$7,)-1,1,1):OFFSET($B28,0,MATCH(K$6,$7:$7,)-1,1,1)) -> 253152 | L28: =SUM(OFFSET($B28,-($B28-1),MATCH(L$6,$7:$7,)-1,1,1):OFFSET($B28,0,MATCH(L$6,$7:$7,)-1,1,1)) -> 2332453 | M28: 347497 | N28: 3830 | O28: 458034 | P28: =SUM(M17:M28) -> 4029287 | Q28: =SUM(N17:N28) -> 45785 | R28: =SUM(O17:O28) -> 5385094 | S28: =SUM(OFFSET($B28,-($B28-1),MATCH(S$6,$7:$7,)-1,1,1):OFFSET($B28,0,MATCH(S$6,$7:$7,)-1,1,1)) -> 15149 | T28: =SUM(OFFSET($B28,-($B28-1),MATCH(T$6,$7:$7,)-1,1,1):OFFSET($B28,0,MATCH(T$6,$7:$7,)-1,1,1)) -> 1782333 | U28: =SUM(OFFSET($B28,-($B28-1),MATCH(U$6,$7:$7,)-1,1,1):OFFSET($B28,0,MATCH(U$6,$7:$7,)-1,1,1)) -> 16064104 | AR28: =SUM(V17:V28) -> 0 | AS28: =SUM(W17:W28) -> 0 | AT28: =SUM(X17:X28) -> 0 | AU28: =SUM(Y17:Y28) -> 0 | AV28: =SUM(Z17:Z28) -> 0 | AW28: =SUM(AA17:AA28) -> 0 | AX28: =SUM(AB17:AB28) -> 0 | BN28: =SUM(OFFSET($B28,-($B28-1),MATCH(BN$6,$7:$7,)-1,1,1):OFFSET($B28,0,MATCH(BN$6,$7:$7,)-1,1,1)) -> 0 | BO28: =SUM(OFFSET($B28,-($B28-1),MATCH(BO$6,$7:$7,)-1,1,1):OFFSET($B28,0,MATCH(BO$6,$7:$7,)-1,1,1)) -> 0 | BP28: =SUM(OFFSET($B28,-($B28-1),MATCH(BP$6,$7:$7,)-1,1,1):OFFSET($B28,0,MATCH(BP$6,$7:$7,)-1,1,1)) -> 0 | BQ28: =SUM(OFFSET($B28,-($B28-1),MATCH(BQ$6,$7:$7,)-1,1,1):OFFSET($B28,0,MATCH(BQ$6,$7:$7,)-1,1,1)) -> 0 | BR28: =SUM(OFFSET($B28,-($B28-1),MATCH(BR$6,$7:$7,)-1,1,1):OFFSET($B28,0,MATCH(BR$6,$7:$7,)-1,1,1)) -> 0 | BS28: =SUM(OFFSET($B28,-($B28-1),MATCH(BS$6,$7:$7,)-1,1,1):OFFSET($B28,0,MATCH(BS$6,$7:$7,)-1,1,1)) -> 0 | BT28: =SUM(OFFSET($B28,-($B28-1),MATCH(BT$6,$7:$7,)-1,1,1):OFFSET($B28,0,MATCH(BT$6,$7:$7,)-1,1,1)) -> 0 | BU28: =SUM(OFFSET($B28,-($B28-1),MATCH(BU$6,$7:$7,)-1,1,1):OFFSET($B28,0,MATCH(BU$6,$7:$7,)-1,1,1)) -> 0 | ... CH28: =SUM(OFFSET($B28,-($B28-1),MATCH(CH$6,$7:$7,)-1,1,1):OFFSET($B28,0,MATCH(CH$6,$7:$7,)-1,1,1)) -> 0 | CJ28: 2856 | CK28: 1680 | CL28: 3264 | CM28: 240 | CN28: 360 | CO28: =SUM(CJ17:CJ28) -> 33473 | CP28: =SUM(CK17:CK28) -> 30311 | CQ28: =SUM(CL17:CL28) -> 55524 | CR28: =SUM(CM17:CM28) -> 2135 | CS28: =SUM(CN17:CN28) -> 6602 | CT28: =SUM(OFFSET($B28,-($B28-1),MATCH(CT$6,$7:$7,)-1,1,1):OFFSET($B28,0,MATCH(CT$6,$7:$7,)-1,1,1)) -> 7340 | CU28: =SUM(OFFSET($B28,-($B28-1),MATCH(CU$6,$7:$7,)-1,1,1):OFFSET($B28,0,MATCH(CU$6,$7:$7,)-1,1,1)) -> 15329 | CV28: =SUM(OFFSET($B28,-($B28-1),MATCH(CV$6,$7:$7,)-1,1,1):OFFSET($B28,0,MATCH(CV$6,$7:$7,)-1,1,1)) -> 746 | CW28: =SUM(OFFSET($B28,-($B28-1),MATCH(CW$6,$7:$7,)-1,1,1):OFFSET($B28,0,MATCH(CW$6,$7:$7,)-1,1,1)) -> 1866 | CX28: =SUM(OFFSET($B28,-($B28-1),MATCH(CX$6,$7:$7,)-1,1,1):OFFSET($B28,0,MATCH(CX$6,$7:$7,)-1,1,1)) -> 135495
B29: =IF(MONTH(C29)>=4,(MONTH(C29))-3,(MONTH(C29))+9) -> 5 | C29: 39295 | D29: 46636 | E29: 221 | F29: 64864 | G29: =SUM(D18:D29) -> 590520 | H29: =SUM(E18:E29) -> 2704 | I29: =SUM(F18:F29) -> 778918 | J29: =SUM(OFFSET($B29,-($B29-1),MATCH(J$6,$7:$7,)-1,1,1):OFFSET($B29,0,MATCH(J$6,$7:$7,)-1,1,1)) -> 1083 | K29: =SUM(OFFSET($B29,-($B29-1),MATCH(K$6,$7:$7,)-1,1,1):OFFSET($B29,0,MATCH(K$6,$7:$7,)-1,1,1)) -> 318016 | L29: =SUM(OFFSET($B29,-($B29-1),MATCH(L$6,$7:$7,)-1,1,1):OFFSET($B29,0,MATCH(L$6,$7:$7,)-1,1,1)) -> 2922973 | M29: 346538 | N29: 3868 | O29: 465789 | P29: =SUM(M18:M29) -> 4041348 | Q29: =SUM(N18:N29) -> 45636 | R29: =SUM(O18:O29) -> 5372537 | S29: =SUM(OFFSET($B29,-($B29-1),MATCH(S$6,$7:$7,)-1,1,1):OFFSET($B29,0,MATCH(S$6,$7:$7,)-1,1,1)) -> 19017 | T29: =SUM(OFFSET($B29,-($B29-1),MATCH(T$6,$7:$7,)-1,1,1):OFFSET($B29,0,MATCH(T$6,$7:$7,)-1,1,1)) -> 2248122 | U29: =SUM(OFFSET($B29,-($B29-1),MATCH(U$6,$7:$7,)-1,1,1):OFFSET($B29,0,MATCH(U$6,$7:$7,)-1,1,1)) -> 20105452 | AR29: =SUM(V18:V29) -> 0 | AS29: =SUM(W18:W29) -> 0 | AT29: =SUM(X18:X29) -> 0 | AU29: =SUM(Y18:Y29) -> 0 | AV29: =SUM(Z18:Z29) -> 0 | AW29: =SUM(AA18:AA29) -> 0 | AX29: =SUM(AB18:AB29) -> 0 | BN29: =SUM(OFFSET($B29,-($B29-1),MATCH(BN$6,$7:$7,)-1,1,1):OFFSET($B29,0,MATCH(BN$6,$7:$7,)-1,1,1)) -> 0 | BO29: =SUM(OFFSET($B29,-($B29-1),MATCH(BO$6,$7:$7,)-1,1,1):OFFSET($B29,0,MATCH(BO$6,$7:$7,)-1,1,1)) -> 0 | BP29: =SUM(OFFSET($B29,-($B29-1),MATCH(BP$6,$7:$7,)-1,1,1):OFFSET($B29,0,MATCH(BP$6,$7:$7,)-1,1,1)) -> 0 | BQ29: =SUM(OFFSET($B29,-($B29-1),MATCH(BQ$6,$7:$7,)-1,1,1):OFFSET($B29,0,MATCH(BQ$6,$7:$7,)-1,1,1)) -> 0 | BR29: =SUM(OFFSET($B29,-($B29-1),MATCH(BR$6,$7:$7,)-1,1,1):OFFSET($B29,0,MATCH(BR$6,$7:$7,)-1,1,1)) -> 0 | BS29: =SUM(OFFSET($B29,-($B29-1),MATCH(BS$6,$7:$7,)-1,1,1):OFFSET($B29,0,MATCH(BS$6,$7:$7,)-1,1,1)) -> 0 | BT29: =SUM(OFFSET($B29,-($B29-1),MATCH(BT$6,$7:$7,)-1,1,1):OFFSET($B29,0,MATCH(BT$6,$7:$7,)-1,1,1)) -> 0 | BU29: =SUM(OFFSET($B29,-($B29-1),MATCH(BU$6,$7:$7,)-1,1,1):OFFSET($B29,0,MATCH(BU$6,$7:$7,)-1,1,1)) -> 0 | ... CH29: =SUM(OFFSET($B29,-($B29-1),MATCH(CH$6,$7:$7,)-1,1,1):OFFSET($B29,0,MATCH(CH$6,$7:$7,)-1,1,1)) -> 0 | CJ29: 2926 | CK29: 1430 | CL29: 3322 | CM29: 154 | CN29: 638 | CO29: =SUM(CJ18:CJ29) -> 33732 | CP29: =SUM(CK18:CK29) -> 30418 | CQ29: =SUM(CL18:CL29) -> 55444 | CR29: =SUM(CM18:CM29) -> 2037 | CS29: =SUM(CN18:CN29) -> 6799 | CT29: =SUM(OFFSET($B29,-($B29-1),MATCH(CT$6,$7:$7,)-1,1,1):OFFSET($B29,0,MATCH(CT$6,$7:$7,)-1,1,1)) -> 8770 | CU29: =SUM(OFFSET($B29,-($B29-1),MATCH(CU$6,$7:$7,)-1,1,1):OFFSET($B29,0,MATCH(CU$6,$7:$7,)-1,1,1)) -> 18651 | CV29: =SUM(OFFSET($B29,-($B29-1),MATCH(CV$6,$7:$7,)-1,1,1):OFFSET($B29,0,MATCH(CV$6,$7:$7,)-1,1,1)) -> 900 | CW29: =SUM(OFFSET($B29,-($B29-1),MATCH(CW$6,$7:$7,)-1,1,1):OFFSET($B29,0,MATCH(CW$6,$7:$7,)-1,1,1)) -> 2504 | CX29: =SUM(OFFSET($B29,-($B29-1),MATCH(CX$6,$7:$7,)-1,1,1):OFFSET($B29,0,MATCH(CX$6,$7:$7,)-1,1,1)) -> 169227
B30: =IF(MONTH(C30)>=4,(MONTH(C30))-3,(MONTH(C30))+9) -> 6 | C30: 39326 | D30: 50139 | E30: 214 | F30: 63230 | G30: =SUM(D19:D30) -> 592360 | H30: =SUM(E19:E30) -> 2682 | I30: =SUM(F19:F30) -> 776658 | J30: =SUM(OFFSET($B30,-($B30-1),MATCH(J$6,$7:$7,)-1,1,1):OFFSET($B30,0,MATCH(J$6,$7:$7,)-1,1,1)) -> 1297 | K30: =SUM(OFFSET($B30,-($B30-1),MATCH(K$6,$7:$7,)-1,1,1):OFFSET($B30,0,MATCH(K$6,$7:$7,)-1,1,1)) -> 381246 | L30: =SUM(OFFSET($B30,-($B30-1),MATCH(L$6,$7:$7,)-1,1,1):OFFSET($B30,0,MATCH(L$6,$7:$7,)-1,1,1)) -> 3515333 | M30: 346488 | N30: 3737 | O30: 450780 | P30: =SUM(M19:M30) -> 4051754 | Q30: =SUM(N19:N30) -> 45501 | R30: =SUM(O19:O30) -> 5362601 | S30: =SUM(OFFSET($B30,-($B30-1),MATCH(S$6,$7:$7,)-1,1,1):OFFSET($B30,0,MATCH(S$6,$7:$7,)-1,1,1)) -> 22754 | T30: =SUM(OFFSET($B30,-($B30-1),MATCH(T$6,$7:$7,)-1,1,1):OFFSET($B30,0,MATCH(T$6,$7:$7,)-1,1,1)) -> 2698902 | U30: =SUM(OFFSET($B30,-($B30-1),MATCH(U$6,$7:$7,)-1,1,1):OFFSET($B30,0,MATCH(U$6,$7:$7,)-1,1,1)) -> 24157206 | AR30: =SUM(V19:V30) -> 0 | AS30: =SUM(W19:W30) -> 0 | AT30: =SUM(X19:X30) -> 0 | AU30: =SUM(Y19:Y30) -> 0 | AV30: =SUM(Z19:Z30) -> 0 | AW30: =SUM(AA19:AA30) -> 0 | AX30: =SUM(AB19:AB30) -> 0 | BN30: =SUM(OFFSET($B30,-($B30-1),MATCH(BN$6,$7:$7,)-1,1,1):OFFSET($B30,0,MATCH(BN$6,$7:$7,)-1,1,1)) -> 0 | BO30: =SUM(OFFSET($B30,-($B30-1),MATCH(BO$6,$7:$7,)-1,1,1):OFFSET($B30,0,MATCH(BO$6,$7:$7,)-1,1,1)) -> 0 | BP30: =SUM(OFFSET($B30,-($B30-1),MATCH(BP$6,$7:$7,)-1,1,1):OFFSET($B30,0,MATCH(BP$6,$7:$7,)-1,1,1)) -> 0 | BQ30: =SUM(OFFSET($B30,-($B30-1),MATCH(BQ$6,$7:$7,)-1,1,1):OFFSET($B30,0,MATCH(BQ$6,$7:$7,)-1,1,1)) -> 0 | BR30: =SUM(OFFSET($B30,-($B30-1),MATCH(BR$6,$7:$7,)-1,1,1):OFFSET($B30,0,MATCH(BR$6,$7:$7,)-1,1,1)) -> 0 | BS30: =SUM(OFFSET($B30,-($B30-1),MATCH(BS$6,$7:$7,)-1,1,1):OFFSET($B30,0,MATCH(BS$6,$7:$7,)-1,1,1)) -> 0 | BT30: =SUM(OFFSET($B30,-($B30-1),MATCH(BT$6,$7:$7,)-1,1,1):OFFSET($B30,0,MATCH(BT$6,$7:$7,)-1,1,1)) -> 0 | BU30: =SUM(OFFSET($B30,-($B30-1),MATCH(BU$6,$7:$7,)-1,1,1):OFFSET($B30,0,MATCH(BU$6,$7:$7,)-1,1,1)) -> 0 | ... CH30: =SUM(OFFSET($B30,-($B30-1),MATCH(CH$6,$7:$7,)-1,1,1):OFFSET($B30,0,MATCH(CH$6,$7:$7,)-1,1,1)) -> 0 | CJ30: 2898 | CK30: 2438 | CL30: 3358 | CM30: 230 | CN30: 552 | CO30: =SUM(CJ19:CJ30) -> 33753 | CP30: =SUM(CK19:CK30) -> 30756 | CQ30: =SUM(CL19:CL30) -> 55295 | CR30: =SUM(CM19:CM30) -> 2078 | CS30: =SUM(CN19:CN30) -> 6742 | CT30: =SUM(OFFSET($B30,-($B30-1),MATCH(CT$6,$7:$7,)-1,1,1):OFFSET($B30,0,MATCH(CT$6,$7:$7,)-1,1,1)) -> 11208 | CU30: =SUM(OFFSET($B30,-($B30-1),MATCH(CU$6,$7:$7,)-1,1,1):OFFSET($B30,0,MATCH(CU$6,$7:$7,)-1,1,1)) -> 22009 | CV30: =SUM(OFFSET($B30,-($B30-1),MATCH(CV$6,$7:$7,)-1,1,1):OFFSET($B30,0,MATCH(CV$6,$7:$7,)-1,1,1)) -> 1130 | CW30: =SUM(OFFSET($B30,-($B30-1),MATCH(CW$6,$7:$7,)-1,1,1):OFFSET($B30,0,MATCH(CW$6,$7:$7,)-1,1,1)) -> 3056 | CX30: =SUM(OFFSET($B30,-($B30-1),MATCH(CX$6,$7:$7,)-1,1,1):OFFSET($B30,0,MATCH(CX$6,$7:$7,)-1,1,1)) -> 202980
B31: =IF(MONTH(C31)>=4,(MONTH(C31))-3,(MONTH(C31))+9) -> 7 | C31: 39356 | D31: 53319 | E31: 216 | F31: 63130 | G31: =SUM(D20:D31) -> 593669 | H31: =SUM(E20:E31) -> 2643 | I31: =SUM(F20:F31) -> 771234 | J31: =SUM(OFFSET($B31,-($B31-1),MATCH(J$6,$7:$7,)-1,1,1):OFFSET($B31,0,MATCH(J$6,$7:$7,)-1,1,1)) -> 1513 | K31: =SUM(OFFSET($B31,-($B31-1),MATCH(K$6,$7:$7,)-1,1,1):OFFSET($B31,0,MATCH(K$6,$7:$7,)-1,1,1)) -> 444376 | L31: =SUM(OFFSET($B31,-($B31-1),MATCH(L$6,$7:$7,)-1,1,1):OFFSET($B31,0,MATCH(L$6,$7:$7,)-1,1,1)) -> 4109002 | M31: 347165 | N31: 3841 | O31: 465955 | P31: =SUM(M20:M31) -> 4061829 | Q31: =SUM(N20:N31) -> 45519 | R31: =SUM(O20:O31) -> 5372258 | S31: =SUM(OFFSET($B31,-($B31-1),MATCH(S$6,$7:$7,)-1,1,1):OFFSET($B31,0,MATCH(S$6,$7:$7,)-1,1,1)) -> 26595 | T31: =SUM(OFFSET($B31,-($B31-1),MATCH(T$6,$7:$7,)-1,1,1):OFFSET($B31,0,MATCH(T$6,$7:$7,)-1,1,1)) -> 3164857 | U31: =SUM(OFFSET($B31,-($B31-1),MATCH(U$6,$7:$7,)-1,1,1):OFFSET($B31,0,MATCH(U$6,$7:$7,)-1,1,1)) -> 28219035 | AR31: =SUM(V20:V31) -> 0 | AS31: =SUM(W20:W31) -> 0 | AT31: =SUM(X20:X31) -> 0 | AU31: =SUM(Y20:Y31) -> 0 | AV31: =SUM(Z20:Z31) -> 0 | AW31: =SUM(AA20:AA31) -> 0 | AX31: =SUM(AB20:AB31) -> 0 | BN31: =SUM(OFFSET($B31,-($B31-1),MATCH(BN$6,$7:$7,)-1,1,1):OFFSET($B31,0,MATCH(BN$6,$7:$7,)-1,1,1)) -> 0 | BO31: =SUM(OFFSET($B31,-($B31-1),MATCH(BO$6,$7:$7,)-1,1,1):OFFSET($B31,0,MATCH(BO$6,$7:$7,)-1,1,1)) -> 0 | BP31: =SUM(OFFSET($B31,-($B31-1),MATCH(BP$6,$7:$7,)-1,1,1):OFFSET($B31,0,MATCH(BP$6,$7:$7,)-1,1,1)) -> 0 | BQ31: =SUM(OFFSET($B31,-($B31-1),MATCH(BQ$6,$7:$7,)-1,1,1):OFFSET($B31,0,MATCH(BQ$6,$7:$7,)-1,1,1)) -> 0 | BR31: =SUM(OFFSET($B31,-($B31-1),MATCH(BR$6,$7:$7,)-1,1,1):OFFSET($B31,0,MATCH(BR$6,$7:$7,)-1,1,1)) -> 0 | BS31: =SUM(OFFSET($B31,-($B31-1),MATCH(BS$6,$7:$7,)-1,1,1):OFFSET($B31,0,MATCH(BS$6,$7:$7,)-1,1,1)) -> 0 | BT31: =SUM(OFFSET($B31,-($B31-1),MATCH(BT$6,$7:$7,)-1,1,1):OFFSET($B31,0,MATCH(BT$6,$7:$7,)-1,1,1)) -> 0 | BU31: =SUM(OFFSET($B31,-($B31-1),MATCH(BU$6,$7:$7,)-1,1,1):OFFSET($B31,0,MATCH(BU$6,$7:$7,)-1,1,1)) -> 0 | ... CH31: =SUM(OFFSET($B31,-($B31-1),MATCH(CH$6,$7:$7,)-1,1,1):OFFSET($B31,0,MATCH(CH$6,$7:$7,)-1,1,1)) -> 0 | CJ31: 2990 | CK31: 1909 | CL31: 3795 | CM31: 92 | CN31: 552 | CO31: =SUM(CJ20:CJ31) -> 33377 | CP31: =SUM(CK20:CK31) -> 30575 | CQ31: =SUM(CL20:CL31) -> 55526 | CR31: =SUM(CM20:CM31) -> 2126 | CS31: =SUM(CN20:CN31) -> 6744 | CT31: =SUM(OFFSET($B31,-($B31-1),MATCH(CT$6,$7:$7,)-1,1,1):OFFSET($B31,0,MATCH(CT$6,$7:$7,)-1,1,1)) -> 13117 | CU31: =SUM(OFFSET($B31,-($B31-1),MATCH(CU$6,$7:$7,)-1,1,1):OFFSET($B31,0,MATCH(CU$6,$7:$7,)-1,1,1)) -> 25804 | CV31: =SUM(OFFSET($B31,-($B31-1),MATCH(CV$6,$7:$7,)-1,1,1):OFFSET($B31,0,MATCH(CV$6,$7:$7,)-1,1,1)) -> 1222 | CW31: =SUM(OFFSET($B31,-($B31-1),MATCH(CW$6,$7:$7,)-1,1,1):OFFSET($B31,0,MATCH(CW$6,$7:$7,)-1,1,1)) -> 3608 | CX31: =SUM(OFFSET($B31,-($B31-1),MATCH(CX$6,$7:$7,)-1,1,1):OFFSET($B31,0,MATCH(CX$6,$7:$7,)-1,1,1)) -> 236357
B32: =IF(MONTH(C32)>=4,(MONTH(C32))-3,(MONTH(C32))+9) -> 8 | C32: 39387 | D32: 49198 | E32: 216 | F32: 61432 | G32: =SUM(D21:D32) -> 593509 | H32: =SUM(E21:E32) -> 2637 | I32: =SUM(F21:F32) -> 767020 | J32: =SUM(OFFSET($B32,-($B32-1),MATCH(J$6,$7:$7,)-1,1,1):OFFSET($B32,0,MATCH(J$6,$7:$7,)-1,1,1)) -> 1729 | K32: =SUM(OFFSET($B32,-($B32-1),MATCH(K$6,$7:$7,)-1,1,1):OFFSET($B32,0,MATCH(K$6,$7:$7,)-1,1,1)) -> 505808 | L32: =SUM(OFFSET($B32,-($B32-1),MATCH(L$6,$7:$7,)-1,1,1):OFFSET($B32,0,MATCH(L$6,$7:$7,)-1,1,1)) -> 4702511 | M32: 403474 | N32: 4053 | O32: 531845 | P32: =SUM(M21:M32) -> 4114240 | Q32: =SUM(N21:N32) -> 45727 | R32: =SUM(O21:O32) -> 5441679 | S32: =SUM(OFFSET($B32,-($B32-1),MATCH(S$6,$7:$7,)-1,1,1):OFFSET($B32,0,MATCH(S$6,$7:$7,)-1,1,1)) -> 30648 | T32: =SUM(OFFSET($B32,-($B32-1),MATCH(T$6,$7:$7,)-1,1,1):OFFSET($B32,0,MATCH(T$6,$7:$7,)-1,1,1)) -> 3696702 | U32: =SUM(OFFSET($B32,-($B32-1),MATCH(U$6,$7:$7,)-1,1,1):OFFSET($B32,0,MATCH(U$6,$7:$7,)-1,1,1)) -> 32333275 | AR32: =SUM(V21:V32) -> 0 | AS32: =SUM(W21:W32) -> 0 | AT32: =SUM(X21:X32) -> 0 | AU32: =SUM(Y21:Y32) -> 0 | AV32: =SUM(Z21:Z32) -> 0 | AW32: =SUM(AA21:AA32) -> 0 | AX32: =SUM(AB21:AB32) -> 0 | BN32: =SUM(OFFSET($B32,-($B32-1),MATCH(BN$6,$7:$7,)-1,1,1):OFFSET($B32,0,MATCH(BN$6,$7:$7,)-1,1,1)) -> 0 | BO32: =SUM(OFFSET($B32,-($B32-1),MATCH(BO$6,$7:$7,)-1,1,1):OFFSET($B32,0,MATCH(BO$6,$7:$7,)-1,1,1)) -> 0 | BP32: =SUM(OFFSET($B32,-($B32-1),MATCH(BP$6,$7:$7,)-1,1,1):OFFSET($B32,0,MATCH(BP$6,$7:$7,)-1,1,1)) -> 0 | BQ32: =SUM(OFFSET($B32,-($B32-1),MATCH(BQ$6,$7:$7,)-1,1,1):OFFSET($B32,0,MATCH(BQ$6,$7:$7,)-1,1,1)) -> 0 | BR32: =SUM(OFFSET($B32,-($B32-1),MATCH(BR$6,$7:$7,)-1,1,1):OFFSET($B32,0,MATCH(BR$6,$7:$7,)-1,1,1)) -> 0 | BS32: =SUM(OFFSET($B32,-($B32-1),MATCH(BS$6,$7:$7,)-1,1,1):OFFSET($B32,0,MATCH(BS$6,$7:$7,)-1,1,1)) -> 0 | BT32: =SUM(OFFSET($B32,-($B32-1),MATCH(BT$6,$7:$7,)-1,1,1):OFFSET($B32,0,MATCH(BT$6,$7:$7,)-1,1,1)) -> 0 | BU32: =SUM(OFFSET($B32,-($B32-1),MATCH(BU$6,$7:$7,)-1,1,1):OFFSET($B32,0,MATCH(BU$6,$7:$7,)-1,1,1)) -> 0 | ... CH32: =SUM(OFFSET($B32,-($B32-1),MATCH(CH$6,$7:$7,)-1,1,1):OFFSET($B32,0,MATCH(CH$6,$7:$7,)-1,1,1)) -> 0 | CJ32: 2976 | CK32: 2688 | CL32: 4056 | CM32: 96 | CN32: 480 | CO32: =SUM(CJ21:CJ32) -> 32701 | CP32: =SUM(CK21:CK32) -> 30513 | CQ32: =SUM(CL21:CL32) -> 55248 | CR32: =SUM(CM21:CM32) -> 2112 | CS32: =SUM(CN21:CN32) -> 6652 | CT32: =SUM(OFFSET($B32,-($B32-1),MATCH(CT$6,$7:$7,)-1,1,1):OFFSET($B32,0,MATCH(CT$6,$7:$7,)-1,1,1)) -> 15805 | CU32: =SUM(OFFSET($B32,-($B32-1),MATCH(CU$6,$7:$7,)-1,1,1):OFFSET($B32,0,MATCH(CU$6,$7:$7,)-1,1,1)) -> 29860 | CV32: =SUM(OFFSET($B32,-($B32-1),MATCH(CV$6,$7:$7,)-1,1,1):OFFSET($B32,0,MATCH(CV$6,$7:$7,)-1,1,1)) -> 1318 | CW32: =SUM(OFFSET($B32,-($B32-1),MATCH(CW$6,$7:$7,)-1,1,1):OFFSET($B32,0,MATCH(CW$6,$7:$7,)-1,1,1)) -> 4088 | CX32: =SUM(OFFSET($B32,-($B32-1),MATCH(CX$6,$7:$7,)-1,1,1):OFFSET($B32,0,MATCH(CX$6,$7:$7,)-1,1,1)) -> 269058
B33: =IF(MONTH(C33)>=4,(MONTH(C33))-3,(MONTH(C33))+9) -> 9 | C33: 39417 | D33: 53935 | E33: 233 | F33: 67196 | G33: =SUM(D22:D33) -> 594894 | H33: =SUM(E22:E33) -> 2634 | I33: =SUM(F22:F33) -> 766034 | J33: =SUM(OFFSET($B33,-($B33-1),MATCH(J$6,$7:$7,)-1,1,1):OFFSET($B33,0,MATCH(J$6,$7:$7,)-1,1,1)) -> 1962 | K33: =SUM(OFFSET($B33,-($B33-1),MATCH(K$6,$7:$7,)-1,1,1):OFFSET($B33,0,MATCH(K$6,$7:$7,)-1,1,1)) -> 573004 | L33: =SUM(OFFSET($B33,-($B33-1),MATCH(L$6,$7:$7,)-1,1,1):OFFSET($B33,0,MATCH(L$6,$7:$7,)-1,1,1)) -> 5297405 | M33: 395149 | N33: 4018 | O33: 539921 | P33: =SUM(M22:M33) -> 4178409 | Q33: =SUM(N22:N33) -> 45973 | R33: =SUM(O22:O33) -> 5542368 | S33: =SUM(OFFSET($B33,-($B33-1),MATCH(S$6,$7:$7,)-1,1,1):OFFSET($B33,0,MATCH(S$6,$7:$7,)-1,1,1)) -> 34666 | T33: =SUM(OFFSET($B33,-($B33-1),MATCH(T$6,$7:$7,)-1,1,1):OFFSET($B33,0,MATCH(T$6,$7:$7,)-1,1,1)) -> 4236623 | U33: =SUM(OFFSET($B33,-($B33-1),MATCH(U$6,$7:$7,)-1,1,1):OFFSET($B33,0,MATCH(U$6,$7:$7,)-1,1,1)) -> 36511684 | V33: 722 | W33: 14126 | X33: 1729 | Y33: 10102 | Z33: 947 | AA33: 0 | AB33: 552 | AR33: =SUM(V22:V33) -> 722 | AS33: =SUM(W22:W33) -> 14126 | AT33: =SUM(X22:X33) -> 1729 | AU33: =SUM(Y22:Y33) -> 10102 | AV33: =SUM(Z22:Z33) -> 947 | AW33: =SUM(AA22:AA33) -> 0 | AX33: =SUM(AB22:AB33) -> 552 | BN33: =SUM(OFFSET($B33,-($B33-1),MATCH(BN$6,$7:$7,)-1,1,1):OFFSET($B33,0,MATCH(BN$6,$7:$7,)-1,1,1)) -> 14126 | BO33: =SUM(OFFSET($B33,-($B33-1),MATCH(BO$6,$7:$7,)-1,1,1):OFFSET($B33,0,MATCH(BO$6,$7:$7,)-1,1,1)) -> 1729 | BP33: =SUM(OFFSET($B33,-($B33-1),MATCH(BP$6,$7:$7,)-1,1,1):OFFSET($B33,0,MATCH(BP$6,$7:$7,)-1,1,1)) -> 10102 | BQ33: =SUM(OFFSET($B33,-($B33-1),MATCH(BQ$6,$7:$7,)-1,1,1):OFFSET($B33,0,MATCH(BQ$6,$7:$7,)-1,1,1)) -> 947 | BR33: =SUM(OFFSET($B33,-($B33-1),MATCH(BR$6,$7:$7,)-1,1,1):OFFSET($B33,0,MATCH(BR$6,$7:$7,)-1,1,1)) -> 0 | BS33: =SUM(OFFSET($B33,-($B33-1),MATCH(BS$6,$7:$7,)-1,1,1):OFFSET($B33,0,MATCH(BS$6,$7:$7,)-1,1,1)) -> 552 | BT33: =SUM(OFFSET($B33,-($B33-1),MATCH(BT$6,$7:$7,)-1,1,1):OFFSET($B33,0,MATCH(BT$6,$7:$7,)-1,1,1)) -> 0 | BU33: =SUM(OFFSET($B33,-($B33-1),MATCH(BU$6,$7:$7,)-1,1,1):OFFSET($B33,0,MATCH(BU$6,$7:$7,)-1,1,1)) -> 0 | ... CH33: =SUM(OFFSET($B33,-($B33-1),MATCH(CH$6,$7:$7,)-1,1,1):OFFSET($B33,0,MATCH(CH$6,$7:$7,)-1,1,1)) -> 0 | CJ33: 2187 | CK33: 4158 | CL33: 10611 | CM33: 81 | CN33: 918 | CO33: =SUM(CJ22:CJ33) -> 32756 | CP33: =SUM(CK22:CK33) -> 30225 | CQ33: =SUM(CL22:CL33) -> 56161 | CR33: =SUM(CM22:CM33) -> 2167 | CS33: =SUM(CN22:CN33) -> 6816 | CT33: =SUM(OFFSET($B33,-($B33-1),MATCH(CT$6,$7:$7,)-1,1,1):OFFSET($B33,0,MATCH(CT$6,$7:$7,)-1,1,1)) -> 19963 | CU33: =SUM(OFFSET($B33,-($B33-1),MATCH(CU$6,$7:$7,)-1,1,1):OFFSET($B33,0,MATCH(CU$6,$7:$7,)-1,1,1)) -> 40471 | CV33: =SUM(OFFSET($B33,-($B33-1),MATCH(CV$6,$7:$7,)-1,1,1):OFFSET($B33,0,MATCH(CV$6,$7:$7,)-1,1,1)) -> 1399 | CW33: =SUM(OFFSET($B33,-($B33-1),MATCH(CW$6,$7:$7,)-1,1,1):OFFSET($B33,0,MATCH(CW$6,$7:$7,)-1,1,1)) -> 5006 | CX33: =SUM(OFFSET($B33,-($B33-1),MATCH(CX$6,$7:$7,)-1,1,1):OFFSET($B33,0,MATCH(CX$6,$7:$7,)-1,1,1)) -> 301814
B34: =IF(MONTH(C34)>=4,(MONTH(C34))-3,(MONTH(C34))+9) -> 10 | C34: 39448 | D34: 54414 | E34: 227 | F34: 65836 | G34: =SUM(D23:D34) -> 595629 | H34: =SUM(E23:E34) -> 2632 | I34: =SUM(F23:F34) -> 766190 | J34: =SUM(OFFSET($B34,-($B34-1),MATCH(J$6,$7:$7,)-1,1,1):OFFSET($B34,0,MATCH(J$6,$7:$7,)-1,1,1)) -> 2189 | K34: =SUM(OFFSET($B34,-($B34-1),MATCH(K$6,$7:$7,)-1,1,1):OFFSET($B34,0,MATCH(K$6,$7:$7,)-1,1,1)) -> 638840 | L34: =SUM(OFFSET($B34,-($B34-1),MATCH(L$6,$7:$7,)-1,1,1):OFFSET($B34,0,MATCH(L$6,$7:$7,)-1,1,1)) -> 5893034 | M34: 374495 | N34: 3825 | O34: 506304 | P34: =SUM(M23:M34) -> 4269616 | Q34: =SUM(N23:N34) -> 46212 | R34: =SUM(O23:O34) -> 5655495 | S34: =SUM(OFFSET($B34,-($B34-1),MATCH(S$6,$7:$7,)-1,1,1):OFFSET($B34,0,MATCH(S$6,$7:$7,)-1,1,1)) -> 38491 | T34: =SUM(OFFSET($B34,-($B34-1),MATCH(T$6,$7:$7,)-1,1,1):OFFSET($B34,0,MATCH(T$6,$7:$7,)-1,1,1)) -> 4742927 | U34: =SUM(OFFSET($B34,-($B34-1),MATCH(U$6,$7:$7,)-1,1,1):OFFSET($B34,0,MATCH(U$6,$7:$7,)-1,1,1)) -> 40781300 | V34: 435 | W34: 7543 | X34: 2379 | Y34: 15315 | Z34: 855 | AA34: 0 | AB34: 414 | AR34: =SUM(V23:V34) -> 1157 | AS34: =SUM(W23:W34) -> 21669 | AT34: =SUM(X23:X34) -> 4108 | AU34: =SUM(Y23:Y34) -> 25417 | AV34: =SUM(Z23:Z34) -> 1802 | AW34: =SUM(AA23:AA34) -> 0 | AX34: =SUM(AB23:AB34) -> 966 | BN34: =SUM(OFFSET($B34,-($B34-1),MATCH(BN$6,$7:$7,)-1,1,1):OFFSET($B34,0,MATCH(BN$6,$7:$7,)-1,1,1)) -> 21669 | BO34: =SUM(OFFSET($B34,-($B34-1),MATCH(BO$6,$7:$7,)-1,1,1):OFFSET($B34,0,MATCH(BO$6,$7:$7,)-1,1,1)) -> 4108 | BP34: =SUM(OFFSET($B34,-($B34-1),MATCH(BP$6,$7:$7,)-1,1,1):OFFSET($B34,0,MATCH(BP$6,$7:$7,)-1,1,1)) -> 25417 | BQ34: =SUM(OFFSET($B34,-($B34-1),MATCH(BQ$6,$7:$7,)-1,1,1):OFFSET($B34,0,MATCH(BQ$6,$7:$7,)-1,1,1)) -> 1802 | BR34: =SUM(OFFSET($B34,-($B34-1),MATCH(BR$6,$7:$7,)-1,1,1):OFFSET($B34,0,MATCH(BR$6,$7:$7,)-1,1,1)) -> 0 | BS34: =SUM(OFFSET($B34,-($B34-1),MATCH(BS$6,$7:$7,)-1,1,1):OFFSET($B34,0,MATCH(BS$6,$7:$7,)-1,1,1)) -> 966 | BT34: =SUM(OFFSET($B34,-($B34-1),MATCH(BT$6,$7:$7,)-1,1,1):OFFSET($B34,0,MATCH(BT$6,$7:$7,)-1,1,1)) -> 0 | BU34: =SUM(OFFSET($B34,-($B34-1),MATCH(BU$6,$7:$7,)-1,1,1):OFFSET($B34,0,MATCH(BU$6,$7:$7,)-1,1,1)) -> 0 | ... CH34: =SUM(OFFSET($B34,-($B34-1),MATCH(CH$6,$7:$7,)-1,1,1):OFFSET($B34,0,MATCH(CH$6,$7:$7,)-1,1,1)) -> 0 | CJ34: 2030 | CK34: 3770 | CL34: 4785 | CM34: 174 | CN34: 725 | CO34: =SUM(CJ23:CJ34) -> 33246 | CP34: =SUM(CK23:CK34) -> 30495 | CQ34: =SUM(CL23:CL34) -> 55514 | CR34: =SUM(CM23:CM34) -> 2033 | CS34: =SUM(CN23:CN34) -> 7065 | CT34: =SUM(OFFSET($B34,-($B34-1),MATCH(CT$6,$7:$7,)-1,1,1):OFFSET($B34,0,MATCH(CT$6,$7:$7,)-1,1,1)) -> 23733 | CU34: =SUM(OFFSET($B34,-($B34-1),MATCH(CU$6,$7:$7,)-1,1,1):OFFSET($B34,0,MATCH(CU$6,$7:$7,)-1,1,1)) -> 45256 | CV34: =SUM(OFFSET($B34,-($B34-1),MATCH(CV$6,$7:$7,)-1,1,1):OFFSET($B34,0,MATCH(CV$6,$7:$7,)-1,1,1)) -> 1573 | CW34: =SUM(OFFSET($B34,-($B34-1),MATCH(CW$6,$7:$7,)-1,1,1):OFFSET($B34,0,MATCH(CW$6,$7:$7,)-1,1,1)) -> 5731 | CX34: =SUM(OFFSET($B34,-($B34-1),MATCH(CX$6,$7:$7,)-1,1,1):OFFSET($B34,0,MATCH(CX$6,$7:$7,)-1,1,1)) -> 335060
B35: =IF(MONTH(C35)>=4,(MONTH(C35))-3,(MONTH(C35))+9) -> 11 | C35: 39479 | D35: 49849 | E35: 216 | F35: 62054 | G35: =SUM(D24:D35) -> 598822 | H35: =SUM(E24:E35) -> 2637 | I35: =SUM(F24:F35) -> 768104 | J35: =SUM(OFFSET($B35,-($B35-1),MATCH(J$6,$7:$7,)-1,1,1):OFFSET($B35,0,MATCH(J$6,$7:$7,)-1,1,1)) -> 2405 | K35: =SUM(OFFSET($B35,-($B35-1),MATCH(K$6,$7:$7,)-1,1,1):OFFSET($B35,0,MATCH(K$6,$7:$7,)-1,1,1)) -> 700894 | L35: =SUM(OFFSET($B35,-($B35-1),MATCH(L$6,$7:$7,)-1,1,1):OFFSET($B35,0,MATCH(L$6,$7:$7,)-1,1,1)) -> 6491856 | M35: 414072 | N35: 4092 | O35: 558645 | P35: =SUM(M24:M35) -> 4346644 | Q35: =SUM(N24:N35) -> 46614 | R35: =SUM(O24:O35) -> 5777355 | S35: =SUM(OFFSET($B35,-($B35-1),MATCH(S$6,$7:$7,)-1,1,1):OFFSET($B35,0,MATCH(S$6,$7:$7,)-1,1,1)) -> 42583 | T35: =SUM(OFFSET($B35,-($B35-1),MATCH(T$6,$7:$7,)-1,1,1):OFFSET($B35,0,MATCH(T$6,$7:$7,)-1,1,1)) -> 5301572 | U35: =SUM(OFFSET($B35,-($B35-1),MATCH(U$6,$7:$7,)-1,1,1):OFFSET($B35,0,MATCH(U$6,$7:$7,)-1,1,1)) -> 45127944 | V35: 867 | W35: 9231 | X35: 2538 | Y35: 11500 | Z35: 960 | AA35: 23 | AB35: 868 | AR35: =SUM(V24:V35) -> 2024 | AS35: =SUM(W24:W35) -> 30900 | AT35: =SUM(X24:X35) -> 6646 | AU35: =SUM(Y24:Y35) -> 36917 | AV35: =SUM(Z24:Z35) -> 2762 | AW35: =SUM(AA24:AA35) -> 23 | AX35: =SUM(AB24:AB35) -> 1834 | BN35: =SUM(OFFSET($B35,-($B35-1),MATCH(BN$6,$7:$7,)-1,1,1):OFFSET($B35,0,MATCH(BN$6,$7:$7,)-1,1,1)) -> 30900 | BO35: =SUM(OFFSET($B35,-($B35-1),MATCH(BO$6,$7:$7,)-1,1,1):OFFSET($B35,0,MATCH(BO$6,$7:$7,)-1,1,1)) -> 6646 | BP35: =SUM(OFFSET($B35,-($B35-1),MATCH(BP$6,$7:$7,)-1,1,1):OFFSET($B35,0,MATCH(BP$6,$7:$7,)-1,1,1)) -> 36917 | BQ35: =SUM(OFFSET($B35,-($B35-1),MATCH(BQ$6,$7:$7,)-1,1,1):OFFSET($B35,0,MATCH(BQ$6,$7:$7,)-1,1,1)) -> 2762 | BR35: =SUM(OFFSET($B35,-($B35-1),MATCH(BR$6,$7:$7,)-1,1,1):OFFSET($B35,0,MATCH(BR$6,$7:$7,)-1,1,1)) -> 23 | BS35: =SUM(OFFSET($B35,-($B35-1),MATCH(BS$6,$7:$7,)-1,1,1):OFFSET($B35,0,MATCH(BS$6,$7:$7,)-1,1,1)) -> 1834 | BT35: =SUM(OFFSET($B35,-($B35-1),MATCH(BT$6,$7:$7,)-1,1,1):OFFSET($B35,0,MATCH(BT$6,$7:$7,)-1,1,1)) -> 0 | BU35: =SUM(OFFSET($B35,-($B35-1),MATCH(BU$6,$7:$7,)-1,1,1):OFFSET($B35,0,MATCH(BU$6,$7:$7,)-1,1,1)) -> 0 | ... CH35: =SUM(OFFSET($B35,-($B35-1),MATCH(CH$6,$7:$7,)-1,1,1):OFFSET($B35,0,MATCH(CH$6,$7:$7,)-1,1,1)) -> 0 | CJ35: 2760 | CK35: 4117 | CL35: 6210 | CM35: 276 | CN35: 828 | CO35: =SUM(CJ24:CJ35) -> 32947 | CP35: =SUM(CK24:CK35) -> 30932 | CQ35: =SUM(CL24:CL35) -> 56112 | CR35: =SUM(CM24:CM35) -> 2033 | CS35: =SUM(CN24:CN35) -> 7157 | CT35: =SUM(OFFSET($B35,-($B35-1),MATCH(CT$6,$7:$7,)-1,1,1):OFFSET($B35,0,MATCH(CT$6,$7:$7,)-1,1,1)) -> 27850 | CU35: =SUM(OFFSET($B35,-($B35-1),MATCH(CU$6,$7:$7,)-1,1,1):OFFSET($B35,0,MATCH(CU$6,$7:$7,)-1,1,1)) -> 51466 | CV35: =SUM(OFFSET($B35,-($B35-1),MATCH(CV$6,$7:$7,)-1,1,1):OFFSET($B35,0,MATCH(CV$6,$7:$7,)-1,1,1)) -> 1849 | CW35: =SUM(OFFSET($B35,-($B35-1),MATCH(CW$6,$7:$7,)-1,1,1):OFFSET($B35,0,MATCH(CW$6,$7:$7,)-1,1,1)) -> 6559 | CX35: =SUM(OFFSET($B35,-($B35-1),MATCH(CX$6,$7:$7,)-1,1,1):OFFSET($B35,0,MATCH(CX$6,$7:$7,)-1,1,1)) -> 368007
B36: =IF(MONTH(C36)>=4,(MONTH(C36))-3,(MONTH(C36))+9) -> 12 | C36: 39508 | D36: 54375 | E36: 230 | F36: 66018 | G36: =SUM(D25:D36) -> 603344 | H36: =SUM(E25:E36) -> 2635 | I36: =SUM(F25:F36) -> 766912 | J36: =SUM(OFFSET($B36,-($B36-1),MATCH(J$6,$7:$7,)-1,1,1):OFFSET($B36,0,MATCH(J$6,$7:$7,)-1,1,1)) -> 2635 | K36: =SUM(OFFSET($B36,-($B36-1),MATCH(K$6,$7:$7,)-1,1,1):OFFSET($B36,0,MATCH(K$6,$7:$7,)-1,1,1)) -> 766912 | L36: =SUM(OFFSET($B36,-($B36-1),MATCH(L$6,$7:$7,)-1,1,1):OFFSET($B36,0,MATCH(L$6,$7:$7,)-1,1,1)) -> 7095200 | M36: 439096 | N36: 4252 | O36: 586137 | P36: =SUM(M25:M36) -> 4416097 | Q36: =SUM(N25:N36) -> 46835 | R36: =SUM(O25:O36) -> 5887709 | S36: =SUM(OFFSET($B36,-($B36-1),MATCH(S$6,$7:$7,)-1,1,1):OFFSET($B36,0,MATCH(S$6,$7:$7,)-1,1,1)) -> 46835 | T36: =SUM(OFFSET($B36,-($B36-1),MATCH(T$6,$7:$7,)-1,1,1):OFFSET($B36,0,MATCH(T$6,$7:$7,)-1,1,1)) -> 5887709 | U36: =SUM(OFFSET($B36,-($B36-1),MATCH(U$6,$7:$7,)-1,1,1):OFFSET($B36,0,MATCH(U$6,$7:$7,)-1,1,1)) -> 49544041 | V36: 863 | W36: 10148 | X36: 1903 | Y36: 12850 | Z36: 667 | AA36: 51 | AB36: 628 | AR36: =SUM(V25:V36) -> 2887 | AS36: =SUM(W25:W36) -> 41048 | AT36: =SUM(X25:X36) -> 8549 | AU36: =SUM(Y25:Y36) -> 49767 | AV36: =SUM(Z25:Z36) -> 3429 | AW36: =SUM(AA25:AA36) -> 74 | AX36: =SUM(AB25:AB36) -> 2462 | BN36: =SUM(OFFSET($B36,-($B36-1),MATCH(BN$6,$7:$7,)-1,1,1):OFFSET($B36,0,MATCH(BN$6,$7:$7,)-1,1,1)) -> 41048 | BO36: =SUM(OFFSET($B36,-($B36-1),MATCH(BO$6,$7:$7,)-1,1,1):OFFSET($B36,0,MATCH(BO$6,$7:$7,)-1,1,1)) -> 8549 | BP36: =SUM(OFFSET($B36,-($B36-1),MATCH(BP$6,$7:$7,)-1,1,1):OFFSET($B36,0,MATCH(BP$6,$7:$7,)-1,1,1)) -> 49767 | BQ36: =SUM(OFFSET($B36,-($B36-1),MATCH(BQ$6,$7:$7,)-1,1,1):OFFSET($B36,0,MATCH(BQ$6,$7:$7,)-1,1,1)) -> 3429 | BR36: =SUM(OFFSET($B36,-($B36-1),MATCH(BR$6,$7:$7,)-1,1,1):OFFSET($B36,0,MATCH(BR$6,$7:$7,)-1,1,1)) -> 74 | BS36: =SUM(OFFSET($B36,-($B36-1),MATCH(BS$6,$7:$7,)-1,1,1):OFFSET($B36,0,MATCH(BS$6,$7:$7,)-1,1,1)) -> 2462 | BT36: =SUM(OFFSET($B36,-($B36-1),MATCH(BT$6,$7:$7,)-1,1,1):OFFSET($B36,0,MATCH(BT$6,$7:$7,)-1,1,1)) -> 0 | BU36: =SUM(OFFSET($B36,-($B36-1),MATCH(BU$6,$7:$7,)-1,1,1):OFFSET($B36,0,MATCH(BU$6,$7:$7,)-1,1,1)) -> 0 | ... CH36: =SUM(OFFSET($B36,-($B36-1),MATCH(CH$6,$7:$7,)-1,1,1):OFFSET($B36,0,MATCH(CH$6,$7:$7,)-1,1,1)) -> 0 | CJ36: 3025 | CK36: 4025 | CL36: 6300 | CM36: 150 | CN36: 750 | CO36: =SUM(CJ25:CJ36) -> 32453 | CP36: =SUM(CK25:CK36) -> 31875 | CQ36: =SUM(CL25:CL36) -> 57766 | CR36: =SUM(CM25:CM36) -> 1999 | CS36: =SUM(CN25:CN36) -> 7309 | CT36: =SUM(OFFSET($B36,-($B36-1),MATCH(CT$6,$7:$7,)-1,1,1):OFFSET($B36,0,MATCH(CT$6,$7:$7,)-1,1,1)) -> 31875 | CU36: =SUM(OFFSET($B36,-($B36-1),MATCH(CU$6,$7:$7,)-1,1,1):OFFSET($B36,0,MATCH(CU$6,$7:$7,)-1,1,1)) -> 57766 | CV36: =SUM(OFFSET($B36,-($B36-1),MATCH(CV$6,$7:$7,)-1,1,1):OFFSET($B36,0,MATCH(CV$6,$7:$7,)-1,1,1)) -> 1999 | CW36: =SUM(OFFSET($B36,-($B36-1),MATCH(CW$6,$7:$7,)-1,1,1):OFFSET($B36,0,MATCH(CW$6,$7:$7,)-1,1,1)) -> 7309 | CX36: =SUM(OFFSET($B36,-($B36-1),MATCH(CX$6,$7:$7,)-1,1,1):OFFSET($B36,0,MATCH(CX$6,$7:$7,)-1,1,1)) -> 400460
B37: =IF(MONTH(C37)>=4,(MONTH(C37))-3,(MONTH(C37))+9) -> 1 | C37: 39539 | D37: 48596 | E37: 217 | F37: 62790 | G37: =SUM(D26:D37) -> 601064 | H37: =SUM(E26:E37) -> 2639 | I37: =SUM(F26:F37) -> 768246 | J37: =SUM(OFFSET($B37,-($B37-1),MATCH(J$6,$7:$7,)-1,1,1):OFFSET($B37,0,MATCH(J$6,$7:$7,)-1,1,1)) -> 217 | K37: =SUM(OFFSET($B37,-($B37-1),MATCH(K$6,$7:$7,)-1,1,1):OFFSET($B37,0,MATCH(K$6,$7:$7,)-1,1,1)) -> 62790 | L37: =SUM(OFFSET($B37,-($B37-1),MATCH(L$6,$7:$7,)-1,1,1):OFFSET($B37,0,MATCH(L$6,$7:$7,)-1,1,1)) -> 601064 | M37: 424136 | N37: 4034 | O37: 556091 | P37: =SUM(M26:M37) -> 4500665 | Q37: =SUM(N26:N37) -> 47021 | R37: =SUM(O26:O37) -> 5998479 | S37: =SUM(OFFSET($B37,-($B37-1),MATCH(S$6,$7:$7,)-1,1,1):OFFSET($B37,0,MATCH(S$6,$7:$7,)-1,1,1)) -> 4034 | T37: =SUM(OFFSET($B37,-($B37-1),MATCH(T$6,$7:$7,)-1,1,1):OFFSET($B37,0,MATCH(T$6,$7:$7,)-1,1,1)) -> 556091 | U37: =SUM(OFFSET($B37,-($B37-1),MATCH(U$6,$7:$7,)-1,1,1):OFFSET($B37,0,MATCH(U$6,$7:$7,)-1,1,1)) -> 4500665 | V37: 333 | W37: 7945 | X37: 791 | Y37: 12480 | Z37: 493 | AA37: 1 | AB37: 362 | AR37: =SUM(V26:V37) -> 3220 | AS37: =SUM(W26:W37) -> 48993 | AT37: =SUM(X26:X37) -> 9340 | AU37: =SUM(Y26:Y37) -> 62247 | AV37: =SUM(Z26:Z37) -> 3922 | AW37: =SUM(AA26:AA37) -> 75 | AX37: =SUM(AB26:AB37) -> 2824 | BN37: =SUM(OFFSET($B37,-($B37-1),MATCH(BN$6,$7:$7,)-1,1,1):OFFSET($B37,0,MATCH(BN$6,$7:$7,)-1,1,1)) -> 7945 | BO37: =SUM(OFFSET($B37,-($B37-1),MATCH(BO$6,$7:$7,)-1,1,1):OFFSET($B37,0,MATCH(BO$6,$7:$7,)-1,1,1)) -> 791 | BP37: =SUM(OFFSET($B37,-($B37-1),MATCH(BP$6,$7:$7,)-1,1,1):OFFSET($B37,0,MATCH(BP$6,$7:$7,)-1,1,1)) -> 12480 | BQ37: =SUM(OFFSET($B37,-($B37-1),MATCH(BQ$6,$7:$7,)-1,1,1):OFFSET($B37,0,MATCH(BQ$6,$7:$7,)-1,1,1)) -> 493 | BR37: =SUM(OFFSET($B37,-($B37-1),MATCH(BR$6,$7:$7,)-1,1,1):OFFSET($B37,0,MATCH(BR$6,$7:$7,)-1,1,1)) -> 1 | BS37: =SUM(OFFSET($B37,-($B37-1),MATCH(BS$6,$7:$7,)-1,1,1):OFFSET($B37,0,MATCH(BS$6,$7:$7,)-1,1,1)) -> 362 | BT37: =SUM(OFFSET($B37,-($B37-1),MATCH(BT$6,$7:$7,)-1,1,1):OFFSET($B37,0,MATCH(BT$6,$7:$7,)-1,1,1)) -> 0 | BU37: =SUM(OFFSET($B37,-($B37-1),MATCH(BU$6,$7:$7,)-1,1,1):OFFSET($B37,0,MATCH(BU$6,$7:$7,)-1,1,1)) -> 0 | ... CH37: =SUM(OFFSET($B37,-($B37-1),MATCH(CH$6,$7:$7,)-1,1,1):OFFSET($B37,0,MATCH(CH$6,$7:$7,)-1,1,1)) -> 0 | CJ37: 2688 | CK37: 2088 | CL37: 4488 | CM37: 48 | CN37: 600 | CO37: =SUM(CJ26:CJ37) -> 32841 | CP37: =SUM(CK26:CK37) -> 31525 | CQ37: =SUM(CL26:CL37) -> 57125 | CR37: =SUM(CM26:CM37) -> 1932 | CS37: =SUM(CN26:CN37) -> 7403 | CT37: =SUM(OFFSET($B37,-($B37-1),MATCH(CT$6,$7:$7,)-1,1,1):OFFSET($B37,0,MATCH(CT$6,$7:$7,)-1,1,1)) -> 2088 | CU37: =SUM(OFFSET($B37,-($B37-1),MATCH(CU$6,$7:$7,)-1,1,1):OFFSET($B37,0,MATCH(CU$6,$7:$7,)-1,1,1)) -> 4488 | CV37: =SUM(OFFSET($B37,-($B37-1),MATCH(CV$6,$7:$7,)-1,1,1):OFFSET($B37,0,MATCH(CV$6,$7:$7,)-1,1,1)) -> 48 | CW37: =SUM(OFFSET($B37,-($B37-1),MATCH(CW$6,$7:$7,)-1,1,1):OFFSET($B37,0,MATCH(CW$6,$7:$7,)-1,1,1)) -> 600 | CX37: =SUM(OFFSET($B37,-($B37-1),MATCH(CX$6,$7:$7,)-1,1,1):OFFSET($B37,0,MATCH(CX$6,$7:$7,)-1,1,1)) -> 32841
B38: =IF(MONTH(C38)>=4,(MONTH(C38))-3,(MONTH(C38))+9) -> 2 | C38: 39569 | D38: 46192 | E38: 224 | F38: 65688 | G38: =SUM(D27:D38) -> 600959 | H38: =SUM(E27:E38) -> 2642 | I38: =SUM(F27:F38) -> 769536 | J38: =SUM(OFFSET($B38,-($B38-1),MATCH(J$6,$7:$7,)-1,1,1):OFFSET($B38,0,MATCH(J$6,$7:$7,)-1,1,1)) -> 441 | K38: =SUM(OFFSET($B38,-($B38-1),MATCH(K$6,$7:$7,)-1,1,1):OFFSET($B38,0,MATCH(K$6,$7:$7,)-1,1,1)) -> 128478 | L38: =SUM(OFFSET($B38,-($B38-1),MATCH(L$6,$7:$7,)-1,1,1):OFFSET($B38,0,MATCH(L$6,$7:$7,)-1,1,1)) -> 1202023 | M38: 406140 | N38: 4042 | O38: 552680 | P38: =SUM(M27:M38) -> 4574391 | Q38: =SUM(N27:N38) -> 47237 | R38: =SUM(O27:O38) -> 6103122 | S38: =SUM(OFFSET($B38,-($B38-1),MATCH(S$6,$7:$7,)-1,1,1):OFFSET($B38,0,MATCH(S$6,$7:$7,)-1,1,1)) -> 8076 | T38: =SUM(OFFSET($B38,-($B38-1),MATCH(T$6,$7:$7,)-1,1,1):OFFSET($B38,0,MATCH(T$6,$7:$7,)-1,1,1)) -> 1108771 | U38: =SUM(OFFSET($B38,-($B38-1),MATCH(U$6,$7:$7,)-1,1,1):OFFSET($B38,0,MATCH(U$6,$7:$7,)-1,1,1)) -> 9075056 | V38: 362 | W38: 6821 | X38: 482 | Y38: 13870 | Z38: 472 | AA38: 20 | AB38: 190 | AR38: =SUM(V27:V38) -> 3582 | AS38: =SUM(W27:W38) -> 55814 | AT38: =SUM(X27:X38) -> 9822 | AU38: =SUM(Y27:Y38) -> 76117 | AV38: =SUM(Z27:Z38) -> 4394 | AW38: =SUM(AA27:AA38) -> 95 | AX38: =SUM(AB27:AB38) -> 3014 | BN38: =SUM(OFFSET($B38,-($B38-1),MATCH(BN$6,$7:$7,)-1,1,1):OFFSET($B38,0,MATCH(BN$6,$7:$7,)-1,1,1)) -> 14766 | BO38: =SUM(OFFSET($B38,-($B38-1),MATCH(BO$6,$7:$7,)-1,1,1):OFFSET($B38,0,MATCH(BO$6,$7:$7,)-1,1,1)) -> 1273 | BP38: =SUM(OFFSET($B38,-($B38-1),MATCH(BP$6,$7:$7,)-1,1,1):OFFSET($B38,0,MATCH(BP$6,$7:$7,)-1,1,1)) -> 26350 | BQ38: =SUM(OFFSET($B38,-($B38-1),MATCH(BQ$6,$7:$7,)-1,1,1):OFFSET($B38,0,MATCH(BQ$6,$7:$7,)-1,1,1)) -> 965 | BR38: =SUM(OFFSET($B38,-($B38-1),MATCH(BR$6,$7:$7,)-1,1,1):OFFSET($B38,0,MATCH(BR$6,$7:$7,)-1,1,1)) -> 21 | BS38: =SUM(OFFSET($B38,-($B38-1),MATCH(BS$6,$7:$7,)-1,1,1):OFFSET($B38,0,MATCH(BS$6,$7:$7,)-1,1,1)) -> 552 | BT38: =SUM(OFFSET($B38,-($B38-1),MATCH(BT$6,$7:$7,)-1,1,1):OFFSET($B38,0,MATCH(BT$6,$7:$7,)-1,1,1)) -> 0 | BU38: =SUM(OFFSET($B38,-($B38-1),MATCH(BU$6,$7:$7,)-1,1,1):OFFSET($B38,0,MATCH(BU$6,$7:$7,)-1,1,1)) -> 0 | ... CH38: =SUM(OFFSET($B38,-($B38-1),MATCH(CH$6,$7:$7,)-1,1,1):OFFSET($B38,0,MATCH(CH$6,$7:$7,)-1,1,1)) -> 0 | CJ38: 2740 | CK38: 1080 | CL38: 3840 | CM38: 120 | CN38: 500 | CO38: =SUM(CJ27:CJ38) -> 32413 | CP38: =SUM(CK27:CK38) -> 31093 | CQ38: =SUM(CL27:CL38) -> 57563 | CR38: =SUM(CM27:CM38) -> 1908 | CS38: =SUM(CN27:CN38) -> 7435 | CT38: =SUM(OFFSET($B38,-($B38-1),MATCH(CT$6,$7:$7,)-1,1,1):OFFSET($B38,0,MATCH(CT$6,$7:$7,)-1,1,1)) -> 3168 | CU38: =SUM(OFFSET($B38,-($B38-1),MATCH(CU$6,$7:$7,)-1,1,1):OFFSET($B38,0,MATCH(CU$6,$7:$7,)-1,1,1)) -> 8328 | CV38: =SUM(OFFSET($B38,-($B38-1),MATCH(CV$6,$7:$7,)-1,1,1):OFFSET($B38,0,MATCH(CV$6,$7:$7,)-1,1,1)) -> 168 | CW38: =SUM(OFFSET($B38,-($B38-1),MATCH(CW$6,$7:$7,)-1,1,1):OFFSET($B38,0,MATCH(CW$6,$7:$7,)-1,1,1)) -> 1100 | CX38: =SUM(OFFSET($B38,-($B38-1),MATCH(CX$6,$7:$7,)-1,1,1):OFFSET($B38,0,MATCH(CX$6,$7:$7,)-1,1,1)) -> 65254
B39: =IF(MONTH(C39)>=4,(MONTH(C39))-3,(MONTH(C39))+9) -> 3 | C39: 39600 | D39: 42721 | E39: 211 | F39: 61152 | G39: =SUM(D28:D39) -> 598273 | H39: =SUM(E28:E39) -> 2644 | I39: =SUM(F28:F39) -> 768066 | J39: =SUM(OFFSET($B39,-($B39-1),MATCH(J$6,$7:$7,)-1,1,1):OFFSET($B39,0,MATCH(J$6,$7:$7,)-1,1,1)) -> 652 | K39: =SUM(OFFSET($B39,-($B39-1),MATCH(K$6,$7:$7,)-1,1,1):OFFSET($B39,0,MATCH(K$6,$7:$7,)-1,1,1)) -> 189630 | L39: =SUM(OFFSET($B39,-($B39-1),MATCH(L$6,$7:$7,)-1,1,1):OFFSET($B39,0,MATCH(L$6,$7:$7,)-1,1,1)) -> 1800296 | M39: 371646 | N39: 3776 | O39: 512482 | P39: =SUM(M28:M39) -> 4615896 | Q39: =SUM(N28:N39) -> 47368 | R39: =SUM(O28:O39) -> 6184663 | S39: =SUM(OFFSET($B39,-($B39-1),MATCH(S$6,$7:$7,)-1,1,1):OFFSET($B39,0,MATCH(S$6,$7:$7,)-1,1,1)) -> 11852 | T39: =SUM(OFFSET($B39,-($B39-1),MATCH(T$6,$7:$7,)-1,1,1):OFFSET($B39,0,MATCH(T$6,$7:$7,)-1,1,1)) -> 1621253 | U39: =SUM(OFFSET($B39,-($B39-1),MATCH(U$6,$7:$7,)-1,1,1):OFFSET($B39,0,MATCH(U$6,$7:$7,)-1,1,1)) -> 13690952 | V39: 275 | W39: 6073 | X39: 539 | Y39: 13607 | Z39: 566 | AA39: 19 | AB39: 245 | AR39: =SUM(V28:V39) -> 3857 | AS39: =SUM(W28:W39) -> 61887 | AT39: =SUM(X28:X39) -> 10361 | AU39: =SUM(Y28:Y39) -> 89724 | AV39: =SUM(Z28:Z39) -> 4960 | AW39: =SUM(AA28:AA39) -> 114 | AX39: =SUM(AB28:AB39) -> 3259 | BN39: =SUM(OFFSET($B39,-($B39-1),MATCH(BN$6,$7:$7,)-1,1,1):OFFSET($B39,0,MATCH(BN$6,$7:$7,)-1,1,1)) -> 20839 | BO39: =SUM(OFFSET($B39,-($B39-1),MATCH(BO$6,$7:$7,)-1,1,1):OFFSET($B39,0,MATCH(BO$6,$7:$7,)-1,1,1)) -> 1812 | BP39: =SUM(OFFSET($B39,-($B39-1),MATCH(BP$6,$7:$7,)-1,1,1):OFFSET($B39,0,MATCH(BP$6,$7:$7,)-1,1,1)) -> 39957 | BQ39: =SUM(OFFSET($B39,-($B39-1),MATCH(BQ$6,$7:$7,)-1,1,1):OFFSET($B39,0,MATCH(BQ$6,$7:$7,)-1,1,1)) -> 1531 | BR39: =SUM(OFFSET($B39,-($B39-1),MATCH(BR$6,$7:$7,)-1,1,1):OFFSET($B39,0,MATCH(BR$6,$7:$7,)-1,1,1)) -> 40 | BS39: =SUM(OFFSET($B39,-($B39-1),MATCH(BS$6,$7:$7,)-1,1,1):OFFSET($B39,0,MATCH(BS$6,$7:$7,)-1,1,1)) -> 797 | BT39: =SUM(OFFSET($B39,-($B39-1),MATCH(BT$6,$7:$7,)-1,1,1):OFFSET($B39,0,MATCH(BT$6,$7:$7,)-1,1,1)) -> 0 | BU39: =SUM(OFFSET($B39,-($B39-1),MATCH(BU$6,$7:$7,)-1,1,1):OFFSET($B39,0,MATCH(BU$6,$7:$7,)-1,1,1)) -> 0 | ... CH39: =SUM(OFFSET($B39,-($B39-1),MATCH(CH$6,$7:$7,)-1,1,1):OFFSET($B39,0,MATCH(CH$6,$7:$7,)-1,1,1)) -> 0 | CJ39: 2508 | CK39: 1235 | CL39: 3135 | CM39: 190 | CN39: 589 | CO39: =SUM(CJ28:CJ39) -> 32584 | CP39: =SUM(CK28:CK39) -> 30618 | CQ39: =SUM(CL28:CL39) -> 57164 | CR39: =SUM(CM28:CM39) -> 1851 | CS39: =SUM(CN28:CN39) -> 7492 | CT39: =SUM(OFFSET($B39,-($B39-1),MATCH(CT$6,$7:$7,)-1,1,1):OFFSET($B39,0,MATCH(CT$6,$7:$7,)-1,1,1)) -> 4403 | CU39: =SUM(OFFSET($B39,-($B39-1),MATCH(CU$6,$7:$7,)-1,1,1):OFFSET($B39,0,MATCH(CU$6,$7:$7,)-1,1,1)) -> 11463 | CV39: =SUM(OFFSET($B39,-($B39-1),MATCH(CV$6,$7:$7,)-1,1,1):OFFSET($B39,0,MATCH(CV$6,$7:$7,)-1,1,1)) -> 358 | CW39: =SUM(OFFSET($B39,-($B39-1),MATCH(CW$6,$7:$7,)-1,1,1):OFFSET($B39,0,MATCH(CW$6,$7:$7,)-1,1,1)) -> 1689 | CX39: =SUM(OFFSET($B39,-($B39-1),MATCH(CX$6,$7:$7,)-1,1,1):OFFSET($B39,0,MATCH(CX$6,$7:$7,)-1,1,1)) -> 97838
B40: =IF(MONTH(C40)>=4,(MONTH(C40))-3,(MONTH(C40))+9) -> 4 | C40: 39630 | D40: 52397 | E40: 225 | F40: 67642 | G40: =SUM(D29:D40) -> 601771 | H40: =SUM(E29:E40) -> 2650 | I40: =SUM(F29:F40) -> 771032 | J40: =SUM(OFFSET($B40,-($B40-1),MATCH(J$6,$7:$7,)-1,1,1):OFFSET($B40,0,MATCH(J$6,$7:$7,)-1,1,1)) -> 877 | K40: =SUM(OFFSET($B40,-($B40-1),MATCH(K$6,$7:$7,)-1,1,1):OFFSET($B40,0,MATCH(K$6,$7:$7,)-1,1,1)) -> 257272 | L40: =SUM(OFFSET($B40,-($B40-1),MATCH(L$6,$7:$7,)-1,1,1):OFFSET($B40,0,MATCH(L$6,$7:$7,)-1,1,1)) -> 2402067 | M40: 401877 | N40: 3921 | O40: 530456 | P40: =SUM(M29:M40) -> 4670276 | Q40: =SUM(N29:N40) -> 47459 | R40: =SUM(O29:O40) -> 6257085 | S40: =SUM(OFFSET($B40,-($B40-1),MATCH(S$6,$7:$7,)-1,1,1):OFFSET($B40,0,MATCH(S$6,$7:$7,)-1,1,1)) -> 15773 | T40: =SUM(OFFSET($B40,-($B40-1),MATCH(T$6,$7:$7,)-1,1,1):OFFSET($B40,0,MATCH(T$6,$7:$7,)-1,1,1)) -> 2151709 | U40: =SUM(OFFSET($B40,-($B40-1),MATCH(U$6,$7:$7,)-1,1,1):OFFSET($B40,0,MATCH(U$6,$7:$7,)-1,1,1)) -> 18361228 | V40: 407 | W40: 6728 | X40: 551 | Y40: 17030 | Z40: 806 | AA40: 113 | AB40: 375 | AR40: =SUM(V29:V40) -> 4264 | AS40: =SUM(W29:W40) -> 68615 | AT40: =SUM(X29:X40) -> 10912 | AU40: =SUM(Y29:Y40) -> 106754 | AV40: =SUM(Z29:Z40) -> 5766 | AW40: =SUM(AA29:AA40) -> 227 | AX40: =SUM(AB29:AB40) -> 3634 | BN40: =SUM(OFFSET($B40,-($B40-1),MATCH(BN$6,$7:$7,)-1,1,1):OFFSET($B40,0,MATCH(BN$6,$7:$7,)-1,1,1)) -> 27567 | BO40: =SUM(OFFSET($B40,-($B40-1),MATCH(BO$6,$7:$7,)-1,1,1):OFFSET($B40,0,MATCH(BO$6,$7:$7,)-1,1,1)) -> 2363 | BP40: =SUM(OFFSET($B40,-($B40-1),MATCH(BP$6,$7:$7,)-1,1,1):OFFSET($B40,0,MATCH(BP$6,$7:$7,)-1,1,1)) -> 56987 | BQ40: =SUM(OFFSET($B40,-($B40-1),MATCH(BQ$6,$7:$7,)-1,1,1):OFFSET($B40,0,MATCH(BQ$6,$7:$7,)-1,1,1)) -> 2337 | BR40: =SUM(OFFSET($B40,-($B40-1),MATCH(BR$6,$7:$7,)-1,1,1):OFFSET($B40,0,MATCH(BR$6,$7:$7,)-1,1,1)) -> 153 | BS40: =SUM(OFFSET($B40,-($B40-1),MATCH(BS$6,$7:$7,)-1,1,1):OFFSET($B40,0,MATCH(BS$6,$7:$7,)-1,1,1)) -> 1172 | BT40: =SUM(OFFSET($B40,-($B40-1),MATCH(BT$6,$7:$7,)-1,1,1):OFFSET($B40,0,MATCH(BT$6,$7:$7,)-1,1,1)) -> 0 | BU40: =SUM(OFFSET($B40,-($B40-1),MATCH(BU$6,$7:$7,)-1,1,1):OFFSET($B40,0,MATCH(BU$6,$7:$7,)-1,1,1)) -> 0 | ... CH40: =SUM(OFFSET($B40,-($B40-1),MATCH(CH$6,$7:$7,)-1,1,1):OFFSET($B40,0,MATCH(CH$6,$7:$7,)-1,1,1)) -> 0 | CJ40: 2544 | CK40: 1896 | CL40: 3888 | CM40: 144 | CN40: 528 | CO40: =SUM(CJ29:CJ40) -> 32272 | CP40: =SUM(CK29:CK40) -> 30834 | CQ40: =SUM(CL29:CL40) -> 57788 | CR40: =SUM(CM29:CM40) -> 1755 | CS40: =SUM(CN29:CN40) -> 7660 | CT40: =SUM(OFFSET($B40,-($B40-1),MATCH(CT$6,$7:$7,)-1,1,1):OFFSET($B40,0,MATCH(CT$6,$7:$7,)-1,1,1)) -> 6299 | CU40: =SUM(OFFSET($B40,-($B40-1),MATCH(CU$6,$7:$7,)-1,1,1):OFFSET($B40,0,MATCH(CU$6,$7:$7,)-1,1,1)) -> 15351 | CV40: =SUM(OFFSET($B40,-($B40-1),MATCH(CV$6,$7:$7,)-1,1,1):OFFSET($B40,0,MATCH(CV$6,$7:$7,)-1,1,1)) -> 502 | CW40: =SUM(OFFSET($B40,-($B40-1),MATCH(CW$6,$7:$7,)-1,1,1):OFFSET($B40,0,MATCH(CW$6,$7:$7,)-1,1,1)) -> 2217 | CX40: =SUM(OFFSET($B40,-($B40-1),MATCH(CX$6,$7:$7,)-1,1,1):OFFSET($B40,0,MATCH(CX$6,$7:$7,)-1,1,1)) -> 130110
B41: =IF(MONTH(C41)>=4,(MONTH(C41))-3,(MONTH(C41))+9) -> 5 | C41: 39661 | D41: 46641 | E41: 218 | F41: 66480 | G41: =SUM(D30:D41) -> 601776 | H41: =SUM(E30:E41) -> 2647 | I41: =SUM(F30:F41) -> 772648 | J41: =SUM(OFFSET($B41,-($B41-1),MATCH(J$6,$7:$7,)-1,1,1):OFFSET($B41,0,MATCH(J$6,$7:$7,)-1,1,1)) -> 1095 | K41: =SUM(OFFSET($B41,-($B41-1),MATCH(K$6,$7:$7,)-1,1,1):OFFSET($B41,0,MATCH(K$6,$7:$7,)-1,1,1)) -> 323752 | L41: =SUM(OFFSET($B41,-($B41-1),MATCH(L$6,$7:$7,)-1,1,1):OFFSET($B41,0,MATCH(L$6,$7:$7,)-1,1,1)) -> 3003843 | M41: 381888 | N41: 3922 | O41: 537609 | P41: =SUM(M30:M41) -> 4705626 | Q41: =SUM(N30:N41) -> 47513 | R41: =SUM(O30:O41) -> 6328905 | S41: =SUM(OFFSET($B41,-($B41-1),MATCH(S$6,$7:$7,)-1,1,1):OFFSET($B41,0,MATCH(S$6,$7:$7,)-1,1,1)) -> 19695 | T41: =SUM(OFFSET($B41,-($B41-1),MATCH(T$6,$7:$7,)-1,1,1):OFFSET($B41,0,MATCH(T$6,$7:$7,)-1,1,1)) -> 2689318 | U41: =SUM(OFFSET($B41,-($B41-1),MATCH(U$6,$7:$7,)-1,1,1):OFFSET($B41,0,MATCH(U$6,$7:$7,)-1,1,1)) -> 23066854 | V41: 227 | W41: 6501 | X41: 679 | Y41: 14468 | Z41: 597 | AA41: 55 | AB41: 340 | AR41: =SUM(V30:V41) -> 4491 | AS41: =SUM(W30:W41) -> 75116 | AT41: =SUM(X30:X41) -> 11591 | AU41: =SUM(Y30:Y41) -> 121222 | AV41: =SUM(Z30:Z41) -> 6363 | AW41: =SUM(AA30:AA41) -> 282 | AX41: =SUM(AB30:AB41) -> 3974 | BN41: =SUM(OFFSET($B41,-($B41-1),MATCH(BN$6,$7:$7,)-1,1,1):OFFSET($B41,0,MATCH(BN$6,$7:$7,)-1,1,1)) -> 34068 | BO41: =SUM(OFFSET($B41,-($B41-1),MATCH(BO$6,$7:$7,)-1,1,1):OFFSET($B41,0,MATCH(BO$6,$7:$7,)-1,1,1)) -> 3042 | BP41: =SUM(OFFSET($B41,-($B41-1),MATCH(BP$6,$7:$7,)-1,1,1):OFFSET($B41,0,MATCH(BP$6,$7:$7,)-1,1,1)) -> 71455 | BQ41: =SUM(OFFSET($B41,-($B41-1),MATCH(BQ$6,$7:$7,)-1,1,1):OFFSET($B41,0,MATCH(BQ$6,$7:$7,)-1,1,1)) -> 2934 | BR41: =SUM(OFFSET($B41,-($B41-1),MATCH(BR$6,$7:$7,)-1,1,1):OFFSET($B41,0,MATCH(BR$6,$7:$7,)-1,1,1)) -> 208 | BS41: =SUM(OFFSET($B41,-($B41-1),MATCH(BS$6,$7:$7,)-1,1,1):OFFSET($B41,0,MATCH(BS$6,$7:$7,)-1,1,1)) -> 1512 | BT41: =SUM(OFFSET($B41,-($B41-1),MATCH(BT$6,$7:$7,)-1,1,1):OFFSET($B41,0,MATCH(BT$6,$7:$7,)-1,1,1)) -> 0 | BU41: =SUM(OFFSET($B41,-($B41-1),MATCH(BU$6,$7:$7,)-1,1,1):OFFSET($B41,0,MATCH(BU$6,$7:$7,)-1,1,1)) -> 0 | ... CH41: =SUM(OFFSET($B41,-($B41-1),MATCH(CH$6,$7:$7,)-1,1,1):OFFSET($B41,0,MATCH(CH$6,$7:$7,)-1,1,1)) -> 0 | CJ41: 2530 | CK41: 1496 | CL41: 3410 | CM41: 176 | CN41: 572 | CO41: =SUM(CJ30:CJ41) -> 31876 | CP41: =SUM(CK30:CK41) -> 30900 | CQ41: =SUM(CL30:CL41) -> 57876 | CR41: =SUM(CM30:CM41) -> 1777 | CS41: =SUM(CN30:CN41) -> 7594 | CT41: =SUM(OFFSET($B41,-($B41-1),MATCH(CT$6,$7:$7,)-1,1,1):OFFSET($B41,0,MATCH(CT$6,$7:$7,)-1,1,1)) -> 7795 | CU41: =SUM(OFFSET($B41,-($B41-1),MATCH(CU$6,$7:$7,)-1,1,1):OFFSET($B41,0,MATCH(CU$6,$7:$7,)-1,1,1)) -> 18761 | CV41: =SUM(OFFSET($B41,-($B41-1),MATCH(CV$6,$7:$7,)-1,1,1):OFFSET($B41,0,MATCH(CV$6,$7:$7,)-1,1,1)) -> 678 | CW41: =SUM(OFFSET($B41,-($B41-1),MATCH(CW$6,$7:$7,)-1,1,1):OFFSET($B41,0,MATCH(CW$6,$7:$7,)-1,1,1)) -> 2789 | CX41: =SUM(OFFSET($B41,-($B41-1),MATCH(CX$6,$7:$7,)-1,1,1):OFFSET($B41,0,MATCH(CX$6,$7:$7,)-1,1,1)) -> 161986
B42: =IF(MONTH(C42)>=4,(MONTH(C42))-3,(MONTH(C42))+9) -> 6 | C42: 39692 | D42: 48467 | E42: 217 | F42: 65498 | G42: =SUM(D31:D42) -> 600104 | H42: =SUM(E31:E42) -> 2650 | I42: =SUM(F31:F42) -> 774916 | J42: =SUM(OFFSET($B42,-($B42-1),MATCH(J$6,$7:$7,)-1,1,1):OFFSET($B42,0,MATCH(J$6,$7:$7,)-1,1,1)) -> 1312 | K42: =SUM(OFFSET($B42,-($B42-1),MATCH(K$6,$7:$7,)-1,1,1):OFFSET($B42,0,MATCH(K$6,$7:$7,)-1,1,1)) -> 389250 | L42: =SUM(OFFSET($B42,-($B42-1),MATCH(L$6,$7:$7,)-1,1,1):OFFSET($B42,0,MATCH(L$6,$7:$7,)-1,1,1)) -> 3603947 | M42: 381205 | N42: 3979 | O42: 532220 | P42: =SUM(M31:M42) -> 4740343 | Q42: =SUM(N31:N42) -> 47755 | R42: =SUM(O31:O42) -> 6410345 | S42: =SUM(OFFSET($B42,-($B42-1),MATCH(S$6,$7:$7,)-1,1,1):OFFSET($B42,0,MATCH(S$6,$7:$7,)-1,1,1)) -> 23674 | T42: =SUM(OFFSET($B42,-($B42-1),MATCH(T$6,$7:$7,)-1,1,1):OFFSET($B42,0,MATCH(T$6,$7:$7,)-1,1,1)) -> 3221538 | U42: =SUM(OFFSET($B42,-($B42-1),MATCH(U$6,$7:$7,)-1,1,1):OFFSET($B42,0,MATCH(U$6,$7:$7,)-1,1,1)) -> 27807197 | V42: 383 | W42: 7217 | X42: 817 | Y42: 14638 | Z42: 473 | AA42: 97 | AB42: 270 | AR42: =SUM(V31:V42) -> 4874 | AS42: =SUM(W31:W42) -> 82333 | AT42: =SUM(X31:X42) -> 12408 | AU42: =SUM(Y31:Y42) -> 135860 | AV42: =SUM(Z31:Z42) -> 6836 | AW42: =SUM(AA31:AA42) -> 379 | AX42: =SUM(AB31:AB42) -> 4244 | BN42: =SUM(OFFSET($B42,-($B42-1),MATCH(BN$6,$7:$7,)-1,1,1):OFFSET($B42,0,MATCH(BN$6,$7:$7,)-1,1,1)) -> 41285 | BO42: =SUM(OFFSET($B42,-($B42-1),MATCH(BO$6,$7:$7,)-1,1,1):OFFSET($B42,0,MATCH(BO$6,$7:$7,)-1,1,1)) -> 3859 | BP42: =SUM(OFFSET($B42,-($B42-1),MATCH(BP$6,$7:$7,)-1,1,1):OFFSET($B42,0,MATCH(BP$6,$7:$7,)-1,1,1)) -> 86093 | BQ42: =SUM(OFFSET($B42,-($B42-1),MATCH(BQ$6,$7:$7,)-1,1,1):OFFSET($B42,0,MATCH(BQ$6,$7:$7,)-1,1,1)) -> 3407 | BR42: =SUM(OFFSET($B42,-($B42-1),MATCH(BR$6,$7:$7,)-1,1,1):OFFSET($B42,0,MATCH(BR$6,$7:$7,)-1,1,1)) -> 305 | BS42: =SUM(OFFSET($B42,-($B42-1),MATCH(BS$6,$7:$7,)-1,1,1):OFFSET($B42,0,MATCH(BS$6,$7:$7,)-1,1,1)) -> 1782 | BT42: =SUM(OFFSET($B42,-($B42-1),MATCH(BT$6,$7:$7,)-1,1,1):OFFSET($B42,0,MATCH(BT$6,$7:$7,)-1,1,1)) -> 0 | BU42: =SUM(OFFSET($B42,-($B42-1),MATCH(BU$6,$7:$7,)-1,1,1):OFFSET($B42,0,MATCH(BU$6,$7:$7,)-1,1,1)) -> 0 | ... CH42: =SUM(OFFSET($B42,-($B42-1),MATCH(CH$6,$7:$7,)-1,1,1):OFFSET($B42,0,MATCH(CH$6,$7:$7,)-1,1,1)) -> 0 | CJ42: 2346 | CK42: 2139 | CL42: 3979 | CM42: 184 | CN42: 437 | CO42: =SUM(CJ31:CJ42) -> 31324 | CP42: =SUM(CK31:CK42) -> 30601 | CQ42: =SUM(CL31:CL42) -> 58497 | CR42: =SUM(CM31:CM42) -> 1731 | CS42: =SUM(CN31:CN42) -> 7479 | CT42: =SUM(OFFSET($B42,-($B42-1),MATCH(CT$6,$7:$7,)-1,1,1):OFFSET($B42,0,MATCH(CT$6,$7:$7,)-1,1,1)) -> 9934 | CU42: =SUM(OFFSET($B42,-($B42-1),MATCH(CU$6,$7:$7,)-1,1,1):OFFSET($B42,0,MATCH(CU$6,$7:$7,)-1,1,1)) -> 22740 | CV42: =SUM(OFFSET($B42,-($B42-1),MATCH(CV$6,$7:$7,)-1,1,1):OFFSET($B42,0,MATCH(CV$6,$7:$7,)-1,1,1)) -> 862 | CW42: =SUM(OFFSET($B42,-($B42-1),MATCH(CW$6,$7:$7,)-1,1,1):OFFSET($B42,0,MATCH(CW$6,$7:$7,)-1,1,1)) -> 3226 | CX42: =SUM(OFFSET($B42,-($B42-1),MATCH(CX$6,$7:$7,)-1,1,1):OFFSET($B42,0,MATCH(CX$6,$7:$7,)-1,1,1)) -> 193310
B43: =IF(MONTH(C43)>=4,(MONTH(C43))-3,(MONTH(C43))+9) -> 7 | C43: 39722 | D43: 53301 | E43: 234 | F43: 67710 | G43: =SUM(D32:D43) -> 600086 | H43: =SUM(E32:E43) -> 2668 | I43: =SUM(F32:F43) -> 779496 | J43: =SUM(OFFSET($B43,-($B43-1),MATCH(J$6,$7:$7,)-1,1,1):OFFSET($B43,0,MATCH(J$6,$7:$7,)-1,1,1)) -> 1546 | K43: =SUM(OFFSET($B43,-($B43-1),MATCH(K$6,$7:$7,)-1,1,1):OFFSET($B43,0,MATCH(K$6,$7:$7,)-1,1,1)) -> 456960 | L43: =SUM(OFFSET($B43,-($B43-1),MATCH(L$6,$7:$7,)-1,1,1):OFFSET($B43,0,MATCH(L$6,$7:$7,)-1,1,1)) -> 4204033 | M43: 408803 | N43: 4115 | O43: 557411 | P43: =SUM(M32:M43) -> 4801981 | Q43: =SUM(N32:N43) -> 48029 | R43: =SUM(O32:O43) -> 6501801 | S43: =SUM(OFFSET($B43,-($B43-1),MATCH(S$6,$7:$7,)-1,1,1):OFFSET($B43,0,MATCH(S$6,$7:$7,)-1,1,1)) -> 27789 | T43: =SUM(OFFSET($B43,-($B43-1),MATCH(T$6,$7:$7,)-1,1,1):OFFSET($B43,0,MATCH(T$6,$7:$7,)-1,1,1)) -> 3778949 | U43: =SUM(OFFSET($B43,-($B43-1),MATCH(U$6,$7:$7,)-1,1,1):OFFSET($B43,0,MATCH(U$6,$7:$7,)-1,1,1)) -> 32609178 | V43: 315 | W43: 7274 | X43: 1242 | Y43: 17082 | Z43: 420 | AA43: 72 | AB43: 354 | AR43: =SUM(V32:V43) -> 5189 | AS43: =SUM(W32:W43) -> 89607 | AT43: =SUM(X32:X43) -> 13650 | AU43: =SUM(Y32:Y43) -> 152942 | AV43: =SUM(Z32:Z43) -> 7256 | AW43: =SUM(AA32:AA43) -> 451 | AX43: =SUM(AB32:AB43) -> 4598 | BN43: =SUM(OFFSET($B43,-($B43-1),MATCH(BN$6,$7:$7,)-1,1,1):OFFSET($B43,0,MATCH(BN$6,$7:$7,)-1,1,1)) -> 48559 | BO43: =SUM(OFFSET($B43,-($B43-1),MATCH(BO$6,$7:$7,)-1,1,1):OFFSET($B43,0,MATCH(BO$6,$7:$7,)-1,1,1)) -> 5101 | BP43: =SUM(OFFSET($B43,-($B43-1),MATCH(BP$6,$7:$7,)-1,1,1):OFFSET($B43,0,MATCH(BP$6,$7:$7,)-1,1,1)) -> 103175 | BQ43: =SUM(OFFSET($B43,-($B43-1),MATCH(BQ$6,$7:$7,)-1,1,1):OFFSET($B43,0,MATCH(BQ$6,$7:$7,)-1,1,1)) -> 3827 | BR43: =SUM(OFFSET($B43,-($B43-1),MATCH(BR$6,$7:$7,)-1,1,1):OFFSET($B43,0,MATCH(BR$6,$7:$7,)-1,1,1)) -> 377 | BS43: =SUM(OFFSET($B43,-($B43-1),MATCH(BS$6,$7:$7,)-1,1,1):OFFSET($B43,0,MATCH(BS$6,$7:$7,)-1,1,1)) -> 2136 | BT43: =SUM(OFFSET($B43,-($B43-1),MATCH(BT$6,$7:$7,)-1,1,1):OFFSET($B43,0,MATCH(BT$6,$7:$7,)-1,1,1)) -> 0 | BU43: =SUM(OFFSET($B43,-($B43-1),MATCH(BU$6,$7:$7,)-1,1,1):OFFSET($B43,0,MATCH(BU$6,$7:$7,)-1,1,1)) -> 0 | ... CH43: =SUM(OFFSET($B43,-($B43-1),MATCH(CH$6,$7:$7,)-1,1,1):OFFSET($B43,0,MATCH(CH$6,$7:$7,)-1,1,1)) -> 0 | CJ43: 2928 | CK43: 2016 | CL43: 4008 | CM43: 72 | CN43: 408 | CO43: =SUM(CJ32:CJ43) -> 31262 | CP43: =SUM(CK32:CK43) -> 30708 | CQ43: =SUM(CL32:CL43) -> 58710 | CR43: =SUM(CM32:CM43) -> 1711 | CS43: =SUM(CN32:CN43) -> 7335 | CT43: =SUM(OFFSET($B43,-($B43-1),MATCH(CT$6,$7:$7,)-1,1,1):OFFSET($B43,0,MATCH(CT$6,$7:$7,)-1,1,1)) -> 11950 | CU43: =SUM(OFFSET($B43,-($B43-1),MATCH(CU$6,$7:$7,)-1,1,1):OFFSET($B43,0,MATCH(CU$6,$7:$7,)-1,1,1)) -> 26748 | CV43: =SUM(OFFSET($B43,-($B43-1),MATCH(CV$6,$7:$7,)-1,1,1):OFFSET($B43,0,MATCH(CV$6,$7:$7,)-1,1,1)) -> 934 | CW43: =SUM(OFFSET($B43,-($B43-1),MATCH(CW$6,$7:$7,)-1,1,1):OFFSET($B43,0,MATCH(CW$6,$7:$7,)-1,1,1)) -> 3634 | CX43: =SUM(OFFSET($B43,-($B43-1),MATCH(CX$6,$7:$7,)-1,1,1):OFFSET($B43,0,MATCH(CX$6,$7:$7,)-1,1,1)) -> 224572
B44: =IF(MONTH(C44)>=4,(MONTH(C44))-3,(MONTH(C44))+9) -> 8 | C44: 39753 | D44: 50724 | E44: 238 | F44: 68724 | G44: =SUM(D33:D44) -> 601612 | H44: =SUM(E33:E44) -> 2690 | I44: =SUM(F33:F44) -> 786788 | J44: =SUM(OFFSET($B44,-($B44-1),MATCH(J$6,$7:$7,)-1,1,1):OFFSET($B44,0,MATCH(J$6,$7:$7,)-1,1,1)) -> 1784 | K44: =SUM(OFFSET($B44,-($B44-1),MATCH(K$6,$7:$7,)-1,1,1):OFFSET($B44,0,MATCH(K$6,$7:$7,)-1,1,1)) -> 525684 | L44: =SUM(OFFSET($B44,-($B44-1),MATCH(L$6,$7:$7,)-1,1,1):OFFSET($B44,0,MATCH(L$6,$7:$7,)-1,1,1)) -> 4805645 | M44: 385815 | N44: 3990 | O44: 535839 | P44: =SUM(M33:M44) -> 4784322 | Q44: =SUM(N33:N44) -> 47966 | R44: =SUM(O33:O44) -> 6505795 | S44: =SUM(OFFSET($B44,-($B44-1),MATCH(S$6,$7:$7,)-1,1,1):OFFSET($B44,0,MATCH(S$6,$7:$7,)-1,1,1)) -> 31779 | T44: =SUM(OFFSET($B44,-($B44-1),MATCH(T$6,$7:$7,)-1,1,1):OFFSET($B44,0,MATCH(T$6,$7:$7,)-1,1,1)) -> 4314788 | U44: =SUM(OFFSET($B44,-($B44-1),MATCH(U$6,$7:$7,)-1,1,1):OFFSET($B44,0,MATCH(U$6,$7:$7,)-1,1,1)) -> 37393500 | V44: 496 | W44: 8063 | X44: 1422 | Y44: 14468 | Z44: 710 | AA44: 0 | AB44: 429 | AR44: =SUM(V33:V44) -> 5685 | AS44: =SUM(W33:W44) -> 97670 | AT44: =SUM(X33:X44) -> 15072 | AU44: =SUM(Y33:Y44) -> 167410 | AV44: =SUM(Z33:Z44) -> 7966 | AW44: =SUM(AA33:AA44) -> 451 | AX44: =SUM(AB33:AB44) -> 5027 | BN44: =SUM(OFFSET($B44,-($B44-1),MATCH(BN$6,$7:$7,)-1,1,1):OFFSET($B44,0,MATCH(BN$6,$7:$7,)-1,1,1)) -> 56622 | BO44: =SUM(OFFSET($B44,-($B44-1),MATCH(BO$6,$7:$7,)-1,1,1):OFFSET($B44,0,MATCH(BO$6,$7:$7,)-1,1,1)) -> 6523 | BP44: =SUM(OFFSET($B44,-($B44-1),MATCH(BP$6,$7:$7,)-1,1,1):OFFSET($B44,0,MATCH(BP$6,$7:$7,)-1,1,1)) -> 117643 | BQ44: =SUM(OFFSET($B44,-($B44-1),MATCH(BQ$6,$7:$7,)-1,1,1):OFFSET($B44,0,MATCH(BQ$6,$7:$7,)-1,1,1)) -> 4537 | BR44: =SUM(OFFSET($B44,-($B44-1),MATCH(BR$6,$7:$7,)-1,1,1):OFFSET($B44,0,MATCH(BR$6,$7:$7,)-1,1,1)) -> 377 | BS44: =SUM(OFFSET($B44,-($B44-1),MATCH(BS$6,$7:$7,)-1,1,1):OFFSET($B44,0,MATCH(BS$6,$7:$7,)-1,1,1)) -> 2565 | BT44: =SUM(OFFSET($B44,-($B44-1),MATCH(BT$6,$7:$7,)-1,1,1):OFFSET($B44,0,MATCH(BT$6,$7:$7,)-1,1,1)) -> 0 | BU44: =SUM(OFFSET($B44,-($B44-1),MATCH(BU$6,$7:$7,)-1,1,1):OFFSET($B44,0,MATCH(BU$6,$7:$7,)-1,1,1)) -> 0 | ... CH44: =SUM(OFFSET($B44,-($B44-1),MATCH(CH$6,$7:$7,)-1,1,1):OFFSET($B44,0,MATCH(CH$6,$7:$7,)-1,1,1)) -> 0 | CJ44: 3586 | CK44: 2178 | CL44: 4422 | CM44: 154 | CN44: 594 | CO44: =SUM(CJ33:CJ44) -> 31872 | CP44: =SUM(CK33:CK44) -> 30198 | CQ44: =SUM(CL33:CL44) -> 59076 | CR44: =SUM(CM33:CM44) -> 1769 | CS44: =SUM(CN33:CN44) -> 7449 | CT44: =SUM(OFFSET($B44,-($B44-1),MATCH(CT$6,$7:$7,)-1,1,1):OFFSET($B44,0,MATCH(CT$6,$7:$7,)-1,1,1)) -> 14128 | CU44: =SUM(OFFSET($B44,-($B44-1),MATCH(CU$6,$7:$7,)-1,1,1):OFFSET($B44,0,MATCH(CU$6,$7:$7,)-1,1,1)) -> 31170 | CV44: =SUM(OFFSET($B44,-($B44-1),MATCH(CV$6,$7:$7,)-1,1,1):OFFSET($B44,0,MATCH(CV$6,$7:$7,)-1,1,1)) -> 1088 | CW44: =SUM(OFFSET($B44,-($B44-1),MATCH(CW$6,$7:$7,)-1,1,1):OFFSET($B44,0,MATCH(CW$6,$7:$7,)-1,1,1)) -> 4228 | CX44: =SUM(OFFSET($B44,-($B44-1),MATCH(CX$6,$7:$7,)-1,1,1):OFFSET($B44,0,MATCH(CX$6,$7:$7,)-1,1,1)) -> 256444
... B69: =IF(MONTH(C69)>=4,(MONTH(C69))-3,(MONTH(C69))+9) -> 9 | C69: 40513 | D69: 64760 | E69: 248 | F69: 80519 | G69: =SUM(D58:D69) -> 645288 | H69: =SUM(E58:E69) -> 2751 | I69: =SUM(F58:F69) -> 838295 | J69: =SUM(OFFSET($B69,-($B69-1),MATCH(J$6,$7:$7,)-1,1,1):OFFSET($B69,0,MATCH(J$6,$7:$7,)-1,1,1)) -> 2044 | K69: =SUM(OFFSET($B69,-($B69-1),MATCH(K$6,$7:$7,)-1,1,1):OFFSET($B69,0,MATCH(K$6,$7:$7,)-1,1,1)) -> 625477 | L69: =SUM(OFFSET($B69,-($B69-1),MATCH(L$6,$7:$7,)-1,1,1):OFFSET($B69,0,MATCH(L$6,$7:$7,)-1,1,1)) -> 5682132 | M69: 365432 | N69: 3509 | O69: 436076 | P69: =SUM(M58:M69) -> 4530168 | Q69: =SUM(N58:N69) -> 42805 | R69: =SUM(O58:O69) -> 5702977 | S69: =SUM(OFFSET($B69,-($B69-1),MATCH(S$6,$7:$7,)-1,1,1):OFFSET($B69,0,MATCH(S$6,$7:$7,)-1,1,1)) -> 32175 | T69: =SUM(OFFSET($B69,-($B69-1),MATCH(T$6,$7:$7,)-1,1,1):OFFSET($B69,0,MATCH(T$6,$7:$7,)-1,1,1)) -> 4302860 | U69: =SUM(OFFSET($B69,-($B69-1),MATCH(U$6,$7:$7,)-1,1,1):OFFSET($B69,0,MATCH(U$6,$7:$7,)-1,1,1)) -> 40646858 | V69: 795 | W69: 18277 | X69: 2461 | Y69: 11112 | Z69: 1295 | AA69: 31 | AB69: 706 | AR69: =SUM(V58:V69) -> 5745 | AS69: =SUM(W58:W69) -> 116201 | AT69: =SUM(X58:X69) -> 15017 | AU69: =SUM(Y58:Y69) -> 169775 | AV69: =SUM(Z58:Z69) -> 8607 | AW69: =SUM(AA58:AA69) -> 318 | AX69: =SUM(AB58:AB69) -> 5309 | BN69: =SUM(OFFSET($B69,-($B69-1),MATCH(BN$6,$7:$7,)-1,1,1):OFFSET($B69,0,MATCH(BN$6,$7:$7,)-1,1,1)) -> 84945 | BO69: =SUM(OFFSET($B69,-($B69-1),MATCH(BO$6,$7:$7,)-1,1,1):OFFSET($B69,0,MATCH(BO$6,$7:$7,)-1,1,1)) -> 9355 | BP69: =SUM(OFFSET($B69,-($B69-1),MATCH(BP$6,$7:$7,)-1,1,1):OFFSET($B69,0,MATCH(BP$6,$7:$7,)-1,1,1)) -> 131371 | BQ69: =SUM(OFFSET($B69,-($B69-1),MATCH(BQ$6,$7:$7,)-1,1,1):OFFSET($B69,0,MATCH(BQ$6,$7:$7,)-1,1,1)) -> 6104 | BR69: =SUM(OFFSET($B69,-($B69-1),MATCH(BR$6,$7:$7,)-1,1,1):OFFSET($B69,0,MATCH(BR$6,$7:$7,)-1,1,1)) -> 286 | BS69: =SUM(OFFSET($B69,-($B69-1),MATCH(BS$6,$7:$7,)-1,1,1):OFFSET($B69,0,MATCH(BS$6,$7:$7,)-1,1,1)) -> 3398 | BT69: =SUM(OFFSET($B69,-($B69-1),MATCH(BT$6,$7:$7,)-1,1,1):OFFSET($B69,0,MATCH(BT$6,$7:$7,)-1,1,1)) -> 0 | BU69: =SUM(OFFSET($B69,-($B69-1),MATCH(BU$6,$7:$7,)-1,1,1):OFFSET($B69,0,MATCH(BU$6,$7:$7,)-1,1,1)) -> 0 | ... CH69: =SUM(OFFSET($B69,-($B69-1),MATCH(CH$6,$7:$7,)-1,1,1):OFFSET($B69,0,MATCH(CH$6,$7:$7,)-1,1,1)) -> 0 | CJ69: 2204 | CK69: 6496 | CL69: 13978 | CM69: 29 | CN69: 754 | CO69: =SUM(CJ58:CJ69) -> 34872 | CP69: =SUM(CK58:CK69) -> 33972 | CQ69: =SUM(CL58:CL69) -> 71042 | CR69: =SUM(CM58:CM69) -> 1538 | CS69: =SUM(CN58:CN69) -> 7748 | CT69: =SUM(OFFSET($B69,-($B69-1),MATCH(CT$6,$7:$7,)-1,1,1):OFFSET($B69,0,MATCH(CT$6,$7:$7,)-1,1,1)) -> 22688 | CU69: =SUM(OFFSET($B69,-($B69-1),MATCH(CU$6,$7:$7,)-1,1,1):OFFSET($B69,0,MATCH(CU$6,$7:$7,)-1,1,1)) -> 51883 | CV69: =SUM(OFFSET($B69,-($B69-1),MATCH(CV$6,$7:$7,)-1,1,1):OFFSET($B69,0,MATCH(CV$6,$7:$7,)-1,1,1)) -> 1094 | CW69: =SUM(OFFSET($B69,-($B69-1),MATCH(CW$6,$7:$7,)-1,1,1):OFFSET($B69,0,MATCH(CW$6,$7:$7,)-1,1,1)) -> 5712 | CX69: =SUM(OFFSET($B69,-($B69-1),MATCH(CX$6,$7:$7,)-1,1,1):OFFSET($B69,0,MATCH(CX$6,$7:$7,)-1,1,1)) -> 306116
B70: =IF(MONTH(C70)>=4,(MONTH(C70))-3,(MONTH(C70))+9) -> 10 | C70: 40544 | D70: 65926 | E70: 250 | F70: 80616 | G70: =SUM(D59:D70) -> 649003 | H70: =SUM(E59:E70) -> 2750 | I70: =SUM(F59:F70) -> 842845 | J70: =SUM(OFFSET($B70,-($B70-1),MATCH(J$6,$7:$7,)-1,1,1):OFFSET($B70,0,MATCH(J$6,$7:$7,)-1,1,1)) -> 2294 | K70: =SUM(OFFSET($B70,-($B70-1),MATCH(K$6,$7:$7,)-1,1,1):OFFSET($B70,0,MATCH(K$6,$7:$7,)-1,1,1)) -> 706093 | L70: =SUM(OFFSET($B70,-($B70-1),MATCH(L$6,$7:$7,)-1,1,1):OFFSET($B70,0,MATCH(L$6,$7:$7,)-1,1,1)) -> 6331135 | M70: 307215 | N70: 3175 | O70: 389366 | P70: =SUM(M59:M70) -> 4495373 | Q70: =SUM(N59:N70) -> 42771 | R70: =SUM(O59:O70) -> 5666140 | S70: =SUM(OFFSET($B70,-($B70-1),MATCH(S$6,$7:$7,)-1,1,1):OFFSET($B70,0,MATCH(S$6,$7:$7,)-1,1,1)) -> 35350 | T70: =SUM(OFFSET($B70,-($B70-1),MATCH(T$6,$7:$7,)-1,1,1):OFFSET($B70,0,MATCH(T$6,$7:$7,)-1,1,1)) -> 4692226 | U70: =SUM(OFFSET($B70,-($B70-1),MATCH(U$6,$7:$7,)-1,1,1):OFFSET($B70,0,MATCH(U$6,$7:$7,)-1,1,1)) -> 45142231 | V70: 543 | W70: 10669 | X70: 1953 | Y70: 18160 | Z70: 851 | AA70: 0 | AB70: 618 | AC70: 136 | AD70: 354 | AE70: 63 | AF70: 553 | AG70: 2165 | AH70: 129 | AI70: 2294 | AJ70: 618 | AK70: 31 | AL70: 0 | AM70: 649 | AN70: 94 | AO70: 256 | AP70: 28872 | AR70: =SUM(V59:V70) -> 5839 | AS70: =SUM(W59:W70) -> 117429 | AT70: =SUM(X59:X70) -> 15156 | AU70: =SUM(Y59:Y70) -> 171829 | AV70: =SUM(Z59:Z70) -> 8715 | AW70: =SUM(AA59:AA70) -> 313 | AX70: =SUM(AB59:AB70) -> 5104 | AY70: =SUM(AC59:AC70) -> 136 | ... BL70: =SUM(AP59:AP70) -> 28872 | BN70: =SUM(OFFSET($B70,-($B70-1),MATCH(BN$6,$7:$7,)-1,1,1):OFFSET($B70,0,MATCH(BN$6,$7:$7,)-1,1,1)) -> 95614 | BO70: =SUM(OFFSET($B70,-($B70-1),MATCH(BO$6,$7:$7,)-1,1,1):OFFSET($B70,0,MATCH(BO$6,$7:$7,)-1,1,1)) -> 11308 | BP70: =SUM(OFFSET($B70,-($B70-1),MATCH(BP$6,$7:$7,)-1,1,1):OFFSET($B70,0,MATCH(BP$6,$7:$7,)-1,1,1)) -> 149531 | BQ70: =SUM(OFFSET($B70,-($B70-1),MATCH(BQ$6,$7:$7,)-1,1,1):OFFSET($B70,0,MATCH(BQ$6,$7:$7,)-1,1,1)) -> 6955 | BR70: =SUM(OFFSET($B70,-($B70-1),MATCH(BR$6,$7:$7,)-1,1,1):OFFSET($B70,0,MATCH(BR$6,$7:$7,)-1,1,1)) -> 286 | BS70: =SUM(OFFSET($B70,-($B70-1),MATCH(BS$6,$7:$7,)-1,1,1):OFFSET($B70,0,MATCH(BS$6,$7:$7,)-1,1,1)) -> 4016 | BT70: =SUM(OFFSET($B70,-($B70-1),MATCH(BT$6,$7:$7,)-1,1,1):OFFSET($B70,0,MATCH(BT$6,$7:$7,)-1,1,1)) -> 136 | BU70: =SUM(OFFSET($B70,-($B70-1),MATCH(BU$6,$7:$7,)-1,1,1):OFFSET($B70,0,MATCH(BU$6,$7:$7,)-1,1,1)) -> 354 | ... CH70: =SUM(OFFSET($B70,-($B70-1),MATCH(CH$6,$7:$7,)-1,1,1):OFFSET($B70,0,MATCH(CH$6,$7:$7,)-1,1,1)) -> 0 | CJ70: 2280 | CK70: 4530 | CL70: 6780 | CM70: 90 | CN70: 630 | CO70: =SUM(CJ59:CJ70) -> 35151 | CP70: =SUM(CK59:CK70) -> 34587 | CQ70: =SUM(CL59:CL70) -> 71500 | CR70: =SUM(CM59:CM70) -> 1541 | CS70: =SUM(CN59:CN70) -> 7769 | CT70: =SUM(OFFSET($B70,-($B70-1),MATCH(CT$6,$7:$7,)-1,1,1):OFFSET($B70,0,MATCH(CT$6,$7:$7,)-1,1,1)) -> 27218 | CU70: =SUM(OFFSET($B70,-($B70-1),MATCH(CU$6,$7:$7,)-1,1,1):OFFSET($B70,0,MATCH(CU$6,$7:$7,)-1,1,1)) -> 58663 | CV70: =SUM(OFFSET($B70,-($B70-1),MATCH(CV$6,$7:$7,)-1,1,1):OFFSET($B70,0,MATCH(CV$6,$7:$7,)-1,1,1)) -> 1184 | CW70: =SUM(OFFSET($B70,-($B70-1),MATCH(CW$6,$7:$7,)-1,1,1):OFFSET($B70,0,MATCH(CW$6,$7:$7,)-1,1,1)) -> 6342 | CX70: =SUM(OFFSET($B70,-($B70-1),MATCH(CX$6,$7:$7,)-1,1,1):OFFSET($B70,0,MATCH(CX$6,$7:$7,)-1,1,1)) -> 341267
B71: =IF(MONTH(C71)>=4,(MONTH(C71))-3,(MONTH(C71))+9) -> 11 | C71: 40575 | D71: 54945 | E71: 222 | F71: 70271 | G71: =SUM(D60:D71) -> 654078 | H71: =SUM(E60:E71) -> 2754 | I71: =SUM(F60:F71) -> 848572 | J71: =SUM(OFFSET($B71,-($B71-1),MATCH(J$6,$7:$7,)-1,1,1):OFFSET($B71,0,MATCH(J$6,$7:$7,)-1,1,1)) -> 2516 | K71: =SUM(OFFSET($B71,-($B71-1),MATCH(K$6,$7:$7,)-1,1,1):OFFSET($B71,0,MATCH(K$6,$7:$7,)-1,1,1)) -> 776364 | L71: =SUM(OFFSET($B71,-($B71-1),MATCH(L$6,$7:$7,)-1,1,1):OFFSET($B71,0,MATCH(L$6,$7:$7,)-1,1,1)) -> 6985213 | M71: 360863 | N71: 3421 | O71: 429913 | P71: =SUM(M60:M71) -> 4485628 | Q71: =SUM(N60:N71) -> 42664 | R71: =SUM(O60:O71) -> 5636279 | S71: =SUM(OFFSET($B71,-($B71-1),MATCH(S$6,$7:$7,)-1,1,1):OFFSET($B71,0,MATCH(S$6,$7:$7,)-1,1,1)) -> 38771 | T71: =SUM(OFFSET($B71,-($B71-1),MATCH(T$6,$7:$7,)-1,1,1):OFFSET($B71,0,MATCH(T$6,$7:$7,)-1,1,1)) -> 5122139 | U71: =SUM(OFFSET($B71,-($B71-1),MATCH(U$6,$7:$7,)-1,1,1):OFFSET($B71,0,MATCH(U$6,$7:$7,)-1,1,1)) -> 49627859 | V71: 631 | W71: 11215 | X71: 2325 | Y71: 10895 | Z71: 1040 | AA71: 1 | AB71: 796 | AC71: 457 | AD71: 296 | AE71: 35 | AF71: 788 | AG71: 2425 | AH71: 204 | AI71: 2629 | AJ71: 771 | AK71: 50 | AL71: 0 | AM71: 821 | AN71: 102 | AO71: 191 | AP71: 22165 | AR71: =SUM(V60:V71) -> 5906 | AS71: =SUM(W60:W71) -> 118258 | AT71: =SUM(X60:X71) -> 15165 | AU71: =SUM(Y60:Y71) -> 172364 | AV71: =SUM(Z60:Z71) -> 8990 | AW71: =SUM(AA60:AA71) -> 313 | AX71: =SUM(AB60:AB71) -> 5333 | AY71: =SUM(AC60:AC71) -> 593 | ... BL71: =SUM(AP60:AP71) -> 51037 | BN71: =SUM(OFFSET($B71,-($B71-1),MATCH(BN$6,$7:$7,)-1,1,1):OFFSET($B71,0,MATCH(BN$6,$7:$7,)-1,1,1)) -> 106829 | BO71: =SUM(OFFSET($B71,-($B71-1),MATCH(BO$6,$7:$7,)-1,1,1):OFFSET($B71,0,MATCH(BO$6,$7:$7,)-1,1,1)) -> 13633 | BP71: =SUM(OFFSET($B71,-($B71-1),MATCH(BP$6,$7:$7,)-1,1,1):OFFSET($B71,0,MATCH(BP$6,$7:$7,)-1,1,1)) -> 160426 | BQ71: =SUM(OFFSET($B71,-($B71-1),MATCH(BQ$6,$7:$7,)-1,1,1):OFFSET($B71,0,MATCH(BQ$6,$7:$7,)-1,1,1)) -> 7995 | BR71: =SUM(OFFSET($B71,-($B71-1),MATCH(BR$6,$7:$7,)-1,1,1):OFFSET($B71,0,MATCH(BR$6,$7:$7,)-1,1,1)) -> 287 | BS71: =SUM(OFFSET($B71,-($B71-1),MATCH(BS$6,$7:$7,)-1,1,1):OFFSET($B71,0,MATCH(BS$6,$7:$7,)-1,1,1)) -> 4812 | BT71: =SUM(OFFSET($B71,-($B71-1),MATCH(BT$6,$7:$7,)-1,1,1):OFFSET($B71,0,MATCH(BT$6,$7:$7,)-1,1,1)) -> 593 | BU71: =SUM(OFFSET($B71,-($B71-1),MATCH(BU$6,$7:$7,)-1,1,1):OFFSET($B71,0,MATCH(BU$6,$7:$7,)-1,1,1)) -> 650 | ... CH71: =SUM(OFFSET($B71,-($B71-1),MATCH(CH$6,$7:$7,)-1,1,1):OFFSET($B71,0,MATCH(CH$6,$7:$7,)-1,1,1)) -> 0 | CJ71: 3300 | CK71: 4400 | CL71: 6825 | CM71: 200 | CN71: 1100 | CO71: =SUM(CJ60:CJ71) -> 35326 | CP71: =SUM(CK60:CK71) -> 35362 | CQ71: =SUM(CL60:CL71) -> 71650 | CR71: =SUM(CM60:CM71) -> 1566 | CS71: =SUM(CN60:CN71) -> 8144 | CT71: =SUM(OFFSET($B71,-($B71-1),MATCH(CT$6,$7:$7,)-1,1,1):OFFSET($B71,0,MATCH(CT$6,$7:$7,)-1,1,1)) -> 31618 | CU71: =SUM(OFFSET($B71,-($B71-1),MATCH(CU$6,$7:$7,)-1,1,1):OFFSET($B71,0,MATCH(CU$6,$7:$7,)-1,1,1)) -> 65488 | CV71: =SUM(OFFSET($B71,-($B71-1),MATCH(CV$6,$7:$7,)-1,1,1):OFFSET($B71,0,MATCH(CV$6,$7:$7,)-1,1,1)) -> 1384 | CW71: =SUM(OFFSET($B71,-($B71-1),MATCH(CW$6,$7:$7,)-1,1,1):OFFSET($B71,0,MATCH(CW$6,$7:$7,)-1,1,1)) -> 7442 | CX71: =SUM(OFFSET($B71,-($B71-1),MATCH(CX$6,$7:$7,)-1,1,1):OFFSET($B71,0,MATCH(CX$6,$7:$7,)-1,1,1)) -> 376593
B72: =IF(MONTH(C72)>=4,(MONTH(C72))-3,(MONTH(C72))+9) -> 12 | C72: 40603 | D72: 56961 | E72: 240 | F72: 80667 | G72: =SUM(D61:D72) -> 654576 | H72: =SUM(E61:E72) -> 2756 | I72: =SUM(F61:F72) -> 857031 | J72: =SUM(OFFSET($B72,-($B72-1),MATCH(J$6,$7:$7,)-1,1,1):OFFSET($B72,0,MATCH(J$6,$7:$7,)-1,1,1)) -> 2756 | K72: =SUM(OFFSET($B72,-($B72-1),MATCH(K$6,$7:$7,)-1,1,1):OFFSET($B72,0,MATCH(K$6,$7:$7,)-1,1,1)) -> 857031 | L72: =SUM(OFFSET($B72,-($B72-1),MATCH(L$6,$7:$7,)-1,1,1):OFFSET($B72,0,MATCH(L$6,$7:$7,)-1,1,1)) -> 7639789 | M72: 400745 | N72: 3786 | O72: 493488 | P72: =SUM(M61:M72) -> 4479651 | Q72: =SUM(N61:N72) -> 42557 | R72: =SUM(O61:O72) -> 5615627 | S72: =SUM(OFFSET($B72,-($B72-1),MATCH(S$6,$7:$7,)-1,1,1):OFFSET($B72,0,MATCH(S$6,$7:$7,)-1,1,1)) -> 42557 | T72: =SUM(OFFSET($B72,-($B72-1),MATCH(T$6,$7:$7,)-1,1,1):OFFSET($B72,0,MATCH(T$6,$7:$7,)-1,1,1)) -> 5615627 | U72: =SUM(OFFSET($B72,-($B72-1),MATCH(U$6,$7:$7,)-1,1,1):OFFSET($B72,0,MATCH(U$6,$7:$7,)-1,1,1)) -> 54107510 | V72: 524 | W72: 11193 | X72: 1554 | Y72: 12400 | Z72: 703 | AA72: 90 | AB72: 578 | AC72: 294 | AD72: 305 | AE72: 35 | AF72: 634 | AG72: 1736 | AH72: 150 | AI72: 1886 | AJ72: 578 | AK72: 0 | AL72: 30 | AM72: 608 | AN72: 33 | AO72: 98 | AP72: 23745 | AR72: =SUM(V61:V72) -> 6121 | AS72: =SUM(W61:W72) -> 118022 | AT72: =SUM(X61:X72) -> 15187 | AU72: =SUM(Y61:Y72) -> 172826 | AV72: =SUM(Z61:Z72) -> 8698 | AW72: =SUM(AA61:AA72) -> 377 | AX72: =SUM(AB61:AB72) -> 5390 | AY72: =SUM(AC61:AC72) -> 887 | ... BL72: =SUM(AP61:AP72) -> 74782 | BN72: =SUM(OFFSET($B72,-($B72-1),MATCH(BN$6,$7:$7,)-1,1,1):OFFSET($B72,0,MATCH(BN$6,$7:$7,)-1,1,1)) -> 118022 | BO72: =SUM(OFFSET($B72,-($B72-1),MATCH(BO$6,$7:$7,)-1,1,1):OFFSET($B72,0,MATCH(BO$6,$7:$7,)-1,1,1)) -> 15187 | BP72: =SUM(OFFSET($B72,-($B72-1),MATCH(BP$6,$7:$7,)-1,1,1):OFFSET($B72,0,MATCH(BP$6,$7:$7,)-1,1,1)) -> 172826 | BQ72: =SUM(OFFSET($B72,-($B72-1),MATCH(BQ$6,$7:$7,)-1,1,1):OFFSET($B72,0,MATCH(BQ$6,$7:$7,)-1,1,1)) -> 8698 | BR72: =SUM(OFFSET($B72,-($B72-1),MATCH(BR$6,$7:$7,)-1,1,1):OFFSET($B72,0,MATCH(BR$6,$7:$7,)-1,1,1)) -> 377 | BS72: =SUM(OFFSET($B72,-($B72-1),MATCH(BS$6,$7:$7,)-1,1,1):OFFSET($B72,0,MATCH(BS$6,$7:$7,)-1,1,1)) -> 5390 | BT72: =SUM(OFFSET($B72,-($B72-1),MATCH(BT$6,$7:$7,)-1,1,1):OFFSET($B72,0,MATCH(BT$6,$7:$7,)-1,1,1)) -> 887 | BU72: =SUM(OFFSET($B72,-($B72-1),MATCH(BU$6,$7:$7,)-1,1,1):OFFSET($B72,0,MATCH(BU$6,$7:$7,)-1,1,1)) -> 955 | ... CH72: =SUM(OFFSET($B72,-($B72-1),MATCH(CH$6,$7:$7,)-1,1,1):OFFSET($B72,0,MATCH(CH$6,$7:$7,)-1,1,1)) -> 0 | CJ72: 3300 | CK72: 4020 | CL72: 6360 | CM72: 60 | CN72: 990 | CO72: =SUM(CJ61:CJ72) -> 34830 | CP72: =SUM(CK61:CK72) -> 35638 | CQ72: =SUM(CL61:CL72) -> 71848 | CR72: =SUM(CM61:CM72) -> 1444 | CS72: =SUM(CN61:CN72) -> 8432 | CT72: =SUM(OFFSET($B72,-($B72-1),MATCH(CT$6,$7:$7,)-1,1,1):OFFSET($B72,0,MATCH(CT$6,$7:$7,)-1,1,1)) -> 35638 | CU72: =SUM(OFFSET($B72,-($B72-1),MATCH(CU$6,$7:$7,)-1,1,1):OFFSET($B72,0,MATCH(CU$6,$7:$7,)-1,1,1)) -> 71848 | CV72: =SUM(OFFSET($B72,-($B72-1),MATCH(CV$6,$7:$7,)-1,1,1):OFFSET($B72,0,MATCH(CV$6,$7:$7,)-1,1,1)) -> 1444 | CW72: =SUM(OFFSET($B72,-($B72-1),MATCH(CW$6,$7:$7,)-1,1,1):OFFSET($B72,0,MATCH(CW$6,$7:$7,)-1,1,1)) -> 8432 | CX72: =SUM(OFFSET($B72,-($B72-1),MATCH(CX$6,$7:$7,)-1,1,1):OFFSET($B72,0,MATCH(CX$6,$7:$7,)-1,1,1)) -> 411423
B73: =IF(MONTH(C73)>=4,(MONTH(C73))-3,(MONTH(C73))+9) -> 1 | C73: 40634 | D73: 57931 | E73: 224 | F73: 77697 | G73: =SUM(D62:D73) -> 660343 | H73: =SUM(E62:E73) -> 2748 | I73: =SUM(F62:F73) -> 865446 | J73: =SUM(OFFSET($B73,-($B73-1),MATCH(J$6,$7:$7,)-1,1,1):OFFSET($B73,0,MATCH(J$6,$7:$7,)-1,1,1)) -> 224 | K73: =SUM(OFFSET($B73,-($B73-1),MATCH(K$6,$7:$7,)-1,1,1):OFFSET($B73,0,MATCH(K$6,$7:$7,)-1,1,1)) -> 77697 | L73: =SUM(OFFSET($B73,-($B73-1),MATCH(L$6,$7:$7,)-1,1,1):OFFSET($B73,0,MATCH(L$6,$7:$7,)-1,1,1)) -> 660343 | M73: 372788 | N73: 3510 | O73: 462355 | P73: =SUM(M62:M73) -> 4467431 | Q73: =SUM(N62:N73) -> 42446 | R73: =SUM(O62:O73) -> 5591008 | S73: =SUM(OFFSET($B73,-($B73-1),MATCH(S$6,$7:$7,)-1,1,1):OFFSET($B73,0,MATCH(S$6,$7:$7,)-1,1,1)) -> 3510 | T73: =SUM(OFFSET($B73,-($B73-1),MATCH(T$6,$7:$7,)-1,1,1):OFFSET($B73,0,MATCH(T$6,$7:$7,)-1,1,1)) -> 462355 | U73: =SUM(OFFSET($B73,-($B73-1),MATCH(U$6,$7:$7,)-1,1,1):OFFSET($B73,0,MATCH(U$6,$7:$7,)-1,1,1)) -> 4467431 | V73: 471 | W73: 11815 | X73: 1213 | Y73: 14092 | Z73: 612 | AA73: 0 | AB73: 556 | AC73: 280 | AD73: 202 | AE73: 73 | AF73: 555 | AG73: 1237 | AH73: 101 | AI73: 1338 | AJ73: 556 | AK73: 24 | AL73: 0 | AM73: 580 | AN73: 50 | AO73: 52 | AP73: 25908 | AR73: =SUM(V62:V73) -> 6016 | AS73: =SUM(W62:W73) -> 120435 | AT73: =SUM(X62:X73) -> 15606 | AU73: =SUM(Y62:Y73) -> 173554 | AV73: =SUM(Z62:Z73) -> 8729 | AW73: =SUM(AA62:AA73) -> 352 | AX73: =SUM(AB62:AB73) -> 5582 | AY73: =SUM(AC62:AC73) -> 1167 | ... BL73: =SUM(AP62:AP73) -> 100690 | BN73: =SUM(OFFSET($B73,-($B73-1),MATCH(BN$6,$7:$7,)-1,1,1):OFFSET($B73,0,MATCH(BN$6,$7:$7,)-1,1,1)) -> 11815 | BO73: =SUM(OFFSET($B73,-($B73-1),MATCH(BO$6,$7:$7,)-1,1,1):OFFSET($B73,0,MATCH(BO$6,$7:$7,)-1,1,1)) -> 1213 | BP73: =SUM(OFFSET($B73,-($B73-1),MATCH(BP$6,$7:$7,)-1,1,1):OFFSET($B73,0,MATCH(BP$6,$7:$7,)-1,1,1)) -> 14092 | BQ73: =SUM(OFFSET($B73,-($B73-1),MATCH(BQ$6,$7:$7,)-1,1,1):OFFSET($B73,0,MATCH(BQ$6,$7:$7,)-1,1,1)) -> 612 | BR73: =SUM(OFFSET($B73,-($B73-1),MATCH(BR$6,$7:$7,)-1,1,1):OFFSET($B73,0,MATCH(BR$6,$7:$7,)-1,1,1)) -> 0 | BS73: =SUM(OFFSET($B73,-($B73-1),MATCH(BS$6,$7:$7,)-1,1,1):OFFSET($B73,0,MATCH(BS$6,$7:$7,)-1,1,1)) -> 556 | BT73: =SUM(OFFSET($B73,-($B73-1),MATCH(BT$6,$7:$7,)-1,1,1):OFFSET($B73,0,MATCH(BT$6,$7:$7,)-1,1,1)) -> 280 | BU73: =SUM(OFFSET($B73,-($B73-1),MATCH(BU$6,$7:$7,)-1,1,1):OFFSET($B73,0,MATCH(BU$6,$7:$7,)-1,1,1)) -> 202 | ... CH73: =SUM(OFFSET($B73,-($B73-1),MATCH(CH$6,$7:$7,)-1,1,1):OFFSET($B73,0,MATCH(CH$6,$7:$7,)-1,1,1)) -> 0 | CJ73: 2640 | CK73: 3912 | CL73: 7296 | CM73: 216 | CN73: 624 | CO73: =SUM(CJ62:CJ73) -> 35142 | CP73: =SUM(CK62:CK73) -> 37150 | CQ73: =SUM(CL62:CL73) -> 73024 | CR73: =SUM(CM62:CM73) -> 1492 | CS73: =SUM(CN62:CN73) -> 8312 | CT73: =SUM(OFFSET($B73,-($B73-1),MATCH(CT$6,$7:$7,)-1,1,1):OFFSET($B73,0,MATCH(CT$6,$7:$7,)-1,1,1)) -> 3912 | CU73: =SUM(OFFSET($B73,-($B73-1),MATCH(CU$6,$7:$7,)-1,1,1):OFFSET($B73,0,MATCH(CU$6,$7:$7,)-1,1,1)) -> 7296 | CV73: =SUM(OFFSET($B73,-($B73-1),MATCH(CV$6,$7:$7,)-1,1,1):OFFSET($B73,0,MATCH(CV$6,$7:$7,)-1,1,1)) -> 216 | CW73: =SUM(OFFSET($B73,-($B73-1),MATCH(CW$6,$7:$7,)-1,1,1):OFFSET($B73,0,MATCH(CW$6,$7:$7,)-1,1,1)) -> 624 | CX73: =SUM(OFFSET($B73,-($B73-1),MATCH(CX$6,$7:$7,)-1,1,1):OFFSET($B73,0,MATCH(CX$6,$7:$7,)-1,1,1)) -> 35142
B74: =IF(MONTH(C74)>=4,(MONTH(C74))-3,(MONTH(C74))+9) -> 2 | C74: 40664 | D74: 47336 | E74: 224 | F74: 75369 | G74: =SUM(D63:D74) -> 663656 | H74: =SUM(E63:E74) -> 2761 | I74: =SUM(F63:F74) -> 877351 | J74: =SUM(OFFSET($B74,-($B74-1),MATCH(J$6,$7:$7,)-1,1,1):OFFSET($B74,0,MATCH(J$6,$7:$7,)-1,1,1)) -> 448 | K74: =SUM(OFFSET($B74,-($B74-1),MATCH(K$6,$7:$7,)-1,1,1):OFFSET($B74,0,MATCH(K$6,$7:$7,)-1,1,1)) -> 153066 | L74: =SUM(OFFSET($B74,-($B74-1),MATCH(L$6,$7:$7,)-1,1,1):OFFSET($B74,0,MATCH(L$6,$7:$7,)-1,1,1)) -> 1323999 | M74: 366640 | N74: 3451 | O74: 456011 | P74: =SUM(M63:M74) -> 4470460 | Q74: =SUM(N63:N74) -> 42422 | R74: =SUM(O63:O74) -> 5573411 | S74: =SUM(OFFSET($B74,-($B74-1),MATCH(S$6,$7:$7,)-1,1,1):OFFSET($B74,0,MATCH(S$6,$7:$7,)-1,1,1)) -> 6961 | T74: =SUM(OFFSET($B74,-($B74-1),MATCH(T$6,$7:$7,)-1,1,1):OFFSET($B74,0,MATCH(T$6,$7:$7,)-1,1,1)) -> 918366 | U74: =SUM(OFFSET($B74,-($B74-1),MATCH(U$6,$7:$7,)-1,1,1):OFFSET($B74,0,MATCH(U$6,$7:$7,)-1,1,1)) -> 8937891 | V74: 407 | W74: 7872 | X74: 934 | Y74: 13130 | Z74: 455 | AA74: 60 | AB74: 264 | AC74: 301 | AD74: 202 | AE74: 43 | AF74: 546 | AG74: 974 | AH74: 42 | AI74: 1016 | AJ74: 264 | AK74: 20 | AL74: 0 | AM74: 284 | AN74: 21 | AO74: 69 | AP74: 21082 | AR74: =SUM(V63:V74) -> 6110 | AS74: =SUM(W63:W74) -> 121266 | AT74: =SUM(X63:X74) -> 15545 | AU74: =SUM(Y63:Y74) -> 173854 | AV74: =SUM(Z63:Z74) -> 8720 | AW74: =SUM(AA63:AA74) -> 411 | AX74: =SUM(AB63:AB74) -> 5604 | AY74: =SUM(AC63:AC74) -> 1468 | ... BL74: =SUM(AP63:AP74) -> 121772 | BN74: =SUM(OFFSET($B74,-($B74-1),MATCH(BN$6,$7:$7,)-1,1,1):OFFSET($B74,0,MATCH(BN$6,$7:$7,)-1,1,1)) -> 19687 | BO74: =SUM(OFFSET($B74,-($B74-1),MATCH(BO$6,$7:$7,)-1,1,1):OFFSET($B74,0,MATCH(BO$6,$7:$7,)-1,1,1)) -> 2147 | BP74: =SUM(OFFSET($B74,-($B74-1),MATCH(BP$6,$7:$7,)-1,1,1):OFFSET($B74,0,MATCH(BP$6,$7:$7,)-1,1,1)) -> 27222 | BQ74: =SUM(OFFSET($B74,-($B74-1),MATCH(BQ$6,$7:$7,)-1,1,1):OFFSET($B74,0,MATCH(BQ$6,$7:$7,)-1,1,1)) -> 1067 | BR74: =SUM(OFFSET($B74,-($B74-1),MATCH(BR$6,$7:$7,)-1,1,1):OFFSET($B74,0,MATCH(BR$6,$7:$7,)-1,1,1)) -> 60 | BS74: =SUM(OFFSET($B74,-($B74-1),MATCH(BS$6,$7:$7,)-1,1,1):OFFSET($B74,0,MATCH(BS$6,$7:$7,)-1,1,1)) -> 820 | BT74: =SUM(OFFSET($B74,-($B74-1),MATCH(BT$6,$7:$7,)-1,1,1):OFFSET($B74,0,MATCH(BT$6,$7:$7,)-1,1,1)) -> 581 | BU74: =SUM(OFFSET($B74,-($B74-1),MATCH(BU$6,$7:$7,)-1,1,1):OFFSET($B74,0,MATCH(BU$6,$7:$7,)-1,1,1)) -> 404 | ... CH74: =SUM(OFFSET($B74,-($B74-1),MATCH(CH$6,$7:$7,)-1,1,1):OFFSET($B74,0,MATCH(CH$6,$7:$7,)-1,1,1)) -> 0 | CJ74: 3180 | CK74: 1480 | CL74: 4720 | CM74: 200 | CN74: 500 | CO74: =SUM(CJ63:CJ74) -> 34802 | CP74: =SUM(CK63:CK74) -> 37530 | CQ74: =SUM(CL63:CL74) -> 74004 | CR74: =SUM(CM63:CM74) -> 1672 | CS74: =SUM(CN63:CN74) -> 8312 | CT74: =SUM(OFFSET($B74,-($B74-1),MATCH(CT$6,$7:$7,)-1,1,1):OFFSET($B74,0,MATCH(CT$6,$7:$7,)-1,1,1)) -> 5392 | CU74: =SUM(OFFSET($B74,-($B74-1),MATCH(CU$6,$7:$7,)-1,1,1):OFFSET($B74,0,MATCH(CU$6,$7:$7,)-1,1,1)) -> 12016 | CV74: =SUM(OFFSET($B74,-($B74-1),MATCH(CV$6,$7:$7,)-1,1,1):OFFSET($B74,0,MATCH(CV$6,$7:$7,)-1,1,1)) -> 416 | CW74: =SUM(OFFSET($B74,-($B74-1),MATCH(CW$6,$7:$7,)-1,1,1):OFFSET($B74,0,MATCH(CW$6,$7:$7,)-1,1,1)) -> 1124 | CX74: =SUM(OFFSET($B74,-($B74-1),MATCH(CX$6,$7:$7,)-1,1,1):OFFSET($B74,0,MATCH(CX$6,$7:$7,)-1,1,1)) -> 69944
B75: =IF(MONTH(C75)>=4,(MONTH(C75))-3,(MONTH(C75))+9) -> 3 | C75: 40695 | D75: 41028 | E75: 174 | F75: 57696 | G75: =SUM(D64:D75) -> 660683 | H75: =SUM(E64:E75) -> 2719 | I75: =SUM(F64:F75) -> 870701 | J75: =SUM(OFFSET($B75,-($B75-1),MATCH(J$6,$7:$7,)-1,1,1):OFFSET($B75,0,MATCH(J$6,$7:$7,)-1,1,1)) -> 622 | K75: =SUM(OFFSET($B75,-($B75-1),MATCH(K$6,$7:$7,)-1,1,1):OFFSET($B75,0,MATCH(K$6,$7:$7,)-1,1,1)) -> 210762 | L75: =SUM(OFFSET($B75,-($B75-1),MATCH(L$6,$7:$7,)-1,1,1):OFFSET($B75,0,MATCH(L$6,$7:$7,)-1,1,1)) -> 1984682 | M75: 334289 | N75: 3215 | O75: 414161 | P75: =SUM(M64:M75) -> 4441065 | Q75: =SUM(N64:N75) -> 42236 | R75: =SUM(O64:O75) -> 5521318 | S75: =SUM(OFFSET($B75,-($B75-1),MATCH(S$6,$7:$7,)-1,1,1):OFFSET($B75,0,MATCH(S$6,$7:$7,)-1,1,1)) -> 10176 | T75: =SUM(OFFSET($B75,-($B75-1),MATCH(T$6,$7:$7,)-1,1,1):OFFSET($B75,0,MATCH(T$6,$7:$7,)-1,1,1)) -> 1332527 | U75: =SUM(OFFSET($B75,-($B75-1),MATCH(U$6,$7:$7,)-1,1,1):OFFSET($B75,0,MATCH(U$6,$7:$7,)-1,1,1)) -> 13378956 | V75: 335 | W75: 6835 | X75: 662 | Y75: 11590 | Z75: 477 | AA75: 0 | AB75: 387 | AC75: 202 | AD75: 163 | AE75: 43 | AF75: 408 | AG75: 685 | AH75: 41 | AI75: 726 | AJ75: 387 | AK75: 60 | AL75: 0 | AM75: 447 | AN75: 67 | AO75: 122 | AP75: 18451 | AR75: =SUM(V64:V75) -> 6128 | AS75: =SUM(W64:W75) -> 120402 | AT75: =SUM(X64:X75) -> 15446 | AU75: =SUM(Y64:Y75) -> 173174 | AV75: =SUM(Z64:Z75) -> 8611 | AW75: =SUM(AA64:AA75) -> 411 | AX75: =SUM(AB64:AB75) -> 5618 | AY75: =SUM(AC64:AC75) -> 1670 | ... BL75: =SUM(AP64:AP75) -> 140223 | BN75: =SUM(OFFSET($B75,-($B75-1),MATCH(BN$6,$7:$7,)-1,1,1):OFFSET($B75,0,MATCH(BN$6,$7:$7,)-1,1,1)) -> 26522 | BO75: =SUM(OFFSET($B75,-($B75-1),MATCH(BO$6,$7:$7,)-1,1,1):OFFSET($B75,0,MATCH(BO$6,$7:$7,)-1,1,1)) -> 2809 | BP75: =SUM(OFFSET($B75,-($B75-1),MATCH(BP$6,$7:$7,)-1,1,1):OFFSET($B75,0,MATCH(BP$6,$7:$7,)-1,1,1)) -> 38812 | BQ75: =SUM(OFFSET($B75,-($B75-1),MATCH(BQ$6,$7:$7,)-1,1,1):OFFSET($B75,0,MATCH(BQ$6,$7:$7,)-1,1,1)) -> 1544 | BR75: =SUM(OFFSET($B75,-($B75-1),MATCH(BR$6,$7:$7,)-1,1,1):OFFSET($B75,0,MATCH(BR$6,$7:$7,)-1,1,1)) -> 60 | BS75: =SUM(OFFSET($B75,-($B75-1),MATCH(BS$6,$7:$7,)-1,1,1):OFFSET($B75,0,MATCH(BS$6,$7:$7,)-1,1,1)) -> 1207 | BT75: =SUM(OFFSET($B75,-($B75-1),MATCH(BT$6,$7:$7,)-1,1,1):OFFSET($B75,0,MATCH(BT$6,$7:$7,)-1,1,1)) -> 783 | BU75: =SUM(OFFSET($B75,-($B75-1),MATCH(BU$6,$7:$7,)-1,1,1):OFFSET($B75,0,MATCH(BU$6,$7:$7,)-1,1,1)) -> 567 | ... CH75: =SUM(OFFSET($B75,-($B75-1),MATCH(CH$6,$7:$7,)-1,1,1):OFFSET($B75,0,MATCH(CH$6,$7:$7,)-1,1,1)) -> 0 | CJ75: 1860 | CK75: 1720 | CL75: 4300 | CM75: 0 | CN75: 1036 | CO75: =SUM(CJ64:CJ75) -> 33782 | CP75: =SUM(CK64:CK75) -> 37470 | CQ75: =SUM(CL64:CL75) -> 73824 | CR75: =SUM(CM64:CM75) -> 1572 | CS75: =SUM(CN64:CN75) -> 8988 | CT75: =SUM(OFFSET($B75,-($B75-1),MATCH(CT$6,$7:$7,)-1,1,1):OFFSET($B75,0,MATCH(CT$6,$7:$7,)-1,1,1)) -> 7112 | CU75: =SUM(OFFSET($B75,-($B75-1),MATCH(CU$6,$7:$7,)-1,1,1):OFFSET($B75,0,MATCH(CU$6,$7:$7,)-1,1,1)) -> 16316 | CV75: =SUM(OFFSET($B75,-($B75-1),MATCH(CV$6,$7:$7,)-1,1,1):OFFSET($B75,0,MATCH(CV$6,$7:$7,)-1,1,1)) -> 416 | CW75: =SUM(OFFSET($B75,-($B75-1),MATCH(CW$6,$7:$7,)-1,1,1):OFFSET($B75,0,MATCH(CW$6,$7:$7,)-1,1,1)) -> 2160 | CX75: =SUM(OFFSET($B75,-($B75-1),MATCH(CX$6,$7:$7,)-1,1,1):OFFSET($B75,0,MATCH(CX$6,$7:$7,)-1,1,1)) -> 103726
B76: =IF(MONTH(C76)>=4,(MONTH(C76))-3,(MONTH(C76))+9) -> 4 | C76: 40725 | D76: 57026 | E76: 235 | F76: 80280 | G76: =SUM(D65:D76) -> 663453 | H76: =SUM(E65:E76) -> 2723 | I76: =SUM(F65:F76) -> 881811 | J76: =SUM(OFFSET($B76,-($B76-1),MATCH(J$6,$7:$7,)-1,1,1):OFFSET($B76,0,MATCH(J$6,$7:$7,)-1,1,1)) -> 857 | K76: =SUM(OFFSET($B76,-($B76-1),MATCH(K$6,$7:$7,)-1,1,1):OFFSET($B76,0,MATCH(K$6,$7:$7,)-1,1,1)) -> 291042 | L76: =SUM(OFFSET($B76,-($B76-1),MATCH(L$6,$7:$7,)-1,1,1):OFFSET($B76,0,MATCH(L$6,$7:$7,)-1,1,1)) -> 2648135 | M76: 383566 | N76: 3570 | O76: 478579 | P76: =SUM(M65:M76) -> 4434823 | Q76: =SUM(N65:N76) -> 42155 | R76: =SUM(O65:O76) -> 5492456 | S76: =SUM(OFFSET($B76,-($B76-1),MATCH(S$6,$7:$7,)-1,1,1):OFFSET($B76,0,MATCH(S$6,$7:$7,)-1,1,1)) -> 13746 | T76: =SUM(OFFSET($B76,-($B76-1),MATCH(T$6,$7:$7,)-1,1,1):OFFSET($B76,0,MATCH(T$6,$7:$7,)-1,1,1)) -> 1811106 | U76: =SUM(OFFSET($B76,-($B76-1),MATCH(U$6,$7:$7,)-1,1,1):OFFSET($B76,0,MATCH(U$6,$7:$7,)-1,1,1)) -> 17813779 | V76: 406 | W76: 8333 | X76: 771 | Y76: 17282 | Z76: 636 | AA76: 35 | AB76: 411 | AC76: 288 | AD76: 219 | AE76: 36 | AF76: 543 | AG76: 819 | AH76: 100 | AI76: 919 | AJ76: 411 | AK76: 0 | AL76: 0 | AM76: 411 | AN76: 42 | AO76: 168 | AP76: 25700 | AR76: =SUM(V65:V76) -> 5978 | AS76: =SUM(W65:W76) -> 121135 | AT76: =SUM(X65:X76) -> 15625 | AU76: =SUM(Y65:Y76) -> 173778 | AV76: =SUM(Z65:Z76) -> 8760 | AW76: =SUM(AA65:AA76) -> 372 | AX76: =SUM(AB65:AB76) -> 5792 | AY76: =SUM(AC65:AC76) -> 1958 | ... BL76: =SUM(AP65:AP76) -> 165923 | BN76: =SUM(OFFSET($B76,-($B76-1),MATCH(BN$6,$7:$7,)-1,1,1):OFFSET($B76,0,MATCH(BN$6,$7:$7,)-1,1,1)) -> 34855 | BO76: =SUM(OFFSET($B76,-($B76-1),MATCH(BO$6,$7:$7,)-1,1,1):OFFSET($B76,0,MATCH(BO$6,$7:$7,)-1,1,1)) -> 3580 | BP76: =SUM(OFFSET($B76,-($B76-1),MATCH(BP$6,$7:$7,)-1,1,1):OFFSET($B76,0,MATCH(BP$6,$7:$7,)-1,1,1)) -> 56094 | BQ76: =SUM(OFFSET($B76,-($B76-1),MATCH(BQ$6,$7:$7,)-1,1,1):OFFSET($B76,0,MATCH(BQ$6,$7:$7,)-1,1,1)) -> 2180 | BR76: =SUM(OFFSET($B76,-($B76-1),MATCH(BR$6,$7:$7,)-1,1,1):OFFSET($B76,0,MATCH(BR$6,$7:$7,)-1,1,1)) -> 95 | BS76: =SUM(OFFSET($B76,-($B76-1),MATCH(BS$6,$7:$7,)-1,1,1):OFFSET($B76,0,MATCH(BS$6,$7:$7,)-1,1,1)) -> 1618 | BT76: =SUM(OFFSET($B76,-($B76-1),MATCH(BT$6,$7:$7,)-1,1,1):OFFSET($B76,0,MATCH(BT$6,$7:$7,)-1,1,1)) -> 1071 | BU76: =SUM(OFFSET($B76,-($B76-1),MATCH(BU$6,$7:$7,)-1,1,1):OFFSET($B76,0,MATCH(BU$6,$7:$7,)-1,1,1)) -> 786 | ... CH76: =SUM(OFFSET($B76,-($B76-1),MATCH(CH$6,$7:$7,)-1,1,1):OFFSET($B76,0,MATCH(CH$6,$7:$7,)-1,1,1)) -> 0 | CJ76: 2640 | CK76: 2144 | CL76: 5024 | CM76: 160 | CN76: 592 | CO76: =SUM(CJ65:CJ76) -> 34022 | CP76: =SUM(CK65:CK76) -> 37670 | CQ76: =SUM(CL65:CL76) -> 74792 | CR76: =SUM(CM65:CM76) -> 1444 | CS76: =SUM(CN65:CN76) -> 8908 | CT76: =SUM(OFFSET($B76,-($B76-1),MATCH(CT$6,$7:$7,)-1,1,1):OFFSET($B76,0,MATCH(CT$6,$7:$7,)-1,1,1)) -> 9256 | CU76: =SUM(OFFSET($B76,-($B76-1),MATCH(CU$6,$7:$7,)-1,1,1):OFFSET($B76,0,MATCH(CU$6,$7:$7,)-1,1,1)) -> 21340 | CV76: =SUM(OFFSET($B76,-($B76-1),MATCH(CV$6,$7:$7,)-1,1,1):OFFSET($B76,0,MATCH(CV$6,$7:$7,)-1,1,1)) -> 576 | CW76: =SUM(OFFSET($B76,-($B76-1),MATCH(CW$6,$7:$7,)-1,1,1):OFFSET($B76,0,MATCH(CW$6,$7:$7,)-1,1,1)) -> 2752 | CX76: =SUM(OFFSET($B76,-($B76-1),MATCH(CX$6,$7:$7,)-1,1,1):OFFSET($B76,0,MATCH(CX$6,$7:$7,)-1,1,1)) -> 137748
B77: =IF(MONTH(C77)>=4,(MONTH(C77))-3,(MONTH(C77))+9) -> 5 | C77: 40756 | D77: 55413 | E77: 233 | F77: 81120 | G77: =SUM(D66:D77) -> 668917 | H77: =SUM(E66:E77) -> 2732 | I77: =SUM(F66:F77) -> 895599 | J77: =SUM(OFFSET($B77,-($B77-1),MATCH(J$6,$7:$7,)-1,1,1):OFFSET($B77,0,MATCH(J$6,$7:$7,)-1,1,1)) -> 1090 | K77: =SUM(OFFSET($B77,-($B77-1),MATCH(K$6,$7:$7,)-1,1,1):OFFSET($B77,0,MATCH(K$6,$7:$7,)-1,1,1)) -> 372162 | L77: =SUM(OFFSET($B77,-($B77-1),MATCH(L$6,$7:$7,)-1,1,1):OFFSET($B77,0,MATCH(L$6,$7:$7,)-1,1,1)) -> 3317052 | M77: 388170 | N77: 3682 | O77: 485279 | P77: =SUM(M66:M77) -> 4448707 | Q77: =SUM(N66:N77) -> 42215 | R77: =SUM(O66:O77) -> 5481981 | S77: =SUM(OFFSET($B77,-($B77-1),MATCH(S$6,$7:$7,)-1,1,1):OFFSET($B77,0,MATCH(S$6,$7:$7,)-1,1,1)) -> 17428 | T77: =SUM(OFFSET($B77,-($B77-1),MATCH(T$6,$7:$7,)-1,1,1):OFFSET($B77,0,MATCH(T$6,$7:$7,)-1,1,1)) -> 2296385 | U77: =SUM(OFFSET($B77,-($B77-1),MATCH(U$6,$7:$7,)-1,1,1):OFFSET($B77,0,MATCH(U$6,$7:$7,)-1,1,1)) -> 22262486 | V77: 469 | W77: 9130 | X77: 858 | Y77: 16524 | Z77: 576 | AA77: 99 | AB77: 311 | AC77: 226 | AD77: 314 | AE77: 37 | AF77: 577 | AG77: 874 | AH77: 82 | AI77: 956 | AJ77: 311 | AK77: 0 | AL77: 0 | AM77: 311 | AN77: 102 | AO77: 117 | AP77: 25804 | AR77: =SUM(V66:V77) -> 6119 | AS77: =SUM(W66:W77) -> 122934 | AT77: =SUM(X66:X77) -> 15550 | AU77: =SUM(Y66:Y77) -> 175012 | AV77: =SUM(Z66:Z77) -> 8801 | AW77: =SUM(AA66:AA77) -> 419 | AX77: =SUM(AB66:AB77) -> 5782 | AY77: =SUM(AC66:AC77) -> 2184 | ... BL77: =SUM(AP66:AP77) -> 191727 | BN77: =SUM(OFFSET($B77,-($B77-1),MATCH(BN$6,$7:$7,)-1,1,1):OFFSET($B77,0,MATCH(BN$6,$7:$7,)-1,1,1)) -> 43985 | BO77: =SUM(OFFSET($B77,-($B77-1),MATCH(BO$6,$7:$7,)-1,1,1):OFFSET($B77,0,MATCH(BO$6,$7:$7,)-1,1,1)) -> 4438 | BP77: =SUM(OFFSET($B77,-($B77-1),MATCH(BP$6,$7:$7,)-1,1,1):OFFSET($B77,0,MATCH(BP$6,$7:$7,)-1,1,1)) -> 72618 | BQ77: =SUM(OFFSET($B77,-($B77-1),MATCH(BQ$6,$7:$7,)-1,1,1):OFFSET($B77,0,MATCH(BQ$6,$7:$7,)-1,1,1)) -> 2756 | BR77: =SUM(OFFSET($B77,-($B77-1),MATCH(BR$6,$7:$7,)-1,1,1):OFFSET($B77,0,MATCH(BR$6,$7:$7,)-1,1,1)) -> 194 | BS77: =SUM(OFFSET($B77,-($B77-1),MATCH(BS$6,$7:$7,)-1,1,1):OFFSET($B77,0,MATCH(BS$6,$7:$7,)-1,1,1)) -> 1929 | BT77: =SUM(OFFSET($B77,-($B77-1),MATCH(BT$6,$7:$7,)-1,1,1):OFFSET($B77,0,MATCH(BT$6,$7:$7,)-1,1,1)) -> 1297 | BU77: =SUM(OFFSET($B77,-($B77-1),MATCH(BU$6,$7:$7,)-1,1,1):OFFSET($B77,0,MATCH(BU$6,$7:$7,)-1,1,1)) -> 1100 | ... CH77: =SUM(OFFSET($B77,-($B77-1),MATCH(CH$6,$7:$7,)-1,1,1):OFFSET($B77,0,MATCH(CH$6,$7:$7,)-1,1,1)) -> 0 | CJ77: 3344 | CK77: 1872 | CL77: 5552 | CM77: 64 | CN77: 624 | CO77: =SUM(CJ66:CJ77) -> 34550 | CP77: =SUM(CK66:CK77) -> 38222 | CQ77: =SUM(CL66:CL77) -> 75922 | CR77: =SUM(CM66:CM77) -> 1398 | CS77: =SUM(CN66:CN77) -> 8894 | CT77: =SUM(OFFSET($B77,-($B77-1),MATCH(CT$6,$7:$7,)-1,1,1):OFFSET($B77,0,MATCH(CT$6,$7:$7,)-1,1,1)) -> 11128 | CU77: =SUM(OFFSET($B77,-($B77-1),MATCH(CU$6,$7:$7,)-1,1,1):OFFSET($B77,0,MATCH(CU$6,$7:$7,)-1,1,1)) -> 26892 | CV77: =SUM(OFFSET($B77,-($B77-1),MATCH(CV$6,$7:$7,)-1,1,1):OFFSET($B77,0,MATCH(CV$6,$7:$7,)-1,1,1)) -> 640 | CW77: =SUM(OFFSET($B77,-($B77-1),MATCH(CW$6,$7:$7,)-1,1,1):OFFSET($B77,0,MATCH(CW$6,$7:$7,)-1,1,1)) -> 3376 | CX77: =SUM(OFFSET($B77,-($B77-1),MATCH(CX$6,$7:$7,)-1,1,1):OFFSET($B77,0,MATCH(CX$6,$7:$7,)-1,1,1)) -> 172298
B78: =IF(MONTH(C78)>=4,(MONTH(C78))-3,(MONTH(C78))+9) -> 6 | C78: 40787 | D78: 60767 | E78: 253 | F78: 86388 | G78: =SUM(D67:D78) -> 677186 | H78: =SUM(E67:E78) -> 2768 | I78: =SUM(F67:F78) -> 916259 | J78: =SUM(OFFSET($B78,-($B78-1),MATCH(J$6,$7:$7,)-1,1,1):OFFSET($B78,0,MATCH(J$6,$7:$7,)-1,1,1)) -> 1343 | K78: =SUM(OFFSET($B78,-($B78-1),MATCH(K$6,$7:$7,)-1,1,1):OFFSET($B78,0,MATCH(K$6,$7:$7,)-1,1,1)) -> 458550 | L78: =SUM(OFFSET($B78,-($B78-1),MATCH(L$6,$7:$7,)-1,1,1):OFFSET($B78,0,MATCH(L$6,$7:$7,)-1,1,1)) -> 3994238 | M78: 359674 | N78: 3653 | O78: 482091 | P78: =SUM(M67:M78) -> 4421978 | Q78: =SUM(N67:N78) -> 42277 | R78: =SUM(O67:O78) -> 5475473 | S78: =SUM(OFFSET($B78,-($B78-1),MATCH(S$6,$7:$7,)-1,1,1):OFFSET($B78,0,MATCH(S$6,$7:$7,)-1,1,1)) -> 21081 | T78: =SUM(OFFSET($B78,-($B78-1),MATCH(T$6,$7:$7,)-1,1,1):OFFSET($B78,0,MATCH(T$6,$7:$7,)-1,1,1)) -> 2778476 | U78: =SUM(OFFSET($B78,-($B78-1),MATCH(U$6,$7:$7,)-1,1,1):OFFSET($B78,0,MATCH(U$6,$7:$7,)-1,1,1)) -> 26684464 | V78: 540 | W78: 11883 | X78: 1889 | Y78: 14658 | Z78: 2163 | AA78: 84 | AB78: 691 | AC78: 325 | AD78: 251 | AE78: 54 | AF78: 630 | AG78: 1905 | AH78: 130 | AI78: 2035 | AJ78: 675 | AK78: 160 | AL78: 16 | AM78: 851 | AN78: 96 | AO78: 1368 | AP78: 26625 | AR78: =SUM(V67:V78) -> 6367 | AS78: =SUM(W67:W78) -> 125301 | AT78: =SUM(X67:X78) -> 16962 | AU78: =SUM(Y67:Y78) -> 174988 | AV78: =SUM(Z67:Z78) -> 10368 | AW78: =SUM(AA67:AA78) -> 478 | AX78: =SUM(AB67:AB78) -> 6089 | AY78: =SUM(AC67:AC78) -> 2509 | ... BL78: =SUM(AP67:AP78) -> 218352 | BN78: =SUM(OFFSET($B78,-($B78-1),MATCH(BN$6,$7:$7,)-1,1,1):OFFSET($B78,0,MATCH(BN$6,$7:$7,)-1,1,1)) -> 55868 | BO78: =SUM(OFFSET($B78,-($B78-1),MATCH(BO$6,$7:$7,)-1,1,1):OFFSET($B78,0,MATCH(BO$6,$7:$7,)-1,1,1)) -> 6327 | BP78: =SUM(OFFSET($B78,-($B78-1),MATCH(BP$6,$7:$7,)-1,1,1):OFFSET($B78,0,MATCH(BP$6,$7:$7,)-1,1,1)) -> 87276 | BQ78: =SUM(OFFSET($B78,-($B78-1),MATCH(BQ$6,$7:$7,)-1,1,1):OFFSET($B78,0,MATCH(BQ$6,$7:$7,)-1,1,1)) -> 4919 | BR78: =SUM(OFFSET($B78,-($B78-1),MATCH(BR$6,$7:$7,)-1,1,1):OFFSET($B78,0,MATCH(BR$6,$7:$7,)-1,1,1)) -> 278 | BS78: =SUM(OFFSET($B78,-($B78-1),MATCH(BS$6,$7:$7,)-1,1,1):OFFSET($B78,0,MATCH(BS$6,$7:$7,)-1,1,1)) -> 2620 | BT78: =SUM(OFFSET($B78,-($B78-1),MATCH(BT$6,$7:$7,)-1,1,1):OFFSET($B78,0,MATCH(BT$6,$7:$7,)-1,1,1)) -> 1622 | BU78: =SUM(OFFSET($B78,-($B78-1),MATCH(BU$6,$7:$7,)-1,1,1):OFFSET($B78,0,MATCH(BU$6,$7:$7,)-1,1,1)) -> 1351 | ... CH78: =SUM(OFFSET($B78,-($B78-1),MATCH(CH$6,$7:$7,)-1,1,1):OFFSET($B78,0,MATCH(CH$6,$7:$7,)-1,1,1)) -> 0 | CJ78: 2144 | CK78: 7424 | CL78: 6384 | CM78: 192 | CN78: 1200 | CO78: =SUM(CJ67:CJ78) -> 33592 | CP78: =SUM(CK67:CK78) -> 43248 | CQ78: =SUM(CL67:CL78) -> 77444 | CR78: =SUM(CM67:CM78) -> 1436 | CS78: =SUM(CN67:CN78) -> 9500 | CT78: =SUM(OFFSET($B78,-($B78-1),MATCH(CT$6,$7:$7,)-1,1,1):OFFSET($B78,0,MATCH(CT$6,$7:$7,)-1,1,1)) -> 18552 | CU78: =SUM(OFFSET($B78,-($B78-1),MATCH(CU$6,$7:$7,)-1,1,1):OFFSET($B78,0,MATCH(CU$6,$7:$7,)-1,1,1)) -> 33276 | CV78: =SUM(OFFSET($B78,-($B78-1),MATCH(CV$6,$7:$7,)-1,1,1):OFFSET($B78,0,MATCH(CV$6,$7:$7,)-1,1,1)) -> 832 | CW78: =SUM(OFFSET($B78,-($B78-1),MATCH(CW$6,$7:$7,)-1,1,1):OFFSET($B78,0,MATCH(CW$6,$7:$7,)-1,1,1)) -> 4576 | CX78: =SUM(OFFSET($B78,-($B78-1),MATCH(CX$6,$7:$7,)-1,1,1):OFFSET($B78,0,MATCH(CX$6,$7:$7,)-1,1,1)) -> 205890
B79: =IF(MONTH(C79)>=4,(MONTH(C79))-3,(MONTH(C79))+9) -> 7 | C79: 40817 | D79: 75849 | E79: 286 | F79: 98892 | G79: =SUM(D68:D79) -> 693768 | H79: =SUM(E68:E79) -> 2821 | I79: =SUM(F68:F79) -> 944547 | J79: =SUM(OFFSET($B79,-($B79-1),MATCH(J$6,$7:$7,)-1,1,1):OFFSET($B79,0,MATCH(J$6,$7:$7,)-1,1,1)) -> 1629 | K79: =SUM(OFFSET($B79,-($B79-1),MATCH(K$6,$7:$7,)-1,1,1):OFFSET($B79,0,MATCH(K$6,$7:$7,)-1,1,1)) -> 557442 | L79: =SUM(OFFSET($B79,-($B79-1),MATCH(L$6,$7:$7,)-1,1,1):OFFSET($B79,0,MATCH(L$6,$7:$7,)-1,1,1)) -> 4688006 | M79: 386387 | N79: 3744 | O79: 489312 | P79: =SUM(M68:M79) -> 4411472 | Q79: =SUM(N68:N79) -> 42396 | R79: =SUM(O68:O79) -> 5484234 | S79: =SUM(OFFSET($B79,-($B79-1),MATCH(S$6,$7:$7,)-1,1,1):OFFSET($B79,0,MATCH(S$6,$7:$7,)-1,1,1)) -> 24825 | T79: =SUM(OFFSET($B79,-($B79-1),MATCH(T$6,$7:$7,)-1,1,1):OFFSET($B79,0,MATCH(T$6,$7:$7,)-1,1,1)) -> 3267788 | U79: =SUM(OFFSET($B79,-($B79-1),MATCH(U$6,$7:$7,)-1,1,1):OFFSET($B79,0,MATCH(U$6,$7:$7,)-1,1,1)) -> 31095936 | V79: 490 | W79: 13235 | X79: 1482 | Y79: 18856 | Z79: 1632 | AA79: 35 | AB79: 443 | AC79: 240 | AD79: 308 | AE79: 50 | AF79: 598 | AG79: 1500 | AH79: 165 | AI79: 1665 | AJ79: 443 | AK79: 32 | AL79: 0 | AM79: 475 | AN79: 16 | AO79: 984 | AP79: 32190 | AR79: =SUM(V68:V79) -> 6438 | AS79: =SUM(W68:W79) -> 129932 | AT79: =SUM(X68:X79) -> 17539 | AU79: =SUM(Y68:Y79) -> 174529 | AV79: =SUM(Z68:Z79) -> 11165 | AW79: =SUM(AA68:AA79) -> 485 | AX79: =SUM(AB68:AB79) -> 6246 | AY79: =SUM(AC68:AC79) -> 2749 | ... BL79: =SUM(AP68:AP79) -> 250542 | BN79: =SUM(OFFSET($B79,-($B79-1),MATCH(BN$6,$7:$7,)-1,1,1):OFFSET($B79,0,MATCH(BN$6,$7:$7,)-1,1,1)) -> 69103 | BO79: =SUM(OFFSET($B79,-($B79-1),MATCH(BO$6,$7:$7,)-1,1,1):OFFSET($B79,0,MATCH(BO$6,$7:$7,)-1,1,1)) -> 7809 | BP79: =SUM(OFFSET($B79,-($B79-1),MATCH(BP$6,$7:$7,)-1,1,1):OFFSET($B79,0,MATCH(BP$6,$7:$7,)-1,1,1)) -> 106132 | BQ79: =SUM(OFFSET($B79,-($B79-1),MATCH(BQ$6,$7:$7,)-1,1,1):OFFSET($B79,0,MATCH(BQ$6,$7:$7,)-1,1,1)) -> 6551 | BR79: =SUM(OFFSET($B79,-($B79-1),MATCH(BR$6,$7:$7,)-1,1,1):OFFSET($B79,0,MATCH(BR$6,$7:$7,)-1,1,1)) -> 313 | BS79: =SUM(OFFSET($B79,-($B79-1),MATCH(BS$6,$7:$7,)-1,1,1):OFFSET($B79,0,MATCH(BS$6,$7:$7,)-1,1,1)) -> 3063 | BT79: =SUM(OFFSET($B79,-($B79-1),MATCH(BT$6,$7:$7,)-1,1,1):OFFSET($B79,0,MATCH(BT$6,$7:$7,)-1,1,1)) -> 1862 | BU79: =SUM(OFFSET($B79,-($B79-1),MATCH(BU$6,$7:$7,)-1,1,1):OFFSET($B79,0,MATCH(BU$6,$7:$7,)-1,1,1)) -> 1659 | ... CH79: =SUM(OFFSET($B79,-($B79-1),MATCH(CH$6,$7:$7,)-1,1,1):OFFSET($B79,0,MATCH(CH$6,$7:$7,)-1,1,1)) -> 0 | CJ79: 2912 | CK79: 7040 | CL79: 5712 | CM79: 80 | CN79: 1520 | CO79: =SUM(CJ68:CJ79) -> 33429 | CP79: =SUM(CK68:CK79) -> 47788 | CQ79: =SUM(CL68:CL79) -> 78306 | CR79: =SUM(CM68:CM79) -> 1391 | CS79: =SUM(CN68:CN79) -> 10545 | CT79: =SUM(OFFSET($B79,-($B79-1),MATCH(CT$6,$7:$7,)-1,1,1):OFFSET($B79,0,MATCH(CT$6,$7:$7,)-1,1,1)) -> 25592 | CU79: =SUM(OFFSET($B79,-($B79-1),MATCH(CU$6,$7:$7,)-1,1,1):OFFSET($B79,0,MATCH(CU$6,$7:$7,)-1,1,1)) -> 38988 | CV79: =SUM(OFFSET($B79,-($B79-1),MATCH(CV$6,$7:$7,)-1,1,1):OFFSET($B79,0,MATCH(CV$6,$7:$7,)-1,1,1)) -> 912 | CW79: =SUM(OFFSET($B79,-($B79-1),MATCH(CW$6,$7:$7,)-1,1,1):OFFSET($B79,0,MATCH(CW$6,$7:$7,)-1,1,1)) -> 6096 | CX79: =SUM(OFFSET($B79,-($B79-1),MATCH(CX$6,$7:$7,)-1,1,1):OFFSET($B79,0,MATCH(CX$6,$7:$7,)-1,1,1)) -> 239319
B80: =IF(MONTH(C80)>=4,(MONTH(C80))-3,(MONTH(C80))+9) -> 8 | C80: 40848 | D80: 59324 | E80: 232 | F80: 78888 | G80: =SUM(D69:D80) -> 697266 | H80: =SUM(E69:E80) -> 2821 | I80: =SUM(F69:F80) -> 948403 | J80: =SUM(OFFSET($B80,-($B80-1),MATCH(J$6,$7:$7,)-1,1,1):OFFSET($B80,0,MATCH(J$6,$7:$7,)-1,1,1)) -> 1861 | K80: =SUM(OFFSET($B80,-($B80-1),MATCH(K$6,$7:$7,)-1,1,1):OFFSET($B80,0,MATCH(K$6,$7:$7,)-1,1,1)) -> 636330 | L80: =SUM(OFFSET($B80,-($B80-1),MATCH(L$6,$7:$7,)-1,1,1):OFFSET($B80,0,MATCH(L$6,$7:$7,)-1,1,1)) -> 5385272 | M80: 393547 | N80: 3628 | O80: 470195 | P80: =SUM(M69:M80) -> 4419316 | Q80: =SUM(N69:N80) -> 42344 | R80: =SUM(O69:O80) -> 5486826 | S80: =SUM(OFFSET($B80,-($B80-1),MATCH(S$6,$7:$7,)-1,1,1):OFFSET($B80,0,MATCH(S$6,$7:$7,)-1,1,1)) -> 28453 | T80: =SUM(OFFSET($B80,-($B80-1),MATCH(T$6,$7:$7,)-1,1,1):OFFSET($B80,0,MATCH(T$6,$7:$7,)-1,1,1)) -> 3737983 | U80: =SUM(OFFSET($B80,-($B80-1),MATCH(U$6,$7:$7,)-1,1,1):OFFSET($B80,0,MATCH(U$6,$7:$7,)-1,1,1)) -> 35515252 | V80: 565 | W80: 11430 | X80: 1687 | Y80: 14966 | Z80: 841 | AA80: 1 | AB80: 638 | AC80: 413 | AD80: 231 | AE80: 19 | AF80: 663 | AG80: 1701 | AH80: 167 | AI80: 1868 | AJ80: 622 | AK80: 17 | AL80: 1 | AM80: 640 | AN80: 35 | AO80: 199 | AP80: 26414 | AR80: =SUM(V69:V80) -> 6176 | AS80: =SUM(W69:W80) -> 131887 | AT80: =SUM(X69:X80) -> 17789 | AU80: =SUM(Y69:Y80) -> 173665 | AV80: =SUM(Z69:Z80) -> 11281 | AW80: =SUM(AA69:AA80) -> 436 | AX80: =SUM(AB69:AB80) -> 6399 | AY80: =SUM(AC69:AC80) -> 3162 | ... BL80: =SUM(AP69:AP80) -> 276956 | BN80: =SUM(OFFSET($B80,-($B80-1),MATCH(BN$6,$7:$7,)-1,1,1):OFFSET($B80,0,MATCH(BN$6,$7:$7,)-1,1,1)) -> 80533 | BO80: =SUM(OFFSET($B80,-($B80-1),MATCH(BO$6,$7:$7,)-1,1,1):OFFSET($B80,0,MATCH(BO$6,$7:$7,)-1,1,1)) -> 9496 | BP80: =SUM(OFFSET($B80,-($B80-1),MATCH(BP$6,$7:$7,)-1,1,1):OFFSET($B80,0,MATCH(BP$6,$7:$7,)-1,1,1)) -> 121098 | BQ80: =SUM(OFFSET($B80,-($B80-1),MATCH(BQ$6,$7:$7,)-1,1,1):OFFSET($B80,0,MATCH(BQ$6,$7:$7,)-1,1,1)) -> 7392 | BR80: =SUM(OFFSET($B80,-($B80-1),MATCH(BR$6,$7:$7,)-1,1,1):OFFSET($B80,0,MATCH(BR$6,$7:$7,)-1,1,1)) -> 314 | BS80: =SUM(OFFSET($B80,-($B80-1),MATCH(BS$6,$7:$7,)-1,1,1):OFFSET($B80,0,MATCH(BS$6,$7:$7,)-1,1,1)) -> 3701 | BT80: =SUM(OFFSET($B80,-($B80-1),MATCH(BT$6,$7:$7,)-1,1,1):OFFSET($B80,0,MATCH(BT$6,$7:$7,)-1,1,1)) -> 2275 | BU80: =SUM(OFFSET($B80,-($B80-1),MATCH(BU$6,$7:$7,)-1,1,1):OFFSET($B80,0,MATCH(BU$6,$7:$7,)-1,1,1)) -> 1890 | ... CH80: =SUM(OFFSET($B80,-($B80-1),MATCH(CH$6,$7:$7,)-1,1,1):OFFSET($B80,0,MATCH(CH$6,$7:$7,)-1,1,1)) -> 0 | CJ80: 4016 | CK80: 3648 | CL80: 6432 | CM80: 128 | CN80: 864 | CO80: =SUM(CJ69:CJ80) -> 33820 | CP80: =SUM(CK69:CK80) -> 48686 | CQ80: =SUM(CL69:CL80) -> 79363 | CR80: =SUM(CM69:CM80) -> 1419 | CS80: =SUM(CN69:CN80) -> 10434 | CT80: =SUM(OFFSET($B80,-($B80-1),MATCH(CT$6,$7:$7,)-1,1,1):OFFSET($B80,0,MATCH(CT$6,$7:$7,)-1,1,1)) -> 29240 | CU80: =SUM(OFFSET($B80,-($B80-1),MATCH(CU$6,$7:$7,)-1,1,1):OFFSET($B80,0,MATCH(CU$6,$7:$7,)-1,1,1)) -> 45420 | CV80: =SUM(OFFSET($B80,-($B80-1),MATCH(CV$6,$7:$7,)-1,1,1):OFFSET($B80,0,MATCH(CV$6,$7:$7,)-1,1,1)) -> 1040 | CW80: =SUM(OFFSET($B80,-($B80-1),MATCH(CW$6,$7:$7,)-1,1,1):OFFSET($B80,0,MATCH(CW$6,$7:$7,)-1,1,1)) -> 6960 | CX80: =SUM(OFFSET($B80,-($B80-1),MATCH(CX$6,$7:$7,)-1,1,1):OFFSET($B80,0,MATCH(CX$6,$7:$7,)-1,1,1)) -> 273139
B81: =IF(MONTH(C81)>=4,(MONTH(C81))-3,(MONTH(C81))+9) -> 9 | C81: 40878 | D81: 70310 | E81: 254 | F81: 85824 | G81: =SUM(D70:D81) -> 702816 | H81: =SUM(E70:E81) -> 2827 | I81: =SUM(F70:F81) -> 953708 | J81: =SUM(OFFSET($B81,-($B81-1),MATCH(J$6,$7:$7,)-1,1,1):OFFSET($B81,0,MATCH(J$6,$7:$7,)-1,1,1)) -> 2115 | K81: =SUM(OFFSET($B81,-($B81-1),MATCH(K$6,$7:$7,)-1,1,1):OFFSET($B81,0,MATCH(K$6,$7:$7,)-1,1,1)) -> 722154 | L81: =SUM(OFFSET($B81,-($B81-1),MATCH(L$6,$7:$7,)-1,1,1):OFFSET($B81,0,MATCH(L$6,$7:$7,)-1,1,1)) -> 6088088 | M81: 384194 | N81: 3538 | O81: 464978 | P81: =SUM(M70:M81) -> 4438078 | Q81: =SUM(N70:N81) -> 42373 | R81: =SUM(O70:O81) -> 5515728 | S81: =SUM(OFFSET($B81,-($B81-1),MATCH(S$6,$7:$7,)-1,1,1):OFFSET($B81,0,MATCH(S$6,$7:$7,)-1,1,1)) -> 31991 | T81: =SUM(OFFSET($B81,-($B81-1),MATCH(T$6,$7:$7,)-1,1,1):OFFSET($B81,0,MATCH(T$6,$7:$7,)-1,1,1)) -> 4202961 | U81: =SUM(OFFSET($B81,-($B81-1),MATCH(U$6,$7:$7,)-1,1,1):OFFSET($B81,0,MATCH(U$6,$7:$7,)-1,1,1)) -> 39953330 | V81: 665 | W81: 20670 | X81: 2340 | Y81: 11942 | Z81: 1200 | AA81: 51 | AB81: 966 | AC81: 485 | AD81: 351 | AE81: 49 | AF81: 885 | AG81: 2502 | AH81: 99 | AI81: 2601 | AJ81: 962 | AK81: 20 | AL81: 0 | AM81: 982 | AN81: 87 | AO81: 259 | AP81: 32743 | AR81: =SUM(V70:V81) -> 6046 | AS81: =SUM(W70:W81) -> 134280 | AT81: =SUM(X70:X81) -> 17668 | AU81: =SUM(Y70:Y81) -> 174495 | AV81: =SUM(Z70:Z81) -> 11186 | AW81: =SUM(AA70:AA81) -> 456 | AX81: =SUM(AB70:AB81) -> 6659 | AY81: =SUM(AC70:AC81) -> 3647 | ... BL81: =SUM(AP70:AP81) -> 309699 | BN81: =SUM(OFFSET($B81,-($B81-1),MATCH(BN$6,$7:$7,)-1,1,1):OFFSET($B81,0,MATCH(BN$6,$7:$7,)-1,1,1)) -> 101203 | BO81: =SUM(OFFSET($B81,-($B81-1),MATCH(BO$6,$7:$7,)-1,1,1):OFFSET($B81,0,MATCH(BO$6,$7:$7,)-1,1,1)) -> 11836 | BP81: =SUM(OFFSET($B81,-($B81-1),MATCH(BP$6,$7:$7,)-1,1,1):OFFSET($B81,0,MATCH(BP$6,$7:$7,)-1,1,1)) -> 133040 | BQ81: =SUM(OFFSET($B81,-($B81-1),MATCH(BQ$6,$7:$7,)-1,1,1):OFFSET($B81,0,MATCH(BQ$6,$7:$7,)-1,1,1)) -> 8592 | BR81: =SUM(OFFSET($B81,-($B81-1),MATCH(BR$6,$7:$7,)-1,1,1):OFFSET($B81,0,MATCH(BR$6,$7:$7,)-1,1,1)) -> 365 | BS81: =SUM(OFFSET($B81,-($B81-1),MATCH(BS$6,$7:$7,)-1,1,1):OFFSET($B81,0,MATCH(BS$6,$7:$7,)-1,1,1)) -> 4667 | BT81: =SUM(OFFSET($B81,-($B81-1),MATCH(BT$6,$7:$7,)-1,1,1):OFFSET($B81,0,MATCH(BT$6,$7:$7,)-1,1,1)) -> 2760 | BU81: =SUM(OFFSET($B81,-($B81-1),MATCH(BU$6,$7:$7,)-1,1,1):OFFSET($B81,0,MATCH(BU$6,$7:$7,)-1,1,1)) -> 2241 | ... CH81: =SUM(OFFSET($B81,-($B81-1),MATCH(CH$6,$7:$7,)-1,1,1):OFFSET($B81,0,MATCH(CH$6,$7:$7,)-1,1,1)) -> 0 | CJ81: 2560 | CK81: 6928 | CL81: 15424 | CM81: 80 | CN81: 1248 | CO81: =SUM(CJ70:CJ81) -> 34176 | CP81: =SUM(CK70:CK81) -> 49118 | CQ81: =SUM(CL70:CL81) -> 80809 | CR81: =SUM(CM70:CM81) -> 1470 | CS81: =SUM(CN70:CN81) -> 10928 | CT81: =SUM(OFFSET($B81,-($B81-1),MATCH(CT$6,$7:$7,)-1,1,1):OFFSET($B81,0,MATCH(CT$6,$7:$7,)-1,1,1)) -> 36168 | CU81: =SUM(OFFSET($B81,-($B81-1),MATCH(CU$6,$7:$7,)-1,1,1):OFFSET($B81,0,MATCH(CU$6,$7:$7,)-1,1,1)) -> 60844 | CV81: =SUM(OFFSET($B81,-($B81-1),MATCH(CV$6,$7:$7,)-1,1,1):OFFSET($B81,0,MATCH(CV$6,$7:$7,)-1,1,1)) -> 1120 | CW81: =SUM(OFFSET($B81,-($B81-1),MATCH(CW$6,$7:$7,)-1,1,1):OFFSET($B81,0,MATCH(CW$6,$7:$7,)-1,1,1)) -> 8208 | CX81: =SUM(OFFSET($B81,-($B81-1),MATCH(CX$6,$7:$7,)-1,1,1):OFFSET($B81,0,MATCH(CX$6,$7:$7,)-1,1,1)) -> 307315
... B84: =IF(MONTH(C84)>=4,(MONTH(C84))-3,(MONTH(C84))+9) -> 12 | C84: 40969 | D84: 62052 | E84: 240 | F84: 83144 | G84: =SUM(D73:D84) -> 718079 | H84: =SUM(E73:E84) -> 2843 | I84: =SUM(F73:F84) -> 972470 | J84: =SUM(OFFSET($B84,-($B84-1),MATCH(J$6,$7:$7,)-1,1,1):OFFSET($B84,0,MATCH(J$6,$7:$7,)-1,1,1)) -> 2843 | K84: =SUM(OFFSET($B84,-($B84-1),MATCH(K$6,$7:$7,)-1,1,1):OFFSET($B84,0,MATCH(K$6,$7:$7,)-1,1,1)) -> 972470 | L84: =SUM(OFFSET($B84,-($B84-1),MATCH(L$6,$7:$7,)-1,1,1):OFFSET($B84,0,MATCH(L$6,$7:$7,)-1,1,1)) -> 8228889 | M84: 399736 | N84: 3582 | O84: 488888 | P84: =SUM(M73:M84) -> 4472215 | Q84: =SUM(N73:N84) -> 42278 | R84: =SUM(O73:O84) -> 5565257 | S84: =SUM(OFFSET($B84,-($B84-1),MATCH(S$6,$7:$7,)-1,1,1):OFFSET($B84,0,MATCH(S$6,$7:$7,)-1,1,1)) -> 42278 | T84: =SUM(OFFSET($B84,-($B84-1),MATCH(T$6,$7:$7,)-1,1,1):OFFSET($B84,0,MATCH(T$6,$7:$7,)-1,1,1)) -> 5565257 | U84: =SUM(OFFSET($B84,-($B84-1),MATCH(U$6,$7:$7,)-1,1,1):OFFSET($B84,0,MATCH(U$6,$7:$7,)-1,1,1)) -> 53356628 | V84: 539 | W84: 13014 | X84: 1701 | Y84: 13116 | Z84: 619 | AA84: 16 | AB84: 563 | AC84: 262 | AD84: 292 | AE84: 65 | AF84: 619 | AG84: 1686 | AH84: 197 | AI84: 1883 | AJ84: 547 | AK84: 80 | AL84: 0 | AM84: 627 | AN84: 18 | AO84: 136 | AP84: 26167 | AR84: =SUM(V73:V84) -> 5897 | AS84: =SUM(W73:W84) -> 138562 | AT84: =SUM(X73:X84) -> 18519 | AU84: =SUM(Y73:Y84) -> 176332 | AV84: =SUM(Z73:Z84) -> 10929 | AW84: =SUM(AA73:AA84) -> 397 | AX84: =SUM(AB73:AB84) -> 6490 | AY84: =SUM(AC73:AC84) -> 3536 | ... BL84: =SUM(AP73:AP84) -> 315704 | BN84: =SUM(OFFSET($B84,-($B84-1),MATCH(BN$6,$7:$7,)-1,1,1):OFFSET($B84,0,MATCH(BN$6,$7:$7,)-1,1,1)) -> 138562 | BO84: =SUM(OFFSET($B84,-($B84-1),MATCH(BO$6,$7:$7,)-1,1,1):OFFSET($B84,0,MATCH(BO$6,$7:$7,)-1,1,1)) -> 18519 | BP84: =SUM(OFFSET($B84,-($B84-1),MATCH(BP$6,$7:$7,)-1,1,1):OFFSET($B84,0,MATCH(BP$6,$7:$7,)-1,1,1)) -> 176332 | BQ84: =SUM(OFFSET($B84,-($B84-1),MATCH(BQ$6,$7:$7,)-1,1,1):OFFSET($B84,0,MATCH(BQ$6,$7:$7,)-1,1,1)) -> 10929 | BR84: =SUM(OFFSET($B84,-($B84-1),MATCH(BR$6,$7:$7,)-1,1,1):OFFSET($B84,0,MATCH(BR$6,$7:$7,)-1,1,1)) -> 397 | BS84: =SUM(OFFSET($B84,-($B84-1),MATCH(BS$6,$7:$7,)-1,1,1):OFFSET($B84,0,MATCH(BS$6,$7:$7,)-1,1,1)) -> 6490 | BT84: =SUM(OFFSET($B84,-($B84-1),MATCH(BT$6,$7:$7,)-1,1,1):OFFSET($B84,0,MATCH(BT$6,$7:$7,)-1,1,1)) -> 3536 | BU84: =SUM(OFFSET($B84,-($B84-1),MATCH(BU$6,$7:$7,)-1,1,1):OFFSET($B84,0,MATCH(BU$6,$7:$7,)-1,1,1)) -> 3131 | ... CH84: =SUM(OFFSET($B84,-($B84-1),MATCH(CH$6,$7:$7,)-1,1,1):OFFSET($B84,0,MATCH(CH$6,$7:$7,)-1,1,1)) -> 0 | CJ84: 3824 | CK84: 3872 | CL84: 7744 | CM84: 144 | CN84: 896 | CO84: =SUM(CJ73:CJ84) -> 34000 | CP84: =SUM(CK73:CK84) -> 49560 | CQ84: =SUM(CL73:CL84) -> 84828 | CR84: =SUM(CM73:CM84) -> 1520 | CS84: =SUM(CN73:CN84) -> 11408 | CT84: =SUM(OFFSET($B84,-($B84-1),MATCH(CT$6,$7:$7,)-1,1,1):OFFSET($B84,0,MATCH(CT$6,$7:$7,)-1,1,1)) -> 49560 | CU84: =SUM(OFFSET($B84,-($B84-1),MATCH(CU$6,$7:$7,)-1,1,1):OFFSET($B84,0,MATCH(CU$6,$7:$7,)-1,1,1)) -> 84828 | CV84: =SUM(OFFSET($B84,-($B84-1),MATCH(CV$6,$7:$7,)-1,1,1):OFFSET($B84,0,MATCH(CV$6,$7:$7,)-1,1,1)) -> 1520 | CW84: =SUM(OFFSET($B84,-($B84-1),MATCH(CW$6,$7:$7,)-1,1,1):OFFSET($B84,0,MATCH(CW$6,$7:$7,)-1,1,1)) -> 11408 | CX84: =SUM(OFFSET($B84,-($B84-1),MATCH(CX$6,$7:$7,)-1,1,1):OFFSET($B84,0,MATCH(CX$6,$7:$7,)-1,1,1)) -> 408463
B85: =IF(MONTH(C85)>=4,(MONTH(C85))-3,(MONTH(C85))+9) -> 1 | C85: 41000 | D85: ='[2]Summary Passenger'!$B7 -> 61583 | E85: ='[2]Summary Passenger'!$F7 -> 464 | F85: ='[2]Summary Passenger'!$J7 -> 79392 | G85: =SUM(D74:D85) -> 721731 | H85: =SUM(E74:E85) -> 3083 | I85: =SUM(F74:F85) -> 974165 | J85: =SUM(OFFSET($B85,-($B85-1),MATCH(J$6,$7:$7,)-1,1,1):OFFSET($B85,0,MATCH(J$6,$7:$7,)-1,1,1)) -> 464 | K85: =SUM(OFFSET($B85,-($B85-1),MATCH(K$6,$7:$7,)-1,1,1):OFFSET($B85,0,MATCH(K$6,$7:$7,)-1,1,1)) -> 79392 | L85: =SUM(OFFSET($B85,-($B85-1),MATCH(L$6,$7:$7,)-1,1,1):OFFSET($B85,0,MATCH(L$6,$7:$7,)-1,1,1)) -> 721731 | M85: ='[2]Summary Passenger'!$D7 -> 382136 | N85: ='[2]Summary Passenger'!$H7 -> 6890 | O85: ='[2]Summary Passenger'!$L7 -> 493340 | P85: =SUM(M74:M85) -> 4481563 | Q85: =SUM(N74:N85) -> 45658 | R85: =SUM(O74:O85) -> 5596242 | S85: =SUM(OFFSET($B85,-($B85-1),MATCH(S$6,$7:$7,)-1,1,1):OFFSET($B85,0,MATCH(S$6,$7:$7,)-1,1,1)) -> 6890 | T85: =SUM(OFFSET($B85,-($B85-1),MATCH(T$6,$7:$7,)-1,1,1):OFFSET($B85,0,MATCH(T$6,$7:$7,)-1,1,1)) -> 493340 | U85: =SUM(OFFSET($B85,-($B85-1),MATCH(U$6,$7:$7,)-1,1,1):OFFSET($B85,0,MATCH(U$6,$7:$7,)-1,1,1)) -> 4481563 | V85: ='[2]Tab K Summary'!$B4 -> 361 | W85: ='[2]Tab K Summary'!$D4 -> 10929 | X85: ='[2]Tab K Summary'!$F4 -> 1021 | Y85: ='[2]Tab K Summary'!$H4 -> 16072 | Z85: ='[2]Tab K Summary'!$J4 -> 777 | AA85: ='[2]Tab K Summary'!$L4 -> 0 | AB85: ='[2]Tab K Summary'!$N4 -> 564 | AC85: 239 | AD85: 227 | AE85: 17 | AF85: 483 | AG85: 1085 | AH85: 112 | AI85: 1197 | AJ85: 564 | AK85: 16 | AL85: 0 | AM85: 580 | AN85: 150 | AO85: 180 | AP85: 27049 | AR85: =SUM(V74:V85) -> 5787 | AS85: =SUM(W74:W85) -> 137676 | AT85: =SUM(X74:X85) -> 18327 | AU85: =SUM(Y74:Y85) -> 178312 | AV85: =SUM(Z74:Z85) -> 11094 | AW85: =SUM(AA74:AA85) -> 397 | AX85: =SUM(AB74:AB85) -> 6498 | AY85: =SUM(AC74:AC85) -> 3495 | ... BL85: =SUM(AP74:AP85) -> 316845 | BN85: =SUM(OFFSET($B85,-($B85-1),MATCH(BN$6,$7:$7,)-1,1,1):OFFSET($B85,0,MATCH(BN$6,$7:$7,)-1,1,1)) -> 10929 | BO85: =SUM(OFFSET($B85,-($B85-1),MATCH(BO$6,$7:$7,)-1,1,1):OFFSET($B85,0,MATCH(BO$6,$7:$7,)-1,1,1)) -> 1021 | BP85: =SUM(OFFSET($B85,-($B85-1),MATCH(BP$6,$7:$7,)-1,1,1):OFFSET($B85,0,MATCH(BP$6,$7:$7,)-1,1,1)) -> 16072 | BQ85: =SUM(OFFSET($B85,-($B85-1),MATCH(BQ$6,$7:$7,)-1,1,1):OFFSET($B85,0,MATCH(BQ$6,$7:$7,)-1,1,1)) -> 777 | BR85: =SUM(OFFSET($B85,-($B85-1),MATCH(BR$6,$7:$7,)-1,1,1):OFFSET($B85,0,MATCH(BR$6,$7:$7,)-1,1,1)) -> 0 | BS85: =SUM(OFFSET($B85,-($B85-1),MATCH(BS$6,$7:$7,)-1,1,1):OFFSET($B85,0,MATCH(BS$6,$7:$7,)-1,1,1)) -> 564 | BT85: =SUM(OFFSET($B85,-($B85-1),MATCH(BT$6,$7:$7,)-1,1,1):OFFSET($B85,0,MATCH(BT$6,$7:$7,)-1,1,1)) -> 239 | BU85: =SUM(OFFSET($B85,-($B85-1),MATCH(BU$6,$7:$7,)-1,1,1):OFFSET($B85,0,MATCH(BU$6,$7:$7,)-1,1,1)) -> 227 | ... CH85: =SUM(OFFSET($B85,-($B85-1),MATCH(CH$6,$7:$7,)-1,1,1):OFFSET($B85,0,MATCH(CH$6,$7:$7,)-1,1,1)) -> 0 | CJ85: ='[2]Tab L Summary'!$B4 -> 2544 | CK85: ='[2]Tab L Summary'!$D4 -> 3040 | CL85: ='[2]Tab L Summary'!$F4 -> 7360 | CM85: ='[2]Tab L Summary'!$H4 -> 192 | CN85: ='[2]Tab L Summary'!$J4 -> 640 | CO85: =SUM(CJ74:CJ85) -> 33904 | CP85: =SUM(CK74:CK85) -> 48688 | CQ85: =SUM(CL74:CL85) -> 84892 | CR85: =SUM(CM74:CM85) -> 1496 | CS85: =SUM(CN74:CN85) -> 11424 | CT85: =SUM(OFFSET($B85,-($B85-1),MATCH(CT$6,$7:$7,)-1,1,1):OFFSET($B85,0,MATCH(CT$6,$7:$7,)-1,1,1)) -> 3040 | CU85: =SUM(OFFSET($B85,-($B85-1),MATCH(CU$6,$7:$7,)-1,1,1):OFFSET($B85,0,MATCH(CU$6,$7:$7,)-1,1,1)) -> 7360 | CV85: =SUM(OFFSET($B85,-($B85-1),MATCH(CV$6,$7:$7,)-1,1,1):OFFSET($B85,0,MATCH(CV$6,$7:$7,)-1,1,1)) -> 192 | CW85: =SUM(OFFSET($B85,-($B85-1),MATCH(CW$6,$7:$7,)-1,1,1):OFFSET($B85,0,MATCH(CW$6,$7:$7,)-1,1,1)) -> 640 | CX85: =SUM(OFFSET($B85,-($B85-1),MATCH(CX$6,$7:$7,)-1,1,1):OFFSET($B85,0,MATCH(CX$6,$7:$7,)-1,1,1)) -> 33904
B86: =IF(MONTH(C86)>=4,(MONTH(C86))-3,(MONTH(C86))+9) -> 2 | C86: 41030 | D86: ='[2]Summary Passenger'!$B8 -> 48822 | E86: ='[2]Summary Passenger'!$F8 -> 434 | F86: ='[2]Summary Passenger'!$J8 -> 74184 | G86: =SUM(D75:D86) -> 723217 | H86: =SUM(E75:E86) -> 3293 | I86: =SUM(F75:F86) -> 972980 | J86: =SUM(OFFSET($B86,-($B86-1),MATCH(J$6,$7:$7,)-1,1,1):OFFSET($B86,0,MATCH(J$6,$7:$7,)-1,1,1)) -> 898 | K86: =SUM(OFFSET($B86,-($B86-1),MATCH(K$6,$7:$7,)-1,1,1):OFFSET($B86,0,MATCH(K$6,$7:$7,)-1,1,1)) -> 153576 | L86: =SUM(OFFSET($B86,-($B86-1),MATCH(L$6,$7:$7,)-1,1,1):OFFSET($B86,0,MATCH(L$6,$7:$7,)-1,1,1)) -> 1444948 | M86: ='[2]Summary Passenger'!$D8 -> 366443 | N86: ='[2]Summary Passenger'!$H8 -> 6864 | O86: ='[2]Summary Passenger'!$L8 -> 487874 | P86: =SUM(M75:M86) -> 4481366 | Q86: =SUM(N75:N86) -> 49071 | R86: =SUM(O75:O86) -> 5628105 | S86: =SUM(OFFSET($B86,-($B86-1),MATCH(S$6,$7:$7,)-1,1,1):OFFSET($B86,0,MATCH(S$6,$7:$7,)-1,1,1)) -> 13754 | T86: =SUM(OFFSET($B86,-($B86-1),MATCH(T$6,$7:$7,)-1,1,1):OFFSET($B86,0,MATCH(T$6,$7:$7,)-1,1,1)) -> 981214 | U86: =SUM(OFFSET($B86,-($B86-1),MATCH(U$6,$7:$7,)-1,1,1):OFFSET($B86,0,MATCH(U$6,$7:$7,)-1,1,1)) -> 8962929 | V86: ='[2]Tab K Summary'!$B5 -> 360 | W86: ='[2]Tab K Summary'!$D5 -> 8751 | X86: ='[2]Tab K Summary'!$F5 -> 730 | Y86: ='[2]Tab K Summary'!$H5 -> 13268 | Z86: ='[2]Tab K Summary'!$J5 -> 513 | AA86: ='[2]Tab K Summary'!$L5 -> 16 | AB86: ='[2]Tab K Summary'!$N5 -> 407 | AC86: 214 | AD86: 247 | AE86: 24 | AF86: 485 | AG86: 730 | AH86: 84 | AI86: 814 | AJ86: 407 | AK86: 16 | AL86: 0 | AM86: 423 | AN86: 18 | AO86: 24 | AP86: 22069 | AR86: =SUM(V75:V86) -> 5740 | AS86: =SUM(W75:W86) -> 138555 | AT86: =SUM(X75:X86) -> 18123 | AU86: =SUM(Y75:Y86) -> 178450 | AV86: =SUM(Z75:Z86) -> 11152 | AW86: =SUM(AA75:AA86) -> 353 | AX86: =SUM(AB75:AB86) -> 6641 | AY86: =SUM(AC75:AC86) -> 3408 | ... BL86: =SUM(AP75:AP86) -> 317832 | BN86: =SUM(OFFSET($B86,-($B86-1),MATCH(BN$6,$7:$7,)-1,1,1):OFFSET($B86,0,MATCH(BN$6,$7:$7,)-1,1,1)) -> 19680 | BO86: =SUM(OFFSET($B86,-($B86-1),MATCH(BO$6,$7:$7,)-1,1,1):OFFSET($B86,0,MATCH(BO$6,$7:$7,)-1,1,1)) -> 1751 | BP86: =SUM(OFFSET($B86,-($B86-1),MATCH(BP$6,$7:$7,)-1,1,1):OFFSET($B86,0,MATCH(BP$6,$7:$7,)-1,1,1)) -> 29340 | BQ86: =SUM(OFFSET($B86,-($B86-1),MATCH(BQ$6,$7:$7,)-1,1,1):OFFSET($B86,0,MATCH(BQ$6,$7:$7,)-1,1,1)) -> 1290 | BR86: =SUM(OFFSET($B86,-($B86-1),MATCH(BR$6,$7:$7,)-1,1,1):OFFSET($B86,0,MATCH(BR$6,$7:$7,)-1,1,1)) -> 16 | BS86: =SUM(OFFSET($B86,-($B86-1),MATCH(BS$6,$7:$7,)-1,1,1):OFFSET($B86,0,MATCH(BS$6,$7:$7,)-1,1,1)) -> 971 | BT86: =SUM(OFFSET($B86,-($B86-1),MATCH(BT$6,$7:$7,)-1,1,1):OFFSET($B86,0,MATCH(BT$6,$7:$7,)-1,1,1)) -> 453 | BU86: =SUM(OFFSET($B86,-($B86-1),MATCH(BU$6,$7:$7,)-1,1,1):OFFSET($B86,0,MATCH(BU$6,$7:$7,)-1,1,1)) -> 474 | ... CH86: =SUM(OFFSET($B86,-($B86-1),MATCH(CH$6,$7:$7,)-1,1,1):OFFSET($B86,0,MATCH(CH$6,$7:$7,)-1,1,1)) -> 0 | CJ86: ='[2]Tab L Summary'!$B5 -> 3264 | CK86: ='[2]Tab L Summary'!$D5 -> 1776 | CL86: ='[2]Tab L Summary'!$F5 -> 5072 | CM86: ='[2]Tab L Summary'!$H5 -> 96 | CN86: ='[2]Tab L Summary'!$J5 -> 672 | CO86: =SUM(CJ75:CJ86) -> 33988 | CP86: =SUM(CK75:CK86) -> 48984 | CQ86: =SUM(CL75:CL86) -> 85244 | CR86: =SUM(CM75:CM86) -> 1392 | CS86: =SUM(CN75:CN86) -> 11596 | CT86: =SUM(OFFSET($B86,-($B86-1),MATCH(CT$6,$7:$7,)-1,1,1):OFFSET($B86,0,MATCH(CT$6,$7:$7,)-1,1,1)) -> 4816 | CU86: =SUM(OFFSET($B86,-($B86-1),MATCH(CU$6,$7:$7,)-1,1,1):OFFSET($B86,0,MATCH(CU$6,$7:$7,)-1,1,1)) -> 12432 | CV86: =SUM(OFFSET($B86,-($B86-1),MATCH(CV$6,$7:$7,)-1,1,1):OFFSET($B86,0,MATCH(CV$6,$7:$7,)-1,1,1)) -> 288 | CW86: =SUM(OFFSET($B86,-($B86-1),MATCH(CW$6,$7:$7,)-1,1,1):OFFSET($B86,0,MATCH(CW$6,$7:$7,)-1,1,1)) -> 1312 | CX86: =SUM(OFFSET($B86,-($B86-1),MATCH(CX$6,$7:$7,)-1,1,1):OFFSET($B86,0,MATCH(CX$6,$7:$7,)-1,1,1)) -> 67892
B87: =IF(MONTH(C87)>=4,(MONTH(C87))-3,(MONTH(C87))+9) -> 3 | C87: 41061 | D87: ='[2]Summary Passenger'!$B9 -> 50991 | E87: ='[2]Summary Passenger'!$F9 -> 425 | F87: ='[2]Summary Passenger'!$J9 -> 72696 | G87: =SUM(D76:D87) -> 733180 | H87: =SUM(E76:E87) -> 3544 | I87: =SUM(F76:F87) -> 987980 | J87: =SUM(OFFSET($B87,-($B87-1),MATCH(J$6,$7:$7,)-1,1,1):OFFSET($B87,0,MATCH(J$6,$7:$7,)-1,1,1)) -> 1323 | K87: =SUM(OFFSET($B87,-($B87-1),MATCH(K$6,$7:$7,)-1,1,1):OFFSET($B87,0,MATCH(K$6,$7:$7,)-1,1,1)) -> 226272 | L87: =SUM(OFFSET($B87,-($B87-1),MATCH(L$6,$7:$7,)-1,1,1):OFFSET($B87,0,MATCH(L$6,$7:$7,)-1,1,1)) -> 2178128 | M87: ='[2]Summary Passenger'!$D9 -> 350884 | N87: ='[2]Summary Passenger'!$H9 -> 6423 | O87: ='[2]Summary Passenger'!$L9 -> 460003 | P87: =SUM(M76:M87) -> 4497961 | Q87: =SUM(N76:N87) -> 52279 | R87: =SUM(O76:O87) -> 5673947 | S87: =SUM(OFFSET($B87,-($B87-1),MATCH(S$6,$7:$7,)-1,1,1):OFFSET($B87,0,MATCH(S$6,$7:$7,)-1,1,1)) -> 20177 | T87: =SUM(OFFSET($B87,-($B87-1),MATCH(T$6,$7:$7,)-1,1,1):OFFSET($B87,0,MATCH(T$6,$7:$7,)-1,1,1)) -> 1441217 | U87: =SUM(OFFSET($B87,-($B87-1),MATCH(U$6,$7:$7,)-1,1,1):OFFSET($B87,0,MATCH(U$6,$7:$7,)-1,1,1)) -> 13460890 | V87: ='[2]Tab K Summary'!$B6 -> 526 | W87: ='[2]Tab K Summary'!$D6 -> 9179 | X87: ='[2]Tab K Summary'!$F6 -> 717 | Y87: ='[2]Tab K Summary'!$H6 -> 13348 | Z87: ='[2]Tab K Summary'!$J6 -> 479 | AA87: ='[2]Tab K Summary'!$L6 -> 65 | AB87: ='[2]Tab K Summary'!$N6 -> 393 | AC87: 271 | AD87: 298 | AE87: 5 | AF87: 574 | AG87: 752 | AH87: 68 | AI87: 820 | AJ87: 393 | AK87: 16 | AL87: 0 | AM87: 409 | AN87: 18 | AO87: 94 | AP87: 22626 | AR87: =SUM(V76:V87) -> 5931 | AS87: =SUM(W76:W87) -> 140899 | AT87: =SUM(X76:X87) -> 18178 | AU87: =SUM(Y76:Y87) -> 180208 | AV87: =SUM(Z76:Z87) -> 11154 | AW87: =SUM(AA76:AA87) -> 418 | AX87: =SUM(AB76:AB87) -> 6647 | AY87: =SUM(AC76:AC87) -> 3477 | ... BL87: =SUM(AP76:AP87) -> 322007 | BN87: =SUM(OFFSET($B87,-($B87-1),MATCH(BN$6,$7:$7,)-1,1,1):OFFSET($B87,0,MATCH(BN$6,$7:$7,)-1,1,1)) -> 28859 | BO87: =SUM(OFFSET($B87,-($B87-1),MATCH(BO$6,$7:$7,)-1,1,1):OFFSET($B87,0,MATCH(BO$6,$7:$7,)-1,1,1)) -> 2468 | BP87: =SUM(OFFSET($B87,-($B87-1),MATCH(BP$6,$7:$7,)-1,1,1):OFFSET($B87,0,MATCH(BP$6,$7:$7,)-1,1,1)) -> 42688 | BQ87: =SUM(OFFSET($B87,-($B87-1),MATCH(BQ$6,$7:$7,)-1,1,1):OFFSET($B87,0,MATCH(BQ$6,$7:$7,)-1,1,1)) -> 1769 | BR87: =SUM(OFFSET($B87,-($B87-1),MATCH(BR$6,$7:$7,)-1,1,1):OFFSET($B87,0,MATCH(BR$6,$7:$7,)-1,1,1)) -> 81 | BS87: =SUM(OFFSET($B87,-($B87-1),MATCH(BS$6,$7:$7,)-1,1,1):OFFSET($B87,0,MATCH(BS$6,$7:$7,)-1,1,1)) -> 1364 | BT87: =SUM(OFFSET($B87,-($B87-1),MATCH(BT$6,$7:$7,)-1,1,1):OFFSET($B87,0,MATCH(BT$6,$7:$7,)-1,1,1)) -> 724 | BU87: =SUM(OFFSET($B87,-($B87-1),MATCH(BU$6,$7:$7,)-1,1,1):OFFSET($B87,0,MATCH(BU$6,$7:$7,)-1,1,1)) -> 772 | ... CH87: =SUM(OFFSET($B87,-($B87-1),MATCH(CH$6,$7:$7,)-1,1,1):OFFSET($B87,0,MATCH(CH$6,$7:$7,)-1,1,1)) -> 0 | CJ87: ='[2]Tab L Summary'!$B6 -> 2704 | CK87: ='[2]Tab L Summary'!$D6 -> 2048 | CL87: ='[2]Tab L Summary'!$F6 -> 5792 | CM87: ='[2]Tab L Summary'!$H6 -> 256 | CN87: ='[2]Tab L Summary'!$J6 -> 656 | CO87: =SUM(CJ76:CJ87) -> 34832 | CP87: =SUM(CK76:CK87) -> 49312 | CQ87: =SUM(CL76:CL87) -> 86736 | CR87: =SUM(CM76:CM87) -> 1648 | CS87: =SUM(CN76:CN87) -> 11216 | CT87: =SUM(OFFSET($B87,-($B87-1),MATCH(CT$6,$7:$7,)-1,1,1):OFFSET($B87,0,MATCH(CT$6,$7:$7,)-1,1,1)) -> 6864 | CU87: =SUM(OFFSET($B87,-($B87-1),MATCH(CU$6,$7:$7,)-1,1,1):OFFSET($B87,0,MATCH(CU$6,$7:$7,)-1,1,1)) -> 18224 | CV87: =SUM(OFFSET($B87,-($B87-1),MATCH(CV$6,$7:$7,)-1,1,1):OFFSET($B87,0,MATCH(CV$6,$7:$7,)-1,1,1)) -> 544 | CW87: =SUM(OFFSET($B87,-($B87-1),MATCH(CW$6,$7:$7,)-1,1,1):OFFSET($B87,0,MATCH(CW$6,$7:$7,)-1,1,1)) -> 1968 | CX87: =SUM(OFFSET($B87,-($B87-1),MATCH(CX$6,$7:$7,)-1,1,1):OFFSET($B87,0,MATCH(CX$6,$7:$7,)-1,1,1)) -> 102724
B88: =IF(MONTH(C88)>=4,(MONTH(C88))-3,(MONTH(C88))+9) -> 4 | C88: 41091 | D88: ='[2]Summary Passenger'!$B10 -> 59579 | E88: ='[2]Summary Passenger'!$F10 -> 511 | F88: ='[2]Summary Passenger'!$J10 -> 87528 | G88: =SUM(D77:D88) -> 735733 | H88: =SUM(E77:E88) -> 3820 | I88: =SUM(F77:F88) -> 995228 | J88: =SUM(OFFSET($B88,-($B88-1),MATCH(J$6,$7:$7,)-1,1,1):OFFSET($B88,0,MATCH(J$6,$7:$7,)-1,1,1)) -> 1834 | K88: =SUM(OFFSET($B88,-($B88-1),MATCH(K$6,$7:$7,)-1,1,1):OFFSET($B88,0,MATCH(K$6,$7:$7,)-1,1,1)) -> 313800 | L88: =SUM(OFFSET($B88,-($B88-1),MATCH(L$6,$7:$7,)-1,1,1):OFFSET($B88,0,MATCH(L$6,$7:$7,)-1,1,1)) -> 2913861 | M88: ='[2]Summary Passenger'!$D10 -> 377604 | N88: ='[2]Summary Passenger'!$H10 -> 6898 | O88: ='[2]Summary Passenger'!$L10 -> 499412 | P88: =SUM(M77:M88) -> 4491999 | Q88: =SUM(N77:N88) -> 55607 | R88: =SUM(O77:O88) -> 5694780 | S88: =SUM(OFFSET($B88,-($B88-1),MATCH(S$6,$7:$7,)-1,1,1):OFFSET($B88,0,MATCH(S$6,$7:$7,)-1,1,1)) -> 27075 | T88: =SUM(OFFSET($B88,-($B88-1),MATCH(T$6,$7:$7,)-1,1,1):OFFSET($B88,0,MATCH(T$6,$7:$7,)-1,1,1)) -> 1940629 | U88: =SUM(OFFSET($B88,-($B88-1),MATCH(U$6,$7:$7,)-1,1,1):OFFSET($B88,0,MATCH(U$6,$7:$7,)-1,1,1)) -> 17952889 | V88: ='[2]Tab K Summary'!$B7 -> 489 | W88: ='[2]Tab K Summary'!$D7 -> 8587 | X88: ='[2]Tab K Summary'!$F7 -> 659 | Y88: ='[2]Tab K Summary'!$H7 -> 19232 | Z88: ='[2]Tab K Summary'!$J7 -> 657 | AA88: ='[2]Tab K Summary'!$L7 -> 66 | AB88: ='[2]Tab K Summary'!$N7 -> 442 | AC88: 414 | AD88: 247 | AE88: 8 | AF88: 669 | AG88: 706 | AH88: 123 | AI88: 829 | AJ88: 426 | AK88: 16 | AL88: 0 | AM88: 442 | AN88: 71 | AO88: 53 | AP88: 27921 | AR88: =SUM(V77:V88) -> 6014 | AS88: =SUM(W77:W88) -> 141153 | AT88: =SUM(X77:X88) -> 18066 | AU88: =SUM(Y77:Y88) -> 182158 | AV88: =SUM(Z77:Z88) -> 11175 | AW88: =SUM(AA77:AA88) -> 449 | AX88: =SUM(AB77:AB88) -> 6678 | AY88: =SUM(AC77:AC88) -> 3603 | ... BL88: =SUM(AP77:AP88) -> 324228 | BN88: =SUM(OFFSET($B88,-($B88-1),MATCH(BN$6,$7:$7,)-1,1,1):OFFSET($B88,0,MATCH(BN$6,$7:$7,)-1,1,1)) -> 37446 | BO88: =SUM(OFFSET($B88,-($B88-1),MATCH(BO$6,$7:$7,)-1,1,1):OFFSET($B88,0,MATCH(BO$6,$7:$7,)-1,1,1)) -> 3127 | BP88: =SUM(OFFSET($B88,-($B88-1),MATCH(BP$6,$7:$7,)-1,1,1):OFFSET($B88,0,MATCH(BP$6,$7:$7,)-1,1,1)) -> 61920 | BQ88: =SUM(OFFSET($B88,-($B88-1),MATCH(BQ$6,$7:$7,)-1,1,1):OFFSET($B88,0,MATCH(BQ$6,$7:$7,)-1,1,1)) -> 2426 | BR88: =SUM(OFFSET($B88,-($B88-1),MATCH(BR$6,$7:$7,)-1,1,1):OFFSET($B88,0,MATCH(BR$6,$7:$7,)-1,1,1)) -> 147 | BS88: =SUM(OFFSET($B88,-($B88-1),MATCH(BS$6,$7:$7,)-1,1,1):OFFSET($B88,0,MATCH(BS$6,$7:$7,)-1,1,1)) -> 1806 | BT88: =SUM(OFFSET($B88,-($B88-1),MATCH(BT$6,$7:$7,)-1,1,1):OFFSET($B88,0,MATCH(BT$6,$7:$7,)-1,1,1)) -> 1138 | BU88: =SUM(OFFSET($B88,-($B88-1),MATCH(BU$6,$7:$7,)-1,1,1):OFFSET($B88,0,MATCH(BU$6,$7:$7,)-1,1,1)) -> 1019 | ... CH88: =SUM(OFFSET($B88,-($B88-1),MATCH(CH$6,$7:$7,)-1,1,1):OFFSET($B88,0,MATCH(CH$6,$7:$7,)-1,1,1)) -> 0 | CJ88: ='[2]Tab L Summary'!$B7 -> 2784 | CK88: ='[2]Tab L Summary'!$D7 -> 1920 | CL88: ='[2]Tab L Summary'!$F7 -> 5280 | CM88: ='[2]Tab L Summary'!$H7 -> 240 | CN88: ='[2]Tab L Summary'!$J7 -> 640 | CO88: =SUM(CJ77:CJ88) -> 34976 | CP88: =SUM(CK77:CK88) -> 49088 | CQ88: =SUM(CL77:CL88) -> 86992 | CR88: =SUM(CM77:CM88) -> 1728 | CS88: =SUM(CN77:CN88) -> 11264 | CT88: =SUM(OFFSET($B88,-($B88-1),MATCH(CT$6,$7:$7,)-1,1,1):OFFSET($B88,0,MATCH(CT$6,$7:$7,)-1,1,1)) -> 8784 | CU88: =SUM(OFFSET($B88,-($B88-1),MATCH(CU$6,$7:$7,)-1,1,1):OFFSET($B88,0,MATCH(CU$6,$7:$7,)-1,1,1)) -> 23504 | CV88: =SUM(OFFSET($B88,-($B88-1),MATCH(CV$6,$7:$7,)-1,1,1):OFFSET($B88,0,MATCH(CV$6,$7:$7,)-1,1,1)) -> 784 | CW88: =SUM(OFFSET($B88,-($B88-1),MATCH(CW$6,$7:$7,)-1,1,1):OFFSET($B88,0,MATCH(CW$6,$7:$7,)-1,1,1)) -> 2608 | CX88: =SUM(OFFSET($B88,-($B88-1),MATCH(CX$6,$7:$7,)-1,1,1):OFFSET($B88,0,MATCH(CX$6,$7:$7,)-1,1,1)) -> 137700
B89: =IF(MONTH(C89)>=4,(MONTH(C89))-3,(MONTH(C89))+9) -> 5 | C89: 41122 | D89: ='[2]Summary Passenger'!$B11 -> 53232 | E89: ='[2]Summary Passenger'!$F11 -> 488 | F89: ='[2]Summary Passenger'!$J11 -> 83448 | G89: =SUM(D78:D89) -> 733552 | H89: =SUM(E78:E89) -> 4075 | I89: =SUM(F78:F89) -> 997556 | J89: =SUM(OFFSET($B89,-($B89-1),MATCH(J$6,$7:$7,)-1,1,1):OFFSET($B89,0,MATCH(J$6,$7:$7,)-1,1,1)) -> 2322 | K89: =SUM(OFFSET($B89,-($B89-1),MATCH(K$6,$7:$7,)-1,1,1):OFFSET($B89,0,MATCH(K$6,$7:$7,)-1,1,1)) -> 397248 | L89: =SUM(OFFSET($B89,-($B89-1),MATCH(L$6,$7:$7,)-1,1,1):OFFSET($B89,0,MATCH(L$6,$7:$7,)-1,1,1)) -> 3647413 | M89: ='[2]Summary Passenger'!$D11 -> 372138 | N89: ='[2]Summary Passenger'!$H11 -> 6396 | O89: ='[2]Summary Passenger'!$L11 -> 481396 | P89: =SUM(M78:M89) -> 4475967 | Q89: =SUM(N78:N89) -> 58321 | R89: =SUM(O78:O89) -> 5690897 | S89: =SUM(OFFSET($B89,-($B89-1),MATCH(S$6,$7:$7,)-1,1,1):OFFSET($B89,0,MATCH(S$6,$7:$7,)-1,1,1)) -> 33471 | T89: =SUM(OFFSET($B89,-($B89-1),MATCH(T$6,$7:$7,)-1,1,1):OFFSET($B89,0,MATCH(T$6,$7:$7,)-1,1,1)) -> 2422025 | U89: =SUM(OFFSET($B89,-($B89-1),MATCH(U$6,$7:$7,)-1,1,1):OFFSET($B89,0,MATCH(U$6,$7:$7,)-1,1,1)) -> 22428856 | V89: ='[2]Tab K Summary'!$B8 -> 531 | W89: ='[2]Tab K Summary'!$D8 -> 8630 | X89: ='[2]Tab K Summary'!$F8 -> 640 | Y89: ='[2]Tab K Summary'!$H8 -> 15388 | Z89: ='[2]Tab K Summary'!$J8 -> 461 | AA89: ='[2]Tab K Summary'!$L8 -> 58 | AB89: ='[2]Tab K Summary'!$N8 -> 603 | AC89: 267 | AD89: 290 | AE89: 3 | AF89: 560 | AG89: 658 | AH89: 182 | AI89: 840 | AJ89: 603 | AK89: 17 | AL89: 0 | AM89: 620 | AN89: 75 | AO89: 56 | AP89: 24127 | AR89: =SUM(V78:V89) -> 6076 | AS89: =SUM(W78:W89) -> 140653 | AT89: =SUM(X78:X89) -> 17848 | AU89: =SUM(Y78:Y89) -> 181022 | AV89: =SUM(Z78:Z89) -> 11060 | AW89: =SUM(AA78:AA89) -> 408 | AX89: =SUM(AB78:AB89) -> 6970 | AY89: =SUM(AC78:AC89) -> 3644 | ... BL89: =SUM(AP78:AP89) -> 322551 | BN89: =SUM(OFFSET($B89,-($B89-1),MATCH(BN$6,$7:$7,)-1,1,1):OFFSET($B89,0,MATCH(BN$6,$7:$7,)-1,1,1)) -> 46076 | BO89: =SUM(OFFSET($B89,-($B89-1),MATCH(BO$6,$7:$7,)-1,1,1):OFFSET($B89,0,MATCH(BO$6,$7:$7,)-1,1,1)) -> 3767 | BP89: =SUM(OFFSET($B89,-($B89-1),MATCH(BP$6,$7:$7,)-1,1,1):OFFSET($B89,0,MATCH(BP$6,$7:$7,)-1,1,1)) -> 77308 | BQ89: =SUM(OFFSET($B89,-($B89-1),MATCH(BQ$6,$7:$7,)-1,1,1):OFFSET($B89,0,MATCH(BQ$6,$7:$7,)-1,1,1)) -> 2887 | BR89: =SUM(OFFSET($B89,-($B89-1),MATCH(BR$6,$7:$7,)-1,1,1):OFFSET($B89,0,MATCH(BR$6,$7:$7,)-1,1,1)) -> 205 | BS89: =SUM(OFFSET($B89,-($B89-1),MATCH(BS$6,$7:$7,)-1,1,1):OFFSET($B89,0,MATCH(BS$6,$7:$7,)-1,1,1)) -> 2409 | BT89: =SUM(OFFSET($B89,-($B89-1),MATCH(BT$6,$7:$7,)-1,1,1):OFFSET($B89,0,MATCH(BT$6,$7:$7,)-1,1,1)) -> 1405 | BU89: =SUM(OFFSET($B89,-($B89-1),MATCH(BU$6,$7:$7,)-1,1,1):OFFSET($B89,0,MATCH(BU$6,$7:$7,)-1,1,1)) -> 1309 | ... CH89: =SUM(OFFSET($B89,-($B89-1),MATCH(CH$6,$7:$7,)-1,1,1):OFFSET($B89,0,MATCH(CH$6,$7:$7,)-1,1,1)) -> 0 | CJ89: ='[2]Tab L Summary'!$B8 -> 2912 | CK89: ='[2]Tab L Summary'!$D8 -> 2032 | CL89: ='[2]Tab L Summary'!$F8 -> 5312 | CM89: ='[2]Tab L Summary'!$H8 -> 48 | CN89: ='[2]Tab L Summary'!$J8 -> 576 | CO89: =SUM(CJ78:CJ89) -> 34544 | CP89: =SUM(CK78:CK89) -> 49248 | CQ89: =SUM(CL78:CL89) -> 86752 | CR89: =SUM(CM78:CM89) -> 1712 | CS89: =SUM(CN78:CN89) -> 11216 | CT89: =SUM(OFFSET($B89,-($B89-1),MATCH(CT$6,$7:$7,)-1,1,1):OFFSET($B89,0,MATCH(CT$6,$7:$7,)-1,1,1)) -> 10816 | CU89: =SUM(OFFSET($B89,-($B89-1),MATCH(CU$6,$7:$7,)-1,1,1):OFFSET($B89,0,MATCH(CU$6,$7:$7,)-1,1,1)) -> 28816 | CV89: =SUM(OFFSET($B89,-($B89-1),MATCH(CV$6,$7:$7,)-1,1,1):OFFSET($B89,0,MATCH(CV$6,$7:$7,)-1,1,1)) -> 832 | CW89: =SUM(OFFSET($B89,-($B89-1),MATCH(CW$6,$7:$7,)-1,1,1):OFFSET($B89,0,MATCH(CW$6,$7:$7,)-1,1,1)) -> 3184 | CX89: =SUM(OFFSET($B89,-($B89-1),MATCH(CX$6,$7:$7,)-1,1,1):OFFSET($B89,0,MATCH(CX$6,$7:$7,)-1,1,1)) -> 172244
B90: =IF(MONTH(C90)>=4,(MONTH(C90))-3,(MONTH(C90))+9) -> 6 | C90: 41153 | D90: ='[2]Summary Passenger'!$B12 -> 58506 | E90: ='[2]Summary Passenger'!$F12 -> 480 | F90: ='[2]Summary Passenger'!$J12 -> 82104 | G90: =SUM(D79:D90) -> 731291 | H90: =SUM(E79:E90) -> 4302 | I90: =SUM(F79:F90) -> 993272 | J90: =SUM(OFFSET($B90,-($B90-1),MATCH(J$6,$7:$7,)-1,1,1):OFFSET($B90,0,MATCH(J$6,$7:$7,)-1,1,1)) -> 2802 | K90: =SUM(OFFSET($B90,-($B90-1),MATCH(K$6,$7:$7,)-1,1,1):OFFSET($B90,0,MATCH(K$6,$7:$7,)-1,1,1)) -> 479352 | L90: =SUM(OFFSET($B90,-($B90-1),MATCH(L$6,$7:$7,)-1,1,1):OFFSET($B90,0,MATCH(L$6,$7:$7,)-1,1,1)) -> 4378704 | M90: ='[2]Summary Passenger'!$D12 -> 385930 | N90: ='[2]Summary Passenger'!$H12 -> 6708 | O90: ='[2]Summary Passenger'!$L12 -> 492044 | P90: =SUM(M79:M90) -> 4502223 | Q90: =SUM(N79:N90) -> 61376 | R90: =SUM(O79:O90) -> 5700850 | S90: =SUM(OFFSET($B90,-($B90-1),MATCH(S$6,$7:$7,)-1,1,1):OFFSET($B90,0,MATCH(S$6,$7:$7,)-1,1,1)) -> 40179 | T90: =SUM(OFFSET($B90,-($B90-1),MATCH(T$6,$7:$7,)-1,1,1):OFFSET($B90,0,MATCH(T$6,$7:$7,)-1,1,1)) -> 2914069 | U90: =SUM(OFFSET($B90,-($B90-1),MATCH(U$6,$7:$7,)-1,1,1):OFFSET($B90,0,MATCH(U$6,$7:$7,)-1,1,1)) -> 26931079 | V90: ='[2]Tab K Summary'!$B9 -> 518 | W90: ='[2]Tab K Summary'!$D9 -> 10866 | X90: ='[2]Tab K Summary'!$F9 -> 825 | Y90: ='[2]Tab K Summary'!$H9 -> 16554 | Z90: ='[2]Tab K Summary'!$J9 -> 726 | AA90: ='[2]Tab K Summary'!$L9 -> 38 | AB90: ='[2]Tab K Summary'!$N9 -> 348 | AC90: 279 | AD90: 279 | AE90: 19 | AF90: 577 | AG90: 855 | AH90: 72 | AI90: 927 | AJ90: 332 | AK90: 66 | AL90: 20 | AM90: 418 | AN90: 83 | AO90: 98 | AP90: 27523 | AR90: =SUM(V79:V90) -> 6054 | AS90: =SUM(W79:W90) -> 139636 | AT90: =SUM(X79:X90) -> 16784 | AU90: =SUM(Y79:Y90) -> 182918 | AV90: =SUM(Z79:Z90) -> 9623 | AW90: =SUM(AA79:AA90) -> 362 | AX90: =SUM(AB79:AB90) -> 6627 | AY90: =SUM(AC79:AC90) -> 3598 | ... BL90: =SUM(AP79:AP90) -> 323449 | BN90: =SUM(OFFSET($B90,-($B90-1),MATCH(BN$6,$7:$7,)-1,1,1):OFFSET($B90,0,MATCH(BN$6,$7:$7,)-1,1,1)) -> 56942 | BO90: =SUM(OFFSET($B90,-($B90-1),MATCH(BO$6,$7:$7,)-1,1,1):OFFSET($B90,0,MATCH(BO$6,$7:$7,)-1,1,1)) -> 4592 | BP90: =SUM(OFFSET($B90,-($B90-1),MATCH(BP$6,$7:$7,)-1,1,1):OFFSET($B90,0,MATCH(BP$6,$7:$7,)-1,1,1)) -> 93862 | BQ90: =SUM(OFFSET($B90,-($B90-1),MATCH(BQ$6,$7:$7,)-1,1,1):OFFSET($B90,0,MATCH(BQ$6,$7:$7,)-1,1,1)) -> 3613 | BR90: =SUM(OFFSET($B90,-($B90-1),MATCH(BR$6,$7:$7,)-1,1,1):OFFSET($B90,0,MATCH(BR$6,$7:$7,)-1,1,1)) -> 243 | BS90: =SUM(OFFSET($B90,-($B90-1),MATCH(BS$6,$7:$7,)-1,1,1):OFFSET($B90,0,MATCH(BS$6,$7:$7,)-1,1,1)) -> 2757 | BT90: =SUM(OFFSET($B90,-($B90-1),MATCH(BT$6,$7:$7,)-1,1,1):OFFSET($B90,0,MATCH(BT$6,$7:$7,)-1,1,1)) -> 1684 | BU90: =SUM(OFFSET($B90,-($B90-1),MATCH(BU$6,$7:$7,)-1,1,1):OFFSET($B90,0,MATCH(BU$6,$7:$7,)-1,1,1)) -> 1588 | ... CH90: =SUM(OFFSET($B90,-($B90-1),MATCH(CH$6,$7:$7,)-1,1,1):OFFSET($B90,0,MATCH(CH$6,$7:$7,)-1,1,1)) -> 0 | CJ90: ='[2]Tab L Summary'!$B9 -> 3408 | CK90: ='[2]Tab L Summary'!$D9 -> 2976 | CL90: ='[2]Tab L Summary'!$F9 -> 6048 | CM90: ='[2]Tab L Summary'!$H9 -> 112 | CN90: ='[2]Tab L Summary'!$J9 -> 752 | CO90: =SUM(CJ79:CJ90) -> 35808 | CP90: =SUM(CK79:CK90) -> 44800 | CQ90: =SUM(CL79:CL90) -> 86416 | CR90: =SUM(CM79:CM90) -> 1632 | CS90: =SUM(CN79:CN90) -> 10768 | CT90: =SUM(OFFSET($B90,-($B90-1),MATCH(CT$6,$7:$7,)-1,1,1):OFFSET($B90,0,MATCH(CT$6,$7:$7,)-1,1,1)) -> 13792 | CU90: =SUM(OFFSET($B90,-($B90-1),MATCH(CU$6,$7:$7,)-1,1,1):OFFSET($B90,0,MATCH(CU$6,$7:$7,)-1,1,1)) -> 34864 | CV90: =SUM(OFFSET($B90,-($B90-1),MATCH(CV$6,$7:$7,)-1,1,1):OFFSET($B90,0,MATCH(CV$6,$7:$7,)-1,1,1)) -> 944 | CW90: =SUM(OFFSET($B90,-($B90-1),MATCH(CW$6,$7:$7,)-1,1,1):OFFSET($B90,0,MATCH(CW$6,$7:$7,)-1,1,1)) -> 3936 | CX90: =SUM(OFFSET($B90,-($B90-1),MATCH(CX$6,$7:$7,)-1,1,1):OFFSET($B90,0,MATCH(CX$6,$7:$7,)-1,1,1)) -> 208052
