Workbook
Name Dom.Stats: #REF!
Name Int.Stats: #REF!
Name Mig.Stats: #REF!
Name Mig.Stats.Raw: #REF!
Name qwdwqe: '[1]Migration Stats'!$A$6:$CZ$88

Sheet Marketing Copy
B19: =M23 -> 45901 | D19: Current | E19: Previous | F19: % Change | H19: Rolling | I19: Previous | J19: % Change
D20: month | E20: year's month | F20: (month) | H20: 12 month | I20: 12 month | J20: in rolling
D21: =M23 -> 45901 | E21: =DATE(YEAR($D$21)-1,MONTH($D$21),DAY($D$21)) -> 45536 | H21: =D21 -> 45901 | I21: =E21 -> 45536 | J21: total
B23: Passenger Movements | L23: Current month | M23: ='All Data'!D2 -> 45901 | N23: ='All Data'!D3 -> 45536 | Q23: Current Month Adj | R23: Prior Month Adj | S23: 12m Adj | T23: Prior 12m Adj | V23: Prior month 12m | W23: =N23 -> 45536 | X23: Expected current month | Y23: Variance for 12 month | Z23: Variance for prior month
B24: International Passengers | D24: =INDEX('All Data'!$1:$1048576,MATCH('Marketing Copy'!M$23,'All Data'!$C:$C,0),MATCH($L24,'All Data'!$7:$7,0))+Q24 -> 68690 | E24: =INDEX('All Data'!$1:$1048576,MATCH('Marketing Copy'!N$23,'All Data'!$C:$C,0),MATCH($L24,'All Data'!$7:$7,0))+R24 -> 63465 | F24: =IF(E24=0,"",D24/E24-1) -> 0.082328843 | H24: =INDEX('All Data'!$1:$1048576,MATCH('Marketing Copy'!M$23,'All Data'!$C:$C,0),MATCH($O24,'All Data'!$7:$7,0))+S24 -> 815722 | I24: =INDEX('All Data'!$1:$1048576,MATCH('Marketing Copy'!N$23,'All Data'!$C:$C,0),MATCH($O24,'All Data'!$7:$7,0))+T24 -> 776462 | J24: =IF(I24=0,"",H24/I24-1) -> 0.05056268 | L24: INTPAX | M24: INTYTDPAX | O24: INTROLLPAX | T24: 280 | V24: 639052 | W24: 37776 | X24: =V24-W24+D24 -> 669966 | Y24: =H24-X24 -> 145756 | Z24: =E24-W24 -> 25689
B25: Domestic Passengers | D25: =INDEX('All Data'!$1:$1048576,MATCH('Marketing Copy'!M$23,'All Data'!$C:$C,0),MATCH($L25,'All Data'!$7:$7,0))+Q25 -> 372556 | E25: =INDEX('All Data'!1:1048576,MATCH('Marketing Copy'!N$23,'All Data'!$C:$C,0),MATCH($L25,'All Data'!$7:$7,0))+R25 -> 373023 | F25: =IF(E25=0,"",D25/E25-1) -> -0.0012519335 | H25: =INDEX('All Data'!1:1048576,MATCH('Marketing Copy'!M$23,'All Data'!$C:$C,0),MATCH($O25,'All Data'!$7:$7,0))+S25 -> 4420369 | I25: =INDEX('All Data'!$1:$1048576,MATCH('Marketing Copy'!N$23,'All Data'!$C:$C,0),MATCH($O25,'All Data'!$7:$7,0))+T25 -> 4609276 | J25: =IF(I25=0,"",H25/I25-1) -> -0.040984094 | L25: DOMPAX | M25: DOMYTDPAX | O25: DOMROLLPAX | V25: 4774264 | W25: 392152 | X25: =V25-W25+D25 -> 4754668 | Y25: =H25-X25 -> -334299 | Z25: =E25-W25 -> -19129
B26: Total Passenger Movements | D26: =SUM(D24:D25) -> 441246 | E26: =SUM(E24:E25) -> 436488 | F26: =IF(E26=0,"",D26/E26-1) -> 0.010900643 | H26: =SUM(H24:H25) -> 5236091 | I26: =SUM(I24:I25) -> 5385738 | J26: =IF(I26=0,"",H26/I26-1) -> -0.027785793 | V26: =SUM(V24:V25) -> 5413316 | W26: =SUM(W24:W25) -> 429928 | X26: =V26-W26+D26 -> 5424634
B29: Aircraft Movements | F29: =IF(E29=0,"",D29/E29-1) | J29: =IF(I29=0,"",H29/I29-1)
B30: International | D30: =INDEX('All Data'!1:1048576,MATCH('Marketing Copy'!M$23,'All Data'!$C:$C,0),MATCH($L30,'All Data'!$7:$7,0))+Q30 -> 464 | E30: =INDEX('All Data'!1:1048576,MATCH('Marketing Copy'!N$23,'All Data'!$C:$C,0),MATCH($L30,'All Data'!$7:$7,0))+R30 -> 447 | F30: =IF(E30=0,"",D30/E30-1) -> 0.03803132 | H30: =INDEX('All Data'!1:1048576,MATCH('Marketing Copy'!M$23,'All Data'!$C:$C,0),MATCH($O30,'All Data'!$7:$7,0))+S30 -> 5579 | I30: =INDEX('All Data'!$1:$1048576,MATCH('Marketing Copy'!N$23,'All Data'!$C:$C,0),MATCH($O30,'All Data'!$7:$7,0))+T30 -> 5498 | J30: =IF(I30=0,"",H30/I30-1) -> 0.01473263 | L30: INTMOVE | M30: INTYTDMOVE | O30: INTROLLMOVE | T30: 3 | V30: 4422 | W30: 251 | X30: =V30-W30+D30 -> 4635 | Y30: =H30-X30 -> 944 | Z30: =E30-W30 -> 196
B31: Domestic | D31: =INDEX('All Data'!1:1048576,MATCH('Marketing Copy'!M$23,'All Data'!$C:$C,0),MATCH($L31,'All Data'!$7:$7,0))+Q31 -> 5272 | E31: =INDEX('All Data'!1:1048576,MATCH('Marketing Copy'!N$23,'All Data'!$C:$C,0),MATCH($L31,'All Data'!$7:$7,0))+R31 -> 5399 | F31: =IF(E31=0,"",D31/E31-1) -> -0.023522875 | H31: =INDEX('All Data'!1:1048576,MATCH('Marketing Copy'!M$23,'All Data'!$C:$C,0),MATCH($O31,'All Data'!$7:$7,0))+S31 -> 65746 | I31: =INDEX('All Data'!$1:$1048576,MATCH('Marketing Copy'!N$23,'All Data'!$C:$C,0),MATCH($O31,'All Data'!$7:$7,0))+T31 -> 65843 | J31: =IF(I31=0,"",H31/I31-1) -> -0.0014732014 | L31: DOMMOVE | M31: DOMYTDMOVE | O31: DOMROLLMOVE | V31: 66859 | W31: 5531 | X31: =V31-W31+D31 -> 66600 | Y31: =H31-X31 -> -854 | Z31: =E31-W31 -> -132
B32: Total Aircraft Movements | D32: =SUM(D30:D31) -> 5736 | E32: =SUM(E30:E31) -> 5846 | F32: =IF(E32=0,"",D32/E32-1) -> -0.018816285 | H32: =SUM(H30:H31) -> 71325 | I32: =SUM(I30:I31) -> 71341 | J32: =IF(I32=0,"",H32/I32-1) -> -0.00022427496
B35: Capacity | F35: =IF(E35=0,"",D35/E35-1) | J35: =IF(I35=0,"",H35/I35-1)
B36: International Seat Capacity | D36: =INDEX('All Data'!$1:$1048576,MATCH('Marketing Copy'!M$23,'All Data'!$C:$C,0),MATCH($L36,'All Data'!$7:$7,0))+Q36 -> 80948 | E36: =INDEX('All Data'!$1:$1048576,MATCH('Marketing Copy'!N$23,'All Data'!$C:$C,0),MATCH($L36,'All Data'!$7:$7,0))+R36 -> 74543 | F36: =IF(E36=0,"",D36/E36-1) -> 0.085923561 | H36: =INDEX('All Data'!1:1048576,MATCH('Marketing Copy'!M$23,'All Data'!$C:$C,0),MATCH($O36,'All Data'!$7:$7,0))+S36 -> 976609 | I36: =INDEX('All Data'!$1:$1048576,MATCH('Marketing Copy'!N$23,'All Data'!$C:$C,0),MATCH($O36,'All Data'!$7:$7,0))+T36 -> 924680 | J36: =IF(I36=0,"",H36/I36-1) -> 0.056158887 | L36: INTSEAT | M36: INTYTDSEAT | O36: INTROLLSEAT | T36: 8227 | V36: 754763 | W36: 43037 | X36: =V36-W36+D36 -> 792674 | Y36: =H36-X36 -> 183935 | Z36: =E36-W36 -> 31506
B37: Domestic Seat Capacity | D37: =INDEX('All Data'!$1:$1048576,MATCH('Marketing Copy'!M$23,'All Data'!$C:$C,0),MATCH($L37,'All Data'!$7:$7,0))+Q37 -> 439993 | E37: =INDEX('All Data'!$1:$1048576,MATCH('Marketing Copy'!N$23,'All Data'!$C:$C,0),MATCH($L37,'All Data'!$7:$7,0))+R37 -> 462438 | F37: =IF(E37=0,"",D37/E37-1) -> -0.048536236 | H37: =INDEX('All Data'!1:1048576,MATCH('Marketing Copy'!M$23,'All Data'!$C:$C,0),MATCH($O37,'All Data'!$7:$7,0))+S37 -> 5436288 | I37: =INDEX('All Data'!$1:$1048576,MATCH('Marketing Copy'!N$23,'All Data'!$C:$C,0),MATCH($O37,'All Data'!$7:$7,0))+T37 -> 5646138 | J37: =IF(I37=0,"",H37/I37-1) -> -0.037166998 | L37: DOMSEAT | M37: DOMYTDSEAT | O37: DOMROLLSEAT | T37: 36 | V37: 5729361 | W37: 486236 | X37: =V37-W37+D37 -> 5683118 | Y37: =H37-X37 -> -246830 | Z37: =E37-W37 -> -23798
B38: Total Capacity | D38: =SUM(D36:D37) -> 520941 | E38: =SUM(E36:E37) -> 536981 | F38: =IF(E38=0,"",D38/E38-1) -> -0.029870703 | H38: =SUM(H36:H37) -> 6412897 | I38: =SUM(I36:I37) -> 6570818 | J38: =IF(I38=0,"",H38/I38-1) -> -0.02403369
F39: =IF(E39=0,"",D39/E39-1) | J39: =IF(I39=0,"",H39/I39-1)
B40: Average Load Factors | F40: =IF(E40=0,"",D40/E40-1) | J40: =IF(I40=0,"",H40/I40-1)
B41: International load factor | D41: =D24/D36 -> 0.84856945 | E41: =E24/E36 -> 0.85138779 | F41: =IF(E41=0,"",D41-E41) -> -0.0028183376 | H41: =H24/H36 -> 0.83525956 | I41: =I24/I36 -> 0.83970887 | J41: =IF(I41=0,"",H41-I41) -> -0.004449316
B42: Domestic load factor | D42: =D25/D37 -> 0.84673165 | E42: =E25/E37 -> 0.80664435 | F42: =IF(E42=0,"",D42-E42) -> 0.040087302 | H42: =H25/H37 -> 0.81312267 | I42: =I25/I37 -> 0.81635908 | J42: =IF(I42=0,"",H42-I42) -> -0.0032364084
B43: Overall load factor | D43: =D26/D38 -> 0.84701722 | E43: =E26/E38 -> 0.81285558 | F43: =IF(E43=0,"",D43-E43) -> 0.034161649 | H43: =H26/H38 -> 0.81649386 | I43: =I26/I38 -> 0.81964498 | J43: =IF(I43=0,"",H43-I43) -> -0.0031511257
F44: =IF(E44=0,"",D44/E44-1) | J44: =IF(I44=0,"",H44/I44-1)
F45: =IF(E45=0,"",D45/E45-1) | J45: =IF(I45=0,"",H45/I45-1)
B46: Capacity | F46: =IF(E46=0,"",D46/E46-1) | J46: =IF(I46=0,"",H46/I46-1)
B47: International Seat Capacity | D47: =D36/D30/2 -> 87.228448 | E47: =E36/E30/2 -> 83.381432 | F47: =IF(E47=0,"",D47/E47-1) -> 0.046137568 | H47: =H36/H30/2 -> 87.525453 | I47: =I36/I30/2 -> 84.092397 | J47: =IF(I47=0,"",H47/I47-1) -> 0.040824801
B48: Domestic Seat Capacity | D48: =D37/D31/2 -> 41.72923 | E48: =E37/E31/2 -> 42.826264 | F48: =IF(E48=0,"",D48/E48-1) -> -0.025615922 | H48: =H37/H31/2 -> 41.343108 | I48: =I37/I31/2 -> 42.875765 | J48: =IF(I48=0,"",H48/I48-1) -> -0.035746458
B49: Total Capacity | D49: =D38/D32/2 -> 45.40978 | E49: =E38/E32/2 -> 45.927215 | F49: =IF(E49=0,"",D49/E49-1) -> -0.01126641 | H49: =H38/H32/2 -> 44.955464 | I49: =I38/I32/2 -> 46.052186 | J49: =IF(I49=0,"",H49/I49-1) -> -0.023814756
B51: International Arrivals | J51: =IF(I51=0,"",H51/I51-1)
B52: Last Country of Residence*
B53: New Zealand | D53: =INDEX('All Data'!$1:$1048576,MATCH('Marketing Copy'!M$23,'All Data'!$C:$C,0),MATCH($L53,'All Data'!$7:$7,0))+Q53 -> 20606 | E53: =INDEX('All Data'!$1:$1048576,MATCH('Marketing Copy'!N$23,'All Data'!$C:$C,0),MATCH($L53,'All Data'!$7:$7,0))+R53 -> 18797 | F53: =IF(E53=0,"",D53/E53-1) -> 0.096238762 | H53: =INDEX('All Data'!$1:$1048576,MATCH('Marketing Copy'!M$23,'All Data'!$C:$C,0),MATCH($V69,'All Data'!$7:$7,0)) -> 228179 | I53: =INDEX('All Data'!$1:$1048576,MATCH('Marketing Copy'!N$23,'All Data'!$C:$C,0),MATCH($O53,'All Data'!$7:$7,0))+T53 -> 217469 | J53: =IF(I53=0,"",H53/I53-1) -> 0.049248399 | L53: NZ | M53: NZ3 | O53: NZ2 | R53: 0 | U53: S-E ASIA | V53: S-E ASIA2 | W53: S-E ASIA3
B54: Overseas | F54: =IF(E54=0,"",D54/E54-1) | J54: =IF(I54=0,"",H54/I54-1) | U54: N-E ASIA | V54: N-E ASIA2 | W54: N-E ASIA3
B55: Australia | D55: =INDEX('All Data'!$1:$1048576,MATCH('Marketing Copy'!M$23,'All Data'!$C:$C,0),MATCH($L55,'All Data'!$7:$7,0))+Q55 -> 11540 | E55: =INDEX('All Data'!$1:$1048576,MATCH('Marketing Copy'!N$23,'All Data'!$C:$C,0),MATCH($L55,'All Data'!$7:$7,0))+R55 -> 10276 | F55: =IF(E55=0,"",D55/E55-1) -> 0.12300506 | H55: =INDEX('All Data'!$1:$1048576,MATCH('Marketing Copy'!M$23,'All Data'!$C:$C,0),MATCH($V71,'All Data'!$7:$7,0)) -> 132671 | I55: =INDEX('All Data'!$1:$1048576,MATCH('Marketing Copy'!N$23,'All Data'!$C:$C,0),MATCH($O55,'All Data'!$7:$7,0))+T55 -> 120933 | J55: =IF(I55=0,"",H55/I55-1) -> 0.09706201 | L55: AUST | M55: AUST3 | O55: AUST2 | U55: S & C ASIA | V55: S & C ASIA2 | W55: S & C ASIA3
B56: Europe | D56: =INDEX('All Data'!$1:$1048576,MATCH('Marketing Copy'!M$23,'All Data'!$C:$C,0),MATCH($U59,'All Data'!$7:$7,0))+Q56 -> 815 | E56: =INDEX('All Data'!$1:$1048576,MATCH('Marketing Copy'!N$23,'All Data'!$C:$C,0),MATCH($U59,'All Data'!$7:$7,0))+R56 -> 619 | F56: =IF(E56=0,"",D56/E56-1) -> 0.31663974 | H56: =INDEX('All Data'!$1:$1048576,MATCH('Marketing Copy'!M$23,'All Data'!$C:$C,0),MATCH($V59,'All Data'!$7:$7,0)) -> 15659 | I56: =INDEX('All Data'!$1:$1048576,MATCH('Marketing Copy'!N$23,'All Data'!$C:$C,0),MATCH($O56,'All Data'!$7:$7,0))+T56 -> 14734 | J56: =IF(I56=0,"",H56/I56-1) -> 0.062779965 | L56: EURO | M56: EURO3 | O56: EURO2 | U56: ASIA TOTAL | V56: ASIA TOTAL2 | W56: ASIA TOTAL3
B57: North America | D57: =INDEX('All Data'!$1:$1048576,MATCH('Marketing Copy'!M$23,'All Data'!$C:$C,0),MATCH($U60,'All Data'!$7:$7,0))+Q57 -> 468 | E57: =INDEX('All Data'!$1:$1048576,MATCH('Marketing Copy'!N$23,'All Data'!$C:$C,0),MATCH($U60,'All Data'!$7:$7,0))+R57 -> 464 | F57: =IF(E57=0,"",D57/E57-1) -> 0.0086206897 | H57: =INDEX('All Data'!$1:$1048576,MATCH('Marketing Copy'!M$23,'All Data'!$C:$C,0),MATCH($V60,'All Data'!$7:$7,0)) -> 8433 | I57: =INDEX('All Data'!$1:$1048576,MATCH('Marketing Copy'!N$23,'All Data'!$C:$C,0),MATCH($O57,'All Data'!$7:$7,0))+T57 -> 8848 | J57: =IF(I57=0,"",H57/I57-1) -> -0.046903255 | L57: NTH AM | M57: NTH AM3 | O57: NTH AM2 | U57: N-W EUROPE | V57: N-W EUROPE2 | W57: N-W EUROPE3
B58: Asia | D58: =INDEX('All Data'!$1:$1048576,MATCH('Marketing Copy'!M$23,'All Data'!$C:$C,0),MATCH($U56,'All Data'!$7:$7,0))+Q58 -> 1017 | E58: =INDEX('All Data'!$1:$1048576,MATCH('Marketing Copy'!N$23,'All Data'!$C:$C,0),MATCH($U56,'All Data'!$7:$7,0))+R58 -> 942 | F58: =IF(E58=0,"",D58/E58-1) -> 0.079617834 | H58: =INDEX('All Data'!$1:$1048576,MATCH('Marketing Copy'!M$23,'All Data'!$C:$C,0),MATCH($V56,'All Data'!$7:$7,0)) -> 13281 | I58: =INDEX('All Data'!$1:$1048576,MATCH('Marketing Copy'!N$23,'All Data'!$C:$C,0),MATCH($O58,'All Data'!$7:$7,0))+T58 -> 14337 | J58: =IF(I58=0,"",H58/I58-1) -> -0.073655576 | L58: ASIA | M58: ASIA3 | O58: ASIA2 | U58: S-E EUROPE | V58: S-E EUROPE2 | W58: S-E EUROPE3
B59: Pacific Islands | D59: =INDEX('All Data'!$1:$1048576,MATCH('Marketing Copy'!M$23,'All Data'!$C:$C,0),MATCH($L59,'All Data'!$7:$7,0))+Q59 -> 247 | E59: =INDEX('All Data'!$1:$1048576,MATCH('Marketing Copy'!N$23,'All Data'!$C:$C,0),MATCH($L59,'All Data'!$7:$7,0))+R59 -> 270 | F59: =IF(E59=0,"",D59/E59-1) -> -0.085185185 | H59: =INDEX('All Data'!$1:$1048576,MATCH('Marketing Copy'!M$23,'All Data'!$C:$C,0),MATCH($V68,'All Data'!$7:$7,0)) -> 3626 | I59: =INDEX('All Data'!$1:$1048576,MATCH('Marketing Copy'!N$23,'All Data'!$C:$C,0),MATCH($O59,'All Data'!$7:$7,0))+T59 -> 3904 | J59: =IF(I59=0,"",H59/I59-1) -> -0.071209016 | L59: PAC | M59: PAC3 | O59: PAC2 | U59: EUROPE TOTAL | V59: EUROPE TOTAL2 | W59: EUROPE TOTAL3
B60: Other | D60: =INDEX('All Data'!$1:$1048576,MATCH('Marketing Copy'!M$23,'All Data'!$C:$C,0),MATCH($U67,'All Data'!$7:$7,0))+INDEX('All Data'!$1:$1048576,MATCH('Marketing Copy'!M$23,'All Data'!$C:$C,0),MATCH($U61,'All Data'!$7:$7,0))+INDEX('All Data'!$1:$1048576,MATCH('Marketing Copy'!M$23,'All Data'!$C:$C,0),MATCH($U62,'All Data'!$7:$7,0))+INDEX('All Data'!$1:$1048576,MATCH('Marketing Copy'!M$23,'All Data'!$C:$C,0),MATCH($U64,'All Data'!$7:$7,0))+INDEX('All Data'!$1:$1048576,MATCH('Marketing Copy'!M$23,'All Data'!$C:$C,0),MATCH($U65,'All Data'!$7:$7,0))+Q60 -> 337 | E60: =INDEX('All Data'!$1:$1048576,MATCH('Marketing Copy'!N$23,'All Data'!$C:$C,0),MATCH($L60,'All Data'!$7:$7,0))+R60 -> 354 | F60: =IF(E60=0,"",D60/E60-1) -> -0.048022599 | H60: =INDEX('All Data'!$1:$1048576,MATCH('Marketing Copy'!M$23,'All Data'!$C:$C,0),MATCH($V67,'All Data'!$7:$7,0)) -> 4798 | I60: =INDEX('All Data'!$1:$1048576,MATCH('Marketing Copy'!N$23,'All Data'!$C:$C,0),MATCH($O60,'All Data'!$7:$7,0))+T60 -> 6141 | J60: =IF(I60=0,"",H60/I60-1) -> -0.21869402 | L60: OTHER | M60: OTHER3 | O60: OTHER2 | U60: N AMER | V60: N AMER2 | W60: N AMER3
B61: Total Overseas | D61: =SUM(D55:D60) -> 14424 | E61: =SUM(E55:E60)+Q61 -> 12925 | F61: =IF(E61=0,"",D61/E61-1) -> 0.11597679 | H61: =SUM(H55:H60) -> 178468 | I61: =SUM(I55:I60)+T61 -> 168897 | J61: =IF(I61=0,"",H61/I61-1) -> 0.056667673 | U61: S AMER | V61: S AMER2 | W61: S AMER3
B62: Total International Arrivals | D62: =SUM(D53+D61) -> 35030 | E62: =SUM(E53+E61) -> 31722 | F62: =IF(E62=0,"",D62/E62-1) -> 0.10428094 | H62: =SUM(H53+H61) -> 406647 | I62: =SUM(I53+I61) -> 386366 | J62: =IF(I62=0,"",H62/I62-1) -> 0.052491679 | L62: =I60-6190 -> -49 | U62: CENT AMER & CARIB | V62: CENT AMER & CARIB2 | W62: CENT AMER & CARIB3
F63: =IF(E63=0,"",D63/E63-1) | J63: =IF(I63=0,"",H63/I63-1) | U63: AMER TOTAL | V63: AMER TOTAL2 | W63: AMER TOTAL3
U64: N AFRICA & MIDDLE EAST | V64: N AFRICA & MIDDLE EAST2 | W64: N AFRICA & MIDDLE EAST3
...

Sheet All Data
C2: This month: | D2: 45901
C3: Last Year: | D3: =DATE(YEAR(D2),MONTH(D2)-12,DAY(D2)) -> 45536
C4: First month of current year | D4: =DATE(YEAR(D2),4,1) -> 45748
C5: First month of previous year | D5: =DATE(YEAR(D3),4,1) -> 45383
J6: INTPAX | K6: INTMOVE | L6: INTSEAT | S6: DOMPAX | T6: DOMMOVE | U6: DOMSEAT | BN6: ASIA | BO6: AUST | BP6: EURO | BQ6: NZ | BR6: OTHER | BS6: PAC | BT6: NTH AM | BU6: S-E ASIA | BV6: N-E ASIA | BW6: S & C ASIA | BX6: ASIA TOTAL | BY6: N-W EUROPE | BZ6: S-E EUROPE | CA6: EUROPE TOTAL | CB6: N AMER | CC6: S AMER | CD6: CENT AMER & CARIB | CE6: AMER TOTAL | CF6: N AFRICA & MIDDLE EAST | CG6: SUB-SAHARAN AFRICA | CH6: OCEANIA & ANTARCTICA | CI6: OTHERS | CT6: BUS/CON | CU6: HOL/VAC | CV6: FRI/REL | CW6: EDU/MED | CX6: OTH
D7: INTPAX | E7: INTMOVE | F7: INTSEAT | G7: INTROLLPAX | H7: INTROLLMOVE | I7: INTROLLSEAT | J7: INTYTDPAX | K7: INTYTDMOVE | L7: INTYTDSEAT | M7: DOMPAX | N7: DOMMOVE | O7: DOMSEAT | P7: DOMROLLPAX | Q7: DOMROLLMOVE | R7: DOMROLLSEAT | S7: DOMYTDPAX | T7: DOMYTDMOVE | U7: DOMYTDSEAT | V7: ASIA | W7: AUST | X7: EURO | Y7: NZ | Z7: OTHER | AA7: PAC | AB7: NTH AM | AC7: S-E ASIA | AD7: N-E ASIA | AE7: S & C ASIA | AF7: ASIA TOTAL | AG7: N-W EUROPE | AH7: S-E EUROPE | AI7: EUROPE TOTAL | AJ7: N AMER | AK7: S AMER | AL7: CENT AMER & CARIB | AM7: AMER TOTAL | AN7: N AFRICA & MIDDLE EAST | AO7: SUB-SAHARAN AFRICA | AP7: OCEANIA & ANTARCTICA | AQ7: OTHERS | AR7: ASIA2 | AS7: AUST2 | AT7: EURO2 | AU7: NZ2 | AV7: OTHER2 | AW7: PAC2 | AX7: NTH AM2 | AY7: S-E ASIA2 | AZ7: N-E ASIA2 | BA7: S & C ASIA2 | BB7: ASIA TOTAL2 | BC7: N-W EUROPE2 | BD7: S-E EUROPE2 | BE7: EUROPE TOTAL2 | BF7: N AMER2 | BG7: S AMER2 | BH7: CENT AMER & CARIB2 | BI7: AMER TOTAL2 | BJ7: N AFRICA & MIDDLE EAST2 | BK7: SUB-SAHARAN AFRICA2 | BL7: OCEANIA & ANTARCTICA2 | BM7: OTHERS2 | BN7: ASIA3 | BO7: AUST3 | BP7: EURO3 | BQ7: NZ3 | BR7: OTHER3 | BS7: PAC3 | BT7: NTH AM3 | BU7: S-E ASIA3 | BV7: N-E ASIA3 | BW7: S & C ASIA3 | BX7: ASIA TOTAL3 | BY7: N-W EUROPE3 | BZ7: S-E EUROPE3 | CA7: EUROPE TOTAL3 | CB7: N AMER3 | CC7: S AMER3 | CD7: CENT AMER & CARIB3 | CE7: AMER TOTAL3 | CF7: N AFRICA & MIDDLE EAST3 | CG7: SUB-SAHARAN AFRICA3 | CH7: OCEANIA & ANTARCTICA3 | CI7: OTHERS3 | CJ7: BUS/CON | CK7: HOL/VAC | CL7: FRI/REL | CM7: EDU/MED | CN7: OTH | CO7: BUS/CON2 | CP7: HOL/VAC2 | CQ7: FRI/REL2 | CR7: EDU/MED2 | CS7: OTH2 | CT7: BUS/CON3 | CU7: HOL/VAC3 | CV7: FRI/REL3 | CW7: EDU/MED3 | CX7: OTH3
D8: Pax Total | E8: Movements | F8: Seat Total | G8: Rolling 12 month Pax Total | H8: Rolling 12 month Movements Total | I8: Rolling 12 month Seat Total | J8: YTD Pax Total | K8: YTD Movements Total | L8: YTD Seat Total | M8: Pax Total | N8: Movements | O8: Seat Total | P8: Rolling 12 month Pax Total | Q8: Rolling 12 month Movements | R8: Rolling 12 month Seat Total | S8: YTD Pax Total | T8: YTD Movements | U8: YTD Seat Total | V8: Arrivals | W8: Arrivals | X8: Arrivals | Y8: Arrivals | Z8: Arrivals | AA8: Arrivals | AB8: Arrivals | AC8: Arrivals | AD8: Arrivals | AE8: Arrivals | AF8: Arrivals | AG8: Arrivals | AH8: Arrivals | AI8: Arrivals | AJ8: Arrivals | AK8: Arrivals | AL8: Arrivals | AM8: Arrivals | AN8: Arrivals | AO8: Arrivals | AP8: Arrivals | AQ8: Arrivals | AR8: Rolling 12 month | AS8: Rolling 12 month | AT8: Rolling 12 month | AU8: Rolling 12 month | AV8: Rolling 12 month | AW8: Rolling 12 month | AX8: Rolling 12 month | AY8: Rolling 12 month | AZ8: Rolling 12 month | BA8: Rolling 12 month | BB8: Rolling 12 month | BC8: Rolling 12 month | BD8: Rolling 12 month | BE8: Rolling 12 month | BF8: Rolling 12 month | BG8: Rolling 12 month | BH8: Rolling 12 month | BI8: Rolling 12 month | BJ8: Rolling 12 month | BK8: Rolling 12 month | BL8: Rolling 12 month | BN8: YTD | BO8: YTD | BP8: YTD | BQ8: YTD | BR8: YTD | BS8: YTD | BT8: YTD | BU8: YTD | BV8: YTD | BW8: YTD | BX8: YTD | BY8: YTD | BZ8: YTD | CA8: YTD | CB8: YTD | CC8: YTD | CD8: YTD | CE8: YTD | CF8: YTD | CG8: YTD | CH8: YTD | CJ8: Arrivals | CK8: Arrivals | CL8: Arrivals | CM8: Arrivals | CN8: Arrivals | CO8: Rolling 12 month | CP8: Rolling 12 month | CQ8: Rolling 12 month | CR8: Rolling 12 month | CS8: Rolling 12 month | CT8: YTD | CU8: YTD | CV8: YTD | CW8: YTD | CX8: YTD
D9: Intl | E9: Int | F9: Intl | G9: Intl | H9: Intl | I9: Intl | J9: Intl | K9: Intl | L9: Intl | M9: Dom | N9: Dom | O9: Dom | P9: Dom | Q9: Dom | R9: Dom | S9: Dom | T9: Dom | U9: Dom | V9: Intl | W9: Intl | X9: Intl | Y9: Intl | Z9: Intl | AA9: Intl | AB9: Intl | AC9: Intl | AD9: Intl | AE9: Intl | AF9: Intl | AG9: Intl | AH9: Intl | AI9: Intl | AJ9: Intl | AK9: Intl | AL9: Intl | AM9: Intl | AN9: Intl | AO9: Intl | AP9: Intl | AQ9: Intl | AR9: Intl | AS9: Intl | AT9: Intl | AU9: Intl | AV9: Intl | AW9: Intl | AX9: Intl | AY9: Intl | AZ9: Intl | BA9: Intl | BB9: Intl | BC9: Intl | BD9: Intl | BE9: Intl | BF9: Intl | BG9: Intl | BH9: Intl | BI9: Intl | BJ9: Intl | BK9: Intl | BL9: Intl | BN9: Intl | BO9: Intl | BP9: Intl | BQ9: Intl | BR9: Intl | BS9: Intl | BT9: Intl | BU9: Intl | BV9: Intl | BW9: Intl | BX9: Intl | BY9: Intl | BZ9: Intl | CA9: Intl | CB9: Intl | CC9: Intl | CD9: Intl | CE9: Intl | CF9: Intl | CG9: Intl | CH9: Intl | CJ9: Intl | CK9: Intl | CL9: Intl | CM9: Intl | CN9: Intl | CO9: Intl | CP9: Intl | CQ9: Intl | CR9: Intl | CS9: Intl | CT9: Intl | CU9: Intl | CV9: Intl | CW9: Intl | CX9: Intl
B10: =IF(MONTH(C10)>=4,(MONTH(C10))-3,(MONTH(C10))+9) -> 10 | C10: 38718 | D10: 51263 | E10: 236 | F10: 64300 | J10: =SUM(OFFSET($B10,-($B10-1),MATCH(J$6,$7:$7,)-1,1,1):OFFSET($B10,0,MATCH(J$6,$7:$7,)-1,1,1)) -> 236 | K10: =SUM(OFFSET($B10,-($B10-1),MATCH(K$6,$7:$7,)-1,1,1):OFFSET($B10,0,MATCH(K$6,$7:$7,)-1,1,1)) -> 64300 | L10: =SUM(OFFSET($B10,-($B10-1),MATCH(L$6,$7:$7,)-1,1,1):OFFSET($B10,0,MATCH(L$6,$7:$7,)-1,1,1)) -> 0 | M10: 283041 | N10: 3724 | O10: 396918 | S10: =SUM(OFFSET($B10,-($B10-1),MATCH(S$6,$7:$7,)-1,1,1):OFFSET($B10,0,MATCH(S$6,$7:$7,)-1,1,1)) -> 3724 | T10: =SUM(OFFSET($B10,-($B10-1),MATCH(T$6,$7:$7,)-1,1,1):OFFSET($B10,0,MATCH(T$6,$7:$7,)-1,1,1)) -> 396918 | U10: =SUM(OFFSET($B10,-($B10-1),MATCH(U$6,$7:$7,)-1,1,1):OFFSET($B10,0,MATCH(U$6,$7:$7,)-1,1,1)) -> 0 | AR10: =SUM(V2:V10) -> 0 | AS10: =SUM(W2:W10) -> 0 | AT10: =SUM(X2:X10) -> 0 | AU10: =SUM(Y2:Y10) -> 0 | AV10: =SUM(Z2:Z10) -> 0 | AW10: =SUM(AA2:AA10) -> 0 | AX10: =SUM(AB2:AB10) -> 0 | BN10: =SUM(OFFSET($B10,-($B10-1),MATCH(BN$6,$7:$7,)-1,1,1):OFFSET($B10,0,MATCH(BN$6,$7:$7,)-1,1,1)) -> 0 | BO10: =SUM(OFFSET($B10,-($B10-1),MATCH(BO$6,$7:$7,)-1,1,1):OFFSET($B10,0,MATCH(BO$6,$7:$7,)-1,1,1)) -> 0 | BP10: =SUM(OFFSET($B10,-($B10-1),MATCH(BP$6,$7:$7,)-1,1,1):OFFSET($B10,0,MATCH(BP$6,$7:$7,)-1,1,1)) -> 0 | BQ10: =SUM(OFFSET($B10,-($B10-1),MATCH(BQ$6,$7:$7,)-1,1,1):OFFSET($B10,0,MATCH(BQ$6,$7:$7,)-1,1,1)) -> 0 | BR10: =SUM(OFFSET($B10,-($B10-1),MATCH(BR$6,$7:$7,)-1,1,1):OFFSET($B10,0,MATCH(BR$6,$7:$7,)-1,1,1)) -> 0 | BS10: =SUM(OFFSET($B10,-($B10-1),MATCH(BS$6,$7:$7,)-1,1,1):OFFSET($B10,0,MATCH(BS$6,$7:$7,)-1,1,1)) -> 0 | BT10: =SUM(OFFSET($B10,-($B10-1),MATCH(BT$6,$7:$7,)-1,1,1):OFFSET($B10,0,MATCH(BT$6,$7:$7,)-1,1,1)) -> 0 | BU10: =SUM(OFFSET($B10,-($B10-1),MATCH(BU$6,$7:$7,)-1,1,1):OFFSET($B10,0,MATCH(BU$6,$7:$7,)-1,1,1)) -> 0 | ... CH10: =SUM(OFFSET($B10,-($B10-1),MATCH(CH$6,$7:$7,)-1,1,1):OFFSET($B10,0,MATCH(CH$6,$7:$7,)-1,1,1)) -> 0 | CO10: =SUM(CJ8:CJ10) -> 0 | CP10: =SUM(CK8:CK10) -> 0 | CQ10: =SUM(CL8:CL10) -> 0 | CR10: =SUM(CM8:CM10) -> 0 | CS10: =SUM(CN8:CN10) -> 0 | CT10: =SUM(OFFSET($B10,-($B10-1),MATCH(CT$6,$7:$7,)-1,1,1):OFFSET($B10,0,MATCH(CT$6,$7:$7,)-1,1,1)) -> 0 | CU10: =SUM(OFFSET($B10,-($B10-1),MATCH(CU$6,$7:$7,)-1,1,1):OFFSET($B10,0,MATCH(CU$6,$7:$7,)-1,1,1)) -> 0 | CV10: =SUM(OFFSET($B10,-($B10-1),MATCH(CV$6,$7:$7,)-1,1,1):OFFSET($B10,0,MATCH(CV$6,$7:$7,)-1,1,1)) -> 0 | CW10: =SUM(OFFSET($B10,-($B10-1),MATCH(CW$6,$7:$7,)-1,1,1):OFFSET($B10,0,MATCH(CW$6,$7:$7,)-1,1,1)) -> 0 | CX10: =SUM(OFFSET($B10,-($B10-1),MATCH(CX$6,$7:$7,)-1,1,1):OFFSET($B10,0,MATCH(CX$6,$7:$7,)-1,1,1)) -> 0
B11: =IF(MONTH(C11)>=4,(MONTH(C11))-3,(MONTH(C11))+9) -> 11 | C11: 38749 | D11: 42893 | E11: 219 | F11: 59608 | J11: =SUM(OFFSET($B11,-($B11-1),MATCH(J$6,$7:$7,)-1,1,1):OFFSET($B11,0,MATCH(J$6,$7:$7,)-1,1,1)) -> 455 | K11: =SUM(OFFSET($B11,-($B11-1),MATCH(K$6,$7:$7,)-1,1,1):OFFSET($B11,0,MATCH(K$6,$7:$7,)-1,1,1)) -> 123908 | L11: =SUM(OFFSET($B11,-($B11-1),MATCH(L$6,$7:$7,)-1,1,1):OFFSET($B11,0,MATCH(L$6,$7:$7,)-1,1,1)) -> 0 | M11: 323580 | N11: 3790 | O11: 434319 | S11: =SUM(OFFSET($B11,-($B11-1),MATCH(S$6,$7:$7,)-1,1,1):OFFSET($B11,0,MATCH(S$6,$7:$7,)-1,1,1)) -> 7514 | T11: =SUM(OFFSET($B11,-($B11-1),MATCH(T$6,$7:$7,)-1,1,1):OFFSET($B11,0,MATCH(T$6,$7:$7,)-1,1,1)) -> 831237 | U11: =SUM(OFFSET($B11,-($B11-1),MATCH(U$6,$7:$7,)-1,1,1):OFFSET($B11,0,MATCH(U$6,$7:$7,)-1,1,1)) -> 0 | AR11: =SUM(V3:V11) -> 0 | AS11: =SUM(W3:W11) -> 0 | AT11: =SUM(X3:X11) -> 0 | AU11: =SUM(Y3:Y11) -> 0 | AV11: =SUM(Z3:Z11) -> 0 | AW11: =SUM(AA3:AA11) -> 0 | AX11: =SUM(AB3:AB11) -> 0 | BN11: =SUM(OFFSET($B11,-($B11-1),MATCH(BN$6,$7:$7,)-1,1,1):OFFSET($B11,0,MATCH(BN$6,$7:$7,)-1,1,1)) -> 0 | BO11: =SUM(OFFSET($B11,-($B11-1),MATCH(BO$6,$7:$7,)-1,1,1):OFFSET($B11,0,MATCH(BO$6,$7:$7,)-1,1,1)) -> 0 | BP11: =SUM(OFFSET($B11,-($B11-1),MATCH(BP$6,$7:$7,)-1,1,1):OFFSET($B11,0,MATCH(BP$6,$7:$7,)-1,1,1)) -> 0 | BQ11: =SUM(OFFSET($B11,-($B11-1),MATCH(BQ$6,$7:$7,)-1,1,1):OFFSET($B11,0,MATCH(BQ$6,$7:$7,)-1,1,1)) -> 0 | BR11: =SUM(OFFSET($B11,-($B11-1),MATCH(BR$6,$7:$7,)-1,1,1):OFFSET($B11,0,MATCH(BR$6,$7:$7,)-1,1,1)) -> 0 | BS11: =SUM(OFFSET($B11,-($B11-1),MATCH(BS$6,$7:$7,)-1,1,1):OFFSET($B11,0,MATCH(BS$6,$7:$7,)-1,1,1)) -> 0 | BT11: =SUM(OFFSET($B11,-($B11-1),MATCH(BT$6,$7:$7,)-1,1,1):OFFSET($B11,0,MATCH(BT$6,$7:$7,)-1,1,1)) -> 0 | BU11: =SUM(OFFSET($B11,-($B11-1),MATCH(BU$6,$7:$7,)-1,1,1):OFFSET($B11,0,MATCH(BU$6,$7:$7,)-1,1,1)) -> 0 | ... CH11: =SUM(OFFSET($B11,-($B11-1),MATCH(CH$6,$7:$7,)-1,1,1):OFFSET($B11,0,MATCH(CH$6,$7:$7,)-1,1,1)) -> 0 | CJ11: 3300 | CK11: 3432 | CL11: 5236 | CM11: 286 | CN11: 550 | CO11: =SUM(CJ9:CJ11) -> 3300 | CP11: =SUM(CK9:CK11) -> 3432 | CQ11: =SUM(CL9:CL11) -> 5236 | CR11: =SUM(CM9:CM11) -> 286 | CS11: =SUM(CN9:CN11) -> 550 | CT11: =SUM(OFFSET($B11,-($B11-1),MATCH(CT$6,$7:$7,)-1,1,1):OFFSET($B11,0,MATCH(CT$6,$7:$7,)-1,1,1)) -> 3432 | CU11: =SUM(OFFSET($B11,-($B11-1),MATCH(CU$6,$7:$7,)-1,1,1):OFFSET($B11,0,MATCH(CU$6,$7:$7,)-1,1,1)) -> 5236 | CV11: =SUM(OFFSET($B11,-($B11-1),MATCH(CV$6,$7:$7,)-1,1,1):OFFSET($B11,0,MATCH(CV$6,$7:$7,)-1,1,1)) -> 286 | CW11: =SUM(OFFSET($B11,-($B11-1),MATCH(CW$6,$7:$7,)-1,1,1):OFFSET($B11,0,MATCH(CW$6,$7:$7,)-1,1,1)) -> 550 | CX11: =SUM(OFFSET($B11,-($B11-1),MATCH(CX$6,$7:$7,)-1,1,1):OFFSET($B11,0,MATCH(CX$6,$7:$7,)-1,1,1)) -> 3300
B12: =IF(MONTH(C12)>=4,(MONTH(C12))-3,(MONTH(C12))+9) -> 12 | C12: 38777 | D12: 45064 | E12: 239 | F12: 64874 | J12: =SUM(OFFSET($B12,-($B12-1),MATCH(J$6,$7:$7,)-1,1,1):OFFSET($B12,0,MATCH(J$6,$7:$7,)-1,1,1)) -> 694 | K12: =SUM(OFFSET($B12,-($B12-1),MATCH(K$6,$7:$7,)-1,1,1):OFFSET($B12,0,MATCH(K$6,$7:$7,)-1,1,1)) -> 188782 | L12: =SUM(OFFSET($B12,-($B12-1),MATCH(L$6,$7:$7,)-1,1,1):OFFSET($B12,0,MATCH(L$6,$7:$7,)-1,1,1)) -> 0 | M12: 361212 | N12: 4121 | O12: 479645 | S12: =SUM(OFFSET($B12,-($B12-1),MATCH(S$6,$7:$7,)-1,1,1):OFFSET($B12,0,MATCH(S$6,$7:$7,)-1,1,1)) -> 11635 | T12: =SUM(OFFSET($B12,-($B12-1),MATCH(T$6,$7:$7,)-1,1,1):OFFSET($B12,0,MATCH(T$6,$7:$7,)-1,1,1)) -> 1310882 | U12: =SUM(OFFSET($B12,-($B12-1),MATCH(U$6,$7:$7,)-1,1,1):OFFSET($B12,0,MATCH(U$6,$7:$7,)-1,1,1)) -> 0 | AR12: =SUM(V4:V12) -> 0 | AS12: =SUM(W4:W12) -> 0 | AT12: =SUM(X4:X12) -> 0 | AU12: =SUM(Y4:Y12) -> 0 | AV12: =SUM(Z4:Z12) -> 0 | AW12: =SUM(AA4:AA12) -> 0 | AX12: =SUM(AB4:AB12) -> 0 | BN12: =SUM(OFFSET($B12,-($B12-1),MATCH(BN$6,$7:$7,)-1,1,1):OFFSET($B12,0,MATCH(BN$6,$7:$7,)-1,1,1)) -> 0 | BO12: =SUM(OFFSET($B12,-($B12-1),MATCH(BO$6,$7:$7,)-1,1,1):OFFSET($B12,0,MATCH(BO$6,$7:$7,)-1,1,1)) -> 0 | BP12: =SUM(OFFSET($B12,-($B12-1),MATCH(BP$6,$7:$7,)-1,1,1):OFFSET($B12,0,MATCH(BP$6,$7:$7,)-1,1,1)) -> 0 | BQ12: =SUM(OFFSET($B12,-($B12-1),MATCH(BQ$6,$7:$7,)-1,1,1):OFFSET($B12,0,MATCH(BQ$6,$7:$7,)-1,1,1)) -> 0 | BR12: =SUM(OFFSET($B12,-($B12-1),MATCH(BR$6,$7:$7,)-1,1,1):OFFSET($B12,0,MATCH(BR$6,$7:$7,)-1,1,1)) -> 0 | BS12: =SUM(OFFSET($B12,-($B12-1),MATCH(BS$6,$7:$7,)-1,1,1):OFFSET($B12,0,MATCH(BS$6,$7:$7,)-1,1,1)) -> 0 | BT12: =SUM(OFFSET($B12,-($B12-1),MATCH(BT$6,$7:$7,)-1,1,1):OFFSET($B12,0,MATCH(BT$6,$7:$7,)-1,1,1)) -> 0 | BU12: =SUM(OFFSET($B12,-($B12-1),MATCH(BU$6,$7:$7,)-1,1,1):OFFSET($B12,0,MATCH(BU$6,$7:$7,)-1,1,1)) -> 0 | ... CH12: =SUM(OFFSET($B12,-($B12-1),MATCH(CH$6,$7:$7,)-1,1,1):OFFSET($B12,0,MATCH(CH$6,$7:$7,)-1,1,1)) -> 0 | CJ12: 3013 | CK12: 3059 | CL12: 4531 | CM12: 69 | CN12: 437 | CO12: =SUM(CJ10:CJ12) -> 6313 | CP12: =SUM(CK10:CK12) -> 6491 | CQ12: =SUM(CL10:CL12) -> 9767 | CR12: =SUM(CM10:CM12) -> 355 | CS12: =SUM(CN10:CN12) -> 987 | CT12: =SUM(OFFSET($B12,-($B12-1),MATCH(CT$6,$7:$7,)-1,1,1):OFFSET($B12,0,MATCH(CT$6,$7:$7,)-1,1,1)) -> 6491 | CU12: =SUM(OFFSET($B12,-($B12-1),MATCH(CU$6,$7:$7,)-1,1,1):OFFSET($B12,0,MATCH(CU$6,$7:$7,)-1,1,1)) -> 9767 | CV12: =SUM(OFFSET($B12,-($B12-1),MATCH(CV$6,$7:$7,)-1,1,1):OFFSET($B12,0,MATCH(CV$6,$7:$7,)-1,1,1)) -> 355 | CW12: =SUM(OFFSET($B12,-($B12-1),MATCH(CW$6,$7:$7,)-1,1,1):OFFSET($B12,0,MATCH(CW$6,$7:$7,)-1,1,1)) -> 987 | CX12: =SUM(OFFSET($B12,-($B12-1),MATCH(CX$6,$7:$7,)-1,1,1):OFFSET($B12,0,MATCH(CX$6,$7:$7,)-1,1,1)) -> 9613
B13: =IF(MONTH(C13)>=4,(MONTH(C13))-3,(MONTH(C13))+9) -> 1 | C13: 38808 | D13: 49339 | E13: 246 | F13: 65506 | J13: =SUM(OFFSET($B13,-($B13-1),MATCH(J$6,$7:$7,)-1,1,1):OFFSET($B13,0,MATCH(J$6,$7:$7,)-1,1,1)) -> 246 | K13: =SUM(OFFSET($B13,-($B13-1),MATCH(K$6,$7:$7,)-1,1,1):OFFSET($B13,0,MATCH(K$6,$7:$7,)-1,1,1)) -> 65506 | L13: =SUM(OFFSET($B13,-($B13-1),MATCH(L$6,$7:$7,)-1,1,1):OFFSET($B13,0,MATCH(L$6,$7:$7,)-1,1,1)) -> 0 | M13: 344424 | N13: 4101 | O13: 456487 | S13: =SUM(OFFSET($B13,-($B13-1),MATCH(S$6,$7:$7,)-1,1,1):OFFSET($B13,0,MATCH(S$6,$7:$7,)-1,1,1)) -> 4101 | T13: =SUM(OFFSET($B13,-($B13-1),MATCH(T$6,$7:$7,)-1,1,1):OFFSET($B13,0,MATCH(T$6,$7:$7,)-1,1,1)) -> 456487 | U13: =SUM(OFFSET($B13,-($B13-1),MATCH(U$6,$7:$7,)-1,1,1):OFFSET($B13,0,MATCH(U$6,$7:$7,)-1,1,1)) -> 0 | AR13: =SUM(V5:V13) -> 0 | AS13: =SUM(W5:W13) -> 0 | AT13: =SUM(X5:X13) -> 0 | AU13: =SUM(Y5:Y13) -> 0 | AV13: =SUM(Z5:Z13) -> 0 | AW13: =SUM(AA5:AA13) -> 0 | AX13: =SUM(AB5:AB13) -> 0 | BN13: =SUM(OFFSET($B13,-($B13-1),MATCH(BN$6,$7:$7,)-1,1,1):OFFSET($B13,0,MATCH(BN$6,$7:$7,)-1,1,1)) -> 0 | BO13: =SUM(OFFSET($B13,-($B13-1),MATCH(BO$6,$7:$7,)-1,1,1):OFFSET($B13,0,MATCH(BO$6,$7:$7,)-1,1,1)) -> 0 | BP13: =SUM(OFFSET($B13,-($B13-1),MATCH(BP$6,$7:$7,)-1,1,1):OFFSET($B13,0,MATCH(BP$6,$7:$7,)-1,1,1)) -> 0 | BQ13: =SUM(OFFSET($B13,-($B13-1),MATCH(BQ$6,$7:$7,)-1,1,1):OFFSET($B13,0,MATCH(BQ$6,$7:$7,)-1,1,1)) -> 0 | BR13: =SUM(OFFSET($B13,-($B13-1),MATCH(BR$6,$7:$7,)-1,1,1):OFFSET($B13,0,MATCH(BR$6,$7:$7,)-1,1,1)) -> 0 | BS13: =SUM(OFFSET($B13,-($B13-1),MATCH(BS$6,$7:$7,)-1,1,1):OFFSET($B13,0,MATCH(BS$6,$7:$7,)-1,1,1)) -> 0 | BT13: =SUM(OFFSET($B13,-($B13-1),MATCH(BT$6,$7:$7,)-1,1,1):OFFSET($B13,0,MATCH(BT$6,$7:$7,)-1,1,1)) -> 0 | BU13: =SUM(OFFSET($B13,-($B13-1),MATCH(BU$6,$7:$7,)-1,1,1):OFFSET($B13,0,MATCH(BU$6,$7:$7,)-1,1,1)) -> 0 | ... CH13: =SUM(OFFSET($B13,-($B13-1),MATCH(CH$6,$7:$7,)-1,1,1):OFFSET($B13,0,MATCH(CH$6,$7:$7,)-1,1,1)) -> 0 | CJ13: 2662 | CK13: 2200 | CL13: 4994 | CM13: 220 | CN13: 396 | CO13: =SUM(CJ1:CJ13) -> 8975 | CP13: =SUM(CK1:CK13) -> 8691 | CQ13: =SUM(CL1:CL13) -> 14761 | CR13: =SUM(CM1:CM13) -> 575 | CS13: =SUM(CN1:CN13) -> 1383 | CT13: =SUM(OFFSET($B13,-($B13-1),MATCH(CT$6,$7:$7,)-1,1,1):OFFSET($B13,0,MATCH(CT$6,$7:$7,)-1,1,1)) -> 2200 | CU13: =SUM(OFFSET($B13,-($B13-1),MATCH(CU$6,$7:$7,)-1,1,1):OFFSET($B13,0,MATCH(CU$6,$7:$7,)-1,1,1)) -> 4994 | CV13: =SUM(OFFSET($B13,-($B13-1),MATCH(CV$6,$7:$7,)-1,1,1):OFFSET($B13,0,MATCH(CV$6,$7:$7,)-1,1,1)) -> 220 | CW13: =SUM(OFFSET($B13,-($B13-1),MATCH(CW$6,$7:$7,)-1,1,1):OFFSET($B13,0,MATCH(CW$6,$7:$7,)-1,1,1)) -> 396 | CX13: =SUM(OFFSET($B13,-($B13-1),MATCH(CX$6,$7:$7,)-1,1,1):OFFSET($B13,0,MATCH(CX$6,$7:$7,)-1,1,1)) -> 8975
B14: =IF(MONTH(C14)>=4,(MONTH(C14))-3,(MONTH(C14))+9) -> 2 | C14: 38838 | D14: 41552 | E14: 244 | F14: 65580 | J14: =SUM(OFFSET($B14,-($B14-1),MATCH(J$6,$7:$7,)-1,1,1):OFFSET($B14,0,MATCH(J$6,$7:$7,)-1,1,1)) -> 490 | K14: =SUM(OFFSET($B14,-($B14-1),MATCH(K$6,$7:$7,)-1,1,1):OFFSET($B14,0,MATCH(K$6,$7:$7,)-1,1,1)) -> 131086 | L14: =SUM(OFFSET($B14,-($B14-1),MATCH(L$6,$7:$7,)-1,1,1):OFFSET($B14,0,MATCH(L$6,$7:$7,)-1,1,1)) -> 0 | M14: 331593 | N14: 4165 | O14: 479734 | S14: =SUM(OFFSET($B14,-($B14-1),MATCH(S$6,$7:$7,)-1,1,1):OFFSET($B14,0,MATCH(S$6,$7:$7,)-1,1,1)) -> 8266 | T14: =SUM(OFFSET($B14,-($B14-1),MATCH(T$6,$7:$7,)-1,1,1):OFFSET($B14,0,MATCH(T$6,$7:$7,)-1,1,1)) -> 936221 | U14: =SUM(OFFSET($B14,-($B14-1),MATCH(U$6,$7:$7,)-1,1,1):OFFSET($B14,0,MATCH(U$6,$7:$7,)-1,1,1)) -> 0 | AR14: =SUM(V7:V14) -> 0 | AS14: =SUM(W7:W14) -> 0 | AT14: =SUM(X7:X14) -> 0 | AU14: =SUM(Y7:Y14) -> 0 | AV14: =SUM(Z7:Z14) -> 0 | AW14: =SUM(AA7:AA14) -> 0 | AX14: =SUM(AB7:AB14) -> 0 | BN14: =SUM(OFFSET($B14,-($B14-1),MATCH(BN$6,$7:$7,)-1,1,1):OFFSET($B14,0,MATCH(BN$6,$7:$7,)-1,1,1)) -> 0 | BO14: =SUM(OFFSET($B14,-($B14-1),MATCH(BO$6,$7:$7,)-1,1,1):OFFSET($B14,0,MATCH(BO$6,$7:$7,)-1,1,1)) -> 0 | BP14: =SUM(OFFSET($B14,-($B14-1),MATCH(BP$6,$7:$7,)-1,1,1):OFFSET($B14,0,MATCH(BP$6,$7:$7,)-1,1,1)) -> 0 | BQ14: =SUM(OFFSET($B14,-($B14-1),MATCH(BQ$6,$7:$7,)-1,1,1):OFFSET($B14,0,MATCH(BQ$6,$7:$7,)-1,1,1)) -> 0 | BR14: =SUM(OFFSET($B14,-($B14-1),MATCH(BR$6,$7:$7,)-1,1,1):OFFSET($B14,0,MATCH(BR$6,$7:$7,)-1,1,1)) -> 0 | BS14: =SUM(OFFSET($B14,-($B14-1),MATCH(BS$6,$7:$7,)-1,1,1):OFFSET($B14,0,MATCH(BS$6,$7:$7,)-1,1,1)) -> 0 | BT14: =SUM(OFFSET($B14,-($B14-1),MATCH(BT$6,$7:$7,)-1,1,1):OFFSET($B14,0,MATCH(BT$6,$7:$7,)-1,1,1)) -> 0 | BU14: =SUM(OFFSET($B14,-($B14-1),MATCH(BU$6,$7:$7,)-1,1,1):OFFSET($B14,0,MATCH(BU$6,$7:$7,)-1,1,1)) -> 0 | ... CH14: =SUM(OFFSET($B14,-($B14-1),MATCH(CH$6,$7:$7,)-1,1,1):OFFSET($B14,0,MATCH(CH$6,$7:$7,)-1,1,1)) -> 0 | CJ14: 3757 | CK14: 1802 | CL14: 3077 | CM14: 136 | CN14: 459 | CO14: =SUM(CJ2:CJ14) -> 12732 | CP14: =SUM(CK2:CK14) -> 10493 | CQ14: =SUM(CL2:CL14) -> 17838 | CR14: =SUM(CM2:CM14) -> 711 | CS14: =SUM(CN2:CN14) -> 1842 | CT14: =SUM(OFFSET($B14,-($B14-1),MATCH(CT$6,$7:$7,)-1,1,1):OFFSET($B14,0,MATCH(CT$6,$7:$7,)-1,1,1)) -> 4002 | CU14: =SUM(OFFSET($B14,-($B14-1),MATCH(CU$6,$7:$7,)-1,1,1):OFFSET($B14,0,MATCH(CU$6,$7:$7,)-1,1,1)) -> 8071 | CV14: =SUM(OFFSET($B14,-($B14-1),MATCH(CV$6,$7:$7,)-1,1,1):OFFSET($B14,0,MATCH(CV$6,$7:$7,)-1,1,1)) -> 356 | CW14: =SUM(OFFSET($B14,-($B14-1),MATCH(CW$6,$7:$7,)-1,1,1):OFFSET($B14,0,MATCH(CW$6,$7:$7,)-1,1,1)) -> 855 | CX14: =SUM(OFFSET($B14,-($B14-1),MATCH(CX$6,$7:$7,)-1,1,1):OFFSET($B14,0,MATCH(CX$6,$7:$7,)-1,1,1)) -> 21707
B15: =IF(MONTH(C15)>=4,(MONTH(C15))-3,(MONTH(C15))+9) -> 3 | C15: 38869 | D15: 41055 | E15: 229 | F15: 63264 | J15: =SUM(OFFSET($B15,-($B15-1),MATCH(J$6,$7:$7,)-1,1,1):OFFSET($B15,0,MATCH(J$6,$7:$7,)-1,1,1)) -> 719 | K15: =SUM(OFFSET($B15,-($B15-1),MATCH(K$6,$7:$7,)-1,1,1):OFFSET($B15,0,MATCH(K$6,$7:$7,)-1,1,1)) -> 194350 | L15: =SUM(OFFSET($B15,-($B15-1),MATCH(L$6,$7:$7,)-1,1,1):OFFSET($B15,0,MATCH(L$6,$7:$7,)-1,1,1)) -> 0 | M15: 319970 | N15: 3933 | O15: 453779 | S15: =SUM(OFFSET($B15,-($B15-1),MATCH(S$6,$7:$7,)-1,1,1):OFFSET($B15,0,MATCH(S$6,$7:$7,)-1,1,1)) -> 12199 | T15: =SUM(OFFSET($B15,-($B15-1),MATCH(T$6,$7:$7,)-1,1,1):OFFSET($B15,0,MATCH(T$6,$7:$7,)-1,1,1)) -> 1390000 | U15: =SUM(OFFSET($B15,-($B15-1),MATCH(U$6,$7:$7,)-1,1,1):OFFSET($B15,0,MATCH(U$6,$7:$7,)-1,1,1)) -> 0 | AR15: =SUM(V7:V15) -> 0 | AS15: =SUM(W7:W15) -> 0 | AT15: =SUM(X7:X15) -> 0 | AU15: =SUM(Y7:Y15) -> 0 | AV15: =SUM(Z7:Z15) -> 0 | AW15: =SUM(AA7:AA15) -> 0 | AX15: =SUM(AB7:AB15) -> 0 | BN15: =SUM(OFFSET($B15,-($B15-1),MATCH(BN$6,$7:$7,)-1,1,1):OFFSET($B15,0,MATCH(BN$6,$7:$7,)-1,1,1)) -> 0 | BO15: =SUM(OFFSET($B15,-($B15-1),MATCH(BO$6,$7:$7,)-1,1,1):OFFSET($B15,0,MATCH(BO$6,$7:$7,)-1,1,1)) -> 0 | BP15: =SUM(OFFSET($B15,-($B15-1),MATCH(BP$6,$7:$7,)-1,1,1):OFFSET($B15,0,MATCH(BP$6,$7:$7,)-1,1,1)) -> 0 | BQ15: =SUM(OFFSET($B15,-($B15-1),MATCH(BQ$6,$7:$7,)-1,1,1):OFFSET($B15,0,MATCH(BQ$6,$7:$7,)-1,1,1)) -> 0 | BR15: =SUM(OFFSET($B15,-($B15-1),MATCH(BR$6,$7:$7,)-1,1,1):OFFSET($B15,0,MATCH(BR$6,$7:$7,)-1,1,1)) -> 0 | BS15: =SUM(OFFSET($B15,-($B15-1),MATCH(BS$6,$7:$7,)-1,1,1):OFFSET($B15,0,MATCH(BS$6,$7:$7,)-1,1,1)) -> 0 | BT15: =SUM(OFFSET($B15,-($B15-1),MATCH(BT$6,$7:$7,)-1,1,1):OFFSET($B15,0,MATCH(BT$6,$7:$7,)-1,1,1)) -> 0 | BU15: =SUM(OFFSET($B15,-($B15-1),MATCH(BU$6,$7:$7,)-1,1,1):OFFSET($B15,0,MATCH(BU$6,$7:$7,)-1,1,1)) -> 0 | ... CH15: =SUM(OFFSET($B15,-($B15-1),MATCH(CH$6,$7:$7,)-1,1,1):OFFSET($B15,0,MATCH(CH$6,$7:$7,)-1,1,1)) -> 0 | CJ15: 2772 | CK15: 1332 | CL15: 3312 | CM15: 252 | CN15: 396 | CO15: =SUM(CJ3:CJ15) -> 15504 | CP15: =SUM(CK3:CK15) -> 11825 | CQ15: =SUM(CL3:CL15) -> 21150 | CR15: =SUM(CM3:CM15) -> 963 | CS15: =SUM(CN3:CN15) -> 2238 | CT15: =SUM(OFFSET($B15,-($B15-1),MATCH(CT$6,$7:$7,)-1,1,1):OFFSET($B15,0,MATCH(CT$6,$7:$7,)-1,1,1)) -> 5334 | CU15: =SUM(OFFSET($B15,-($B15-1),MATCH(CU$6,$7:$7,)-1,1,1):OFFSET($B15,0,MATCH(CU$6,$7:$7,)-1,1,1)) -> 11383 | CV15: =SUM(OFFSET($B15,-($B15-1),MATCH(CV$6,$7:$7,)-1,1,1):OFFSET($B15,0,MATCH(CV$6,$7:$7,)-1,1,1)) -> 608 | CW15: =SUM(OFFSET($B15,-($B15-1),MATCH(CW$6,$7:$7,)-1,1,1):OFFSET($B15,0,MATCH(CW$6,$7:$7,)-1,1,1)) -> 1251 | CX15: =SUM(OFFSET($B15,-($B15-1),MATCH(CX$6,$7:$7,)-1,1,1):OFFSET($B15,0,MATCH(CX$6,$7:$7,)-1,1,1)) -> 37211
B16: =IF(MONTH(C16)>=4,(MONTH(C16))-3,(MONTH(C16))+9) -> 4 | C16: 38899 | D16: 47125 | E16: 247 | F16: 66714 | J16: =SUM(OFFSET($B16,-($B16-1),MATCH(J$6,$7:$7,)-1,1,1):OFFSET($B16,0,MATCH(J$6,$7:$7,)-1,1,1)) -> 966 | K16: =SUM(OFFSET($B16,-($B16-1),MATCH(K$6,$7:$7,)-1,1,1):OFFSET($B16,0,MATCH(K$6,$7:$7,)-1,1,1)) -> 261064 | L16: =SUM(OFFSET($B16,-($B16-1),MATCH(L$6,$7:$7,)-1,1,1):OFFSET($B16,0,MATCH(L$6,$7:$7,)-1,1,1)) -> 0 | M16: 336870 | N16: 4140 | O16: 470716 | S16: =SUM(OFFSET($B16,-($B16-1),MATCH(S$6,$7:$7,)-1,1,1):OFFSET($B16,0,MATCH(S$6,$7:$7,)-1,1,1)) -> 16339 | T16: =SUM(OFFSET($B16,-($B16-1),MATCH(T$6,$7:$7,)-1,1,1):OFFSET($B16,0,MATCH(T$6,$7:$7,)-1,1,1)) -> 1860716 | U16: =SUM(OFFSET($B16,-($B16-1),MATCH(U$6,$7:$7,)-1,1,1):OFFSET($B16,0,MATCH(U$6,$7:$7,)-1,1,1)) -> 0 | AR16: =SUM(V7:V16) -> 0 | AS16: =SUM(W7:W16) -> 0 | AT16: =SUM(X7:X16) -> 0 | AU16: =SUM(Y7:Y16) -> 0 | AV16: =SUM(Z7:Z16) -> 0 | AW16: =SUM(AA7:AA16) -> 0 | AX16: =SUM(AB7:AB16) -> 0 | BN16: =SUM(OFFSET($B16,-($B16-1),MATCH(BN$6,$7:$7,)-1,1,1):OFFSET($B16,0,MATCH(BN$6,$7:$7,)-1,1,1)) -> 0 | BO16: =SUM(OFFSET($B16,-($B16-1),MATCH(BO$6,$7:$7,)-1,1,1):OFFSET($B16,0,MATCH(BO$6,$7:$7,)-1,1,1)) -> 0 | BP16: =SUM(OFFSET($B16,-($B16-1),MATCH(BP$6,$7:$7,)-1,1,1):OFFSET($B16,0,MATCH(BP$6,$7:$7,)-1,1,1)) -> 0 | BQ16: =SUM(OFFSET($B16,-($B16-1),MATCH(BQ$6,$7:$7,)-1,1,1):OFFSET($B16,0,MATCH(BQ$6,$7:$7,)-1,1,1)) -> 0 | BR16: =SUM(OFFSET($B16,-($B16-1),MATCH(BR$6,$7:$7,)-1,1,1):OFFSET($B16,0,MATCH(BR$6,$7:$7,)-1,1,1)) -> 0 | BS16: =SUM(OFFSET($B16,-($B16-1),MATCH(BS$6,$7:$7,)-1,1,1):OFFSET($B16,0,MATCH(BS$6,$7:$7,)-1,1,1)) -> 0 | BT16: =SUM(OFFSET($B16,-($B16-1),MATCH(BT$6,$7:$7,)-1,1,1):OFFSET($B16,0,MATCH(BT$6,$7:$7,)-1,1,1)) -> 0 | BU16: =SUM(OFFSET($B16,-($B16-1),MATCH(BU$6,$7:$7,)-1,1,1):OFFSET($B16,0,MATCH(BU$6,$7:$7,)-1,1,1)) -> 0 | ... CH16: =SUM(OFFSET($B16,-($B16-1),MATCH(CH$6,$7:$7,)-1,1,1):OFFSET($B16,0,MATCH(CH$6,$7:$7,)-1,1,1)) -> 0 | CJ16: 2904 | CK16: 1008 | CL16: 3384 | CM16: 312 | CN16: 408 | CO16: =SUM(CJ4:CJ16) -> 18408 | CP16: =SUM(CK4:CK16) -> 12833 | CQ16: =SUM(CL4:CL16) -> 24534 | CR16: =SUM(CM4:CM16) -> 1275 | CS16: =SUM(CN4:CN16) -> 2646 | CT16: =SUM(OFFSET($B16,-($B16-1),MATCH(CT$6,$7:$7,)-1,1,1):OFFSET($B16,0,MATCH(CT$6,$7:$7,)-1,1,1)) -> 6342 | CU16: =SUM(OFFSET($B16,-($B16-1),MATCH(CU$6,$7:$7,)-1,1,1):OFFSET($B16,0,MATCH(CU$6,$7:$7,)-1,1,1)) -> 14767 | CV16: =SUM(OFFSET($B16,-($B16-1),MATCH(CV$6,$7:$7,)-1,1,1):OFFSET($B16,0,MATCH(CV$6,$7:$7,)-1,1,1)) -> 920 | CW16: =SUM(OFFSET($B16,-($B16-1),MATCH(CW$6,$7:$7,)-1,1,1):OFFSET($B16,0,MATCH(CW$6,$7:$7,)-1,1,1)) -> 1659 | CX16: =SUM(OFFSET($B16,-($B16-1),MATCH(CX$6,$7:$7,)-1,1,1):OFFSET($B16,0,MATCH(CX$6,$7:$7,)-1,1,1)) -> 55619
B17: =IF(MONTH(C17)>=4,(MONTH(C17))-3,(MONTH(C17))+9) -> 5 | C17: 38930 | D17: 43922 | E17: 252 | F17: 70020 | J17: =SUM(OFFSET($B17,-($B17-1),MATCH(J$6,$7:$7,)-1,1,1):OFFSET($B17,0,MATCH(J$6,$7:$7,)-1,1,1)) -> 1218 | K17: =SUM(OFFSET($B17,-($B17-1),MATCH(K$6,$7:$7,)-1,1,1):OFFSET($B17,0,MATCH(K$6,$7:$7,)-1,1,1)) -> 331084 | L17: =SUM(OFFSET($B17,-($B17-1),MATCH(L$6,$7:$7,)-1,1,1):OFFSET($B17,0,MATCH(L$6,$7:$7,)-1,1,1)) -> 0 | M17: 334477 | N17: 4017 | O17: 478346 | S17: =SUM(OFFSET($B17,-($B17-1),MATCH(S$6,$7:$7,)-1,1,1):OFFSET($B17,0,MATCH(S$6,$7:$7,)-1,1,1)) -> 20356 | T17: =SUM(OFFSET($B17,-($B17-1),MATCH(T$6,$7:$7,)-1,1,1):OFFSET($B17,0,MATCH(T$6,$7:$7,)-1,1,1)) -> 2339062 | U17: =SUM(OFFSET($B17,-($B17-1),MATCH(U$6,$7:$7,)-1,1,1):OFFSET($B17,0,MATCH(U$6,$7:$7,)-1,1,1)) -> 0 | AR17: =SUM(V7:V17) -> 0 | AS17: =SUM(W7:W17) -> 0 | AT17: =SUM(X7:X17) -> 0 | AU17: =SUM(Y7:Y17) -> 0 | AV17: =SUM(Z7:Z17) -> 0 | AW17: =SUM(AA7:AA17) -> 0 | AX17: =SUM(AB7:AB17) -> 0 | BN17: =SUM(OFFSET($B17,-($B17-1),MATCH(BN$6,$7:$7,)-1,1,1):OFFSET($B17,0,MATCH(BN$6,$7:$7,)-1,1,1)) -> 0 | BO17: =SUM(OFFSET($B17,-($B17-1),MATCH(BO$6,$7:$7,)-1,1,1):OFFSET($B17,0,MATCH(BO$6,$7:$7,)-1,1,1)) -> 0 | BP17: =SUM(OFFSET($B17,-($B17-1),MATCH(BP$6,$7:$7,)-1,1,1):OFFSET($B17,0,MATCH(BP$6,$7:$7,)-1,1,1)) -> 0 | BQ17: =SUM(OFFSET($B17,-($B17-1),MATCH(BQ$6,$7:$7,)-1,1,1):OFFSET($B17,0,MATCH(BQ$6,$7:$7,)-1,1,1)) -> 0 | BR17: =SUM(OFFSET($B17,-($B17-1),MATCH(BR$6,$7:$7,)-1,1,1):OFFSET($B17,0,MATCH(BR$6,$7:$7,)-1,1,1)) -> 0 | BS17: =SUM(OFFSET($B17,-($B17-1),MATCH(BS$6,$7:$7,)-1,1,1):OFFSET($B17,0,MATCH(BS$6,$7:$7,)-1,1,1)) -> 0 | BT17: =SUM(OFFSET($B17,-($B17-1),MATCH(BT$6,$7:$7,)-1,1,1):OFFSET($B17,0,MATCH(BT$6,$7:$7,)-1,1,1)) -> 0 | BU17: =SUM(OFFSET($B17,-($B17-1),MATCH(BU$6,$7:$7,)-1,1,1):OFFSET($B17,0,MATCH(BU$6,$7:$7,)-1,1,1)) -> 0 | ... CH17: =SUM(OFFSET($B17,-($B17-1),MATCH(CH$6,$7:$7,)-1,1,1):OFFSET($B17,0,MATCH(CH$6,$7:$7,)-1,1,1)) -> 0 | CJ17: 2667 | CK17: 1323 | CL17: 3402 | CM17: 252 | CN17: 441 | CO17: =SUM(CJ5:CJ17) -> 21075 | CP17: =SUM(CK5:CK17) -> 14156 | CQ17: =SUM(CL5:CL17) -> 27936 | CR17: =SUM(CM5:CM17) -> 1527 | CS17: =SUM(CN5:CN17) -> 3087 | CT17: =SUM(OFFSET($B17,-($B17-1),MATCH(CT$6,$7:$7,)-1,1,1):OFFSET($B17,0,MATCH(CT$6,$7:$7,)-1,1,1)) -> 7665 | CU17: =SUM(OFFSET($B17,-($B17-1),MATCH(CU$6,$7:$7,)-1,1,1):OFFSET($B17,0,MATCH(CU$6,$7:$7,)-1,1,1)) -> 18169 | CV17: =SUM(OFFSET($B17,-($B17-1),MATCH(CV$6,$7:$7,)-1,1,1):OFFSET($B17,0,MATCH(CV$6,$7:$7,)-1,1,1)) -> 1172 | CW17: =SUM(OFFSET($B17,-($B17-1),MATCH(CW$6,$7:$7,)-1,1,1):OFFSET($B17,0,MATCH(CW$6,$7:$7,)-1,1,1)) -> 2100 | CX17: =SUM(OFFSET($B17,-($B17-1),MATCH(CX$6,$7:$7,)-1,1,1):OFFSET($B17,0,MATCH(CX$6,$7:$7,)-1,1,1)) -> 76694
B18: =IF(MONTH(C18)>=4,(MONTH(C18))-3,(MONTH(C18))+9) -> 6 | C18: 38961 | D18: 48299 | E18: 236 | F18: 65490 | J18: =SUM(OFFSET($B18,-($B18-1),MATCH(J$6,$7:$7,)-1,1,1):OFFSET($B18,0,MATCH(J$6,$7:$7,)-1,1,1)) -> 1454 | K18: =SUM(OFFSET($B18,-($B18-1),MATCH(K$6,$7:$7,)-1,1,1):OFFSET($B18,0,MATCH(K$6,$7:$7,)-1,1,1)) -> 396574 | L18: =SUM(OFFSET($B18,-($B18-1),MATCH(L$6,$7:$7,)-1,1,1):OFFSET($B18,0,MATCH(L$6,$7:$7,)-1,1,1)) -> 0 | M18: 336082 | N18: 3872 | O18: 460716 | S18: =SUM(OFFSET($B18,-($B18-1),MATCH(S$6,$7:$7,)-1,1,1):OFFSET($B18,0,MATCH(S$6,$7:$7,)-1,1,1)) -> 24228 | T18: =SUM(OFFSET($B18,-($B18-1),MATCH(T$6,$7:$7,)-1,1,1):OFFSET($B18,0,MATCH(T$6,$7:$7,)-1,1,1)) -> 2799778 | U18: =SUM(OFFSET($B18,-($B18-1),MATCH(U$6,$7:$7,)-1,1,1):OFFSET($B18,0,MATCH(U$6,$7:$7,)-1,1,1)) -> 0 | AR18: =SUM(V7:V18) -> 0 | AS18: =SUM(W7:W18) -> 0 | AT18: =SUM(X7:X18) -> 0 | AU18: =SUM(Y7:Y18) -> 0 | AV18: =SUM(Z7:Z18) -> 0 | AW18: =SUM(AA7:AA18) -> 0 | AX18: =SUM(AB7:AB18) -> 0 | BN18: =SUM(OFFSET($B18,-($B18-1),MATCH(BN$6,$7:$7,)-1,1,1):OFFSET($B18,0,MATCH(BN$6,$7:$7,)-1,1,1)) -> 0 | BO18: =SUM(OFFSET($B18,-($B18-1),MATCH(BO$6,$7:$7,)-1,1,1):OFFSET($B18,0,MATCH(BO$6,$7:$7,)-1,1,1)) -> 0 | BP18: =SUM(OFFSET($B18,-($B18-1),MATCH(BP$6,$7:$7,)-1,1,1):OFFSET($B18,0,MATCH(BP$6,$7:$7,)-1,1,1)) -> 0 | BQ18: =SUM(OFFSET($B18,-($B18-1),MATCH(BQ$6,$7:$7,)-1,1,1):OFFSET($B18,0,MATCH(BQ$6,$7:$7,)-1,1,1)) -> 0 | BR18: =SUM(OFFSET($B18,-($B18-1),MATCH(BR$6,$7:$7,)-1,1,1):OFFSET($B18,0,MATCH(BR$6,$7:$7,)-1,1,1)) -> 0 | BS18: =SUM(OFFSET($B18,-($B18-1),MATCH(BS$6,$7:$7,)-1,1,1):OFFSET($B18,0,MATCH(BS$6,$7:$7,)-1,1,1)) -> 0 | BT18: =SUM(OFFSET($B18,-($B18-1),MATCH(BT$6,$7:$7,)-1,1,1):OFFSET($B18,0,MATCH(BT$6,$7:$7,)-1,1,1)) -> 0 | BU18: =SUM(OFFSET($B18,-($B18-1),MATCH(BU$6,$7:$7,)-1,1,1):OFFSET($B18,0,MATCH(BU$6,$7:$7,)-1,1,1)) -> 0 | ... CH18: =SUM(OFFSET($B18,-($B18-1),MATCH(CH$6,$7:$7,)-1,1,1):OFFSET($B18,0,MATCH(CH$6,$7:$7,)-1,1,1)) -> 0 | CJ18: 2877 | CK18: 2100 | CL18: 3507 | CM18: 189 | CN18: 609 | CO18: =SUM(CJ7:CJ18) -> 23952 | CP18: =SUM(CK7:CK18) -> 16256 | CQ18: =SUM(CL7:CL18) -> 31443 | CR18: =SUM(CM7:CM18) -> 1716 | CS18: =SUM(CN7:CN18) -> 3696 | CT18: =SUM(OFFSET($B18,-($B18-1),MATCH(CT$6,$7:$7,)-1,1,1):OFFSET($B18,0,MATCH(CT$6,$7:$7,)-1,1,1)) -> 9765 | CU18: =SUM(OFFSET($B18,-($B18-1),MATCH(CU$6,$7:$7,)-1,1,1):OFFSET($B18,0,MATCH(CU$6,$7:$7,)-1,1,1)) -> 21676 | CV18: =SUM(OFFSET($B18,-($B18-1),MATCH(CV$6,$7:$7,)-1,1,1):OFFSET($B18,0,MATCH(CV$6,$7:$7,)-1,1,1)) -> 1361 | CW18: =SUM(OFFSET($B18,-($B18-1),MATCH(CW$6,$7:$7,)-1,1,1):OFFSET($B18,0,MATCH(CW$6,$7:$7,)-1,1,1)) -> 2709 | CX18: =SUM(OFFSET($B18,-($B18-1),MATCH(CX$6,$7:$7,)-1,1,1):OFFSET($B18,0,MATCH(CX$6,$7:$7,)-1,1,1)) -> 100646
B19: =IF(MONTH(C19)>=4,(MONTH(C19))-3,(MONTH(C19))+9) -> 7 | C19: 38991 | D19: 52010 | E19: 255 | F19: 68554 | J19: =SUM(OFFSET($B19,-($B19-1),MATCH(J$6,$7:$7,)-1,1,1):OFFSET($B19,0,MATCH(J$6,$7:$7,)-1,1,1)) -> 1709 | K19: =SUM(OFFSET($B19,-($B19-1),MATCH(K$6,$7:$7,)-1,1,1):OFFSET($B19,0,MATCH(K$6,$7:$7,)-1,1,1)) -> 465128 | L19: =SUM(OFFSET($B19,-($B19-1),MATCH(L$6,$7:$7,)-1,1,1):OFFSET($B19,0,MATCH(L$6,$7:$7,)-1,1,1)) -> 0 | M19: 337090 | N19: 3823 | O19: 456298 | S19: =SUM(OFFSET($B19,-($B19-1),MATCH(S$6,$7:$7,)-1,1,1):OFFSET($B19,0,MATCH(S$6,$7:$7,)-1,1,1)) -> 28051 | T19: =SUM(OFFSET($B19,-($B19-1),MATCH(T$6,$7:$7,)-1,1,1):OFFSET($B19,0,MATCH(T$6,$7:$7,)-1,1,1)) -> 3256076 | U19: =SUM(OFFSET($B19,-($B19-1),MATCH(U$6,$7:$7,)-1,1,1):OFFSET($B19,0,MATCH(U$6,$7:$7,)-1,1,1)) -> 0 | AR19: =SUM(V8:V19) -> 0 | AS19: =SUM(W8:W19) -> 0 | AT19: =SUM(X8:X19) -> 0 | AU19: =SUM(Y8:Y19) -> 0 | AV19: =SUM(Z8:Z19) -> 0 | AW19: =SUM(AA8:AA19) -> 0 | AX19: =SUM(AB8:AB19) -> 0 | BN19: =SUM(OFFSET($B19,-($B19-1),MATCH(BN$6,$7:$7,)-1,1,1):OFFSET($B19,0,MATCH(BN$6,$7:$7,)-1,1,1)) -> 0 | BO19: =SUM(OFFSET($B19,-($B19-1),MATCH(BO$6,$7:$7,)-1,1,1):OFFSET($B19,0,MATCH(BO$6,$7:$7,)-1,1,1)) -> 0 | BP19: =SUM(OFFSET($B19,-($B19-1),MATCH(BP$6,$7:$7,)-1,1,1):OFFSET($B19,0,MATCH(BP$6,$7:$7,)-1,1,1)) -> 0 | BQ19: =SUM(OFFSET($B19,-($B19-1),MATCH(BQ$6,$7:$7,)-1,1,1):OFFSET($B19,0,MATCH(BQ$6,$7:$7,)-1,1,1)) -> 0 | BR19: =SUM(OFFSET($B19,-($B19-1),MATCH(BR$6,$7:$7,)-1,1,1):OFFSET($B19,0,MATCH(BR$6,$7:$7,)-1,1,1)) -> 0 | BS19: =SUM(OFFSET($B19,-($B19-1),MATCH(BS$6,$7:$7,)-1,1,1):OFFSET($B19,0,MATCH(BS$6,$7:$7,)-1,1,1)) -> 0 | BT19: =SUM(OFFSET($B19,-($B19-1),MATCH(BT$6,$7:$7,)-1,1,1):OFFSET($B19,0,MATCH(BT$6,$7:$7,)-1,1,1)) -> 0 | BU19: =SUM(OFFSET($B19,-($B19-1),MATCH(BU$6,$7:$7,)-1,1,1):OFFSET($B19,0,MATCH(BU$6,$7:$7,)-1,1,1)) -> 0 | ... CH19: =SUM(OFFSET($B19,-($B19-1),MATCH(CH$6,$7:$7,)-1,1,1):OFFSET($B19,0,MATCH(CH$6,$7:$7,)-1,1,1)) -> 0 | CJ19: 3366 | CK19: 2090 | CL19: 3564 | CM19: 44 | CN19: 550 | CO19: =SUM(CJ8:CJ19) -> 27318 | CP19: =SUM(CK8:CK19) -> 18346 | CQ19: =SUM(CL8:CL19) -> 35007 | CR19: =SUM(CM8:CM19) -> 1760 | CS19: =SUM(CN8:CN19) -> 4246 | CT19: =SUM(OFFSET($B19,-($B19-1),MATCH(CT$6,$7:$7,)-1,1,1):OFFSET($B19,0,MATCH(CT$6,$7:$7,)-1,1,1)) -> 11855 | CU19: =SUM(OFFSET($B19,-($B19-1),MATCH(CU$6,$7:$7,)-1,1,1):OFFSET($B19,0,MATCH(CU$6,$7:$7,)-1,1,1)) -> 25240 | CV19: =SUM(OFFSET($B19,-($B19-1),MATCH(CV$6,$7:$7,)-1,1,1):OFFSET($B19,0,MATCH(CV$6,$7:$7,)-1,1,1)) -> 1405 | CW19: =SUM(OFFSET($B19,-($B19-1),MATCH(CW$6,$7:$7,)-1,1,1):OFFSET($B19,0,MATCH(CW$6,$7:$7,)-1,1,1)) -> 3259 | CX19: =SUM(OFFSET($B19,-($B19-1),MATCH(CX$6,$7:$7,)-1,1,1):OFFSET($B19,0,MATCH(CX$6,$7:$7,)-1,1,1)) -> 127964
B20: =IF(MONTH(C20)>=4,(MONTH(C20))-3,(MONTH(C20))+9) -> 8 | C20: 39022 | D20: 49358 | E20: 222 | F20: 65646 | J20: =SUM(OFFSET($B20,-($B20-1),MATCH(J$6,$7:$7,)-1,1,1):OFFSET($B20,0,MATCH(J$6,$7:$7,)-1,1,1)) -> 1931 | K20: =SUM(OFFSET($B20,-($B20-1),MATCH(K$6,$7:$7,)-1,1,1):OFFSET($B20,0,MATCH(K$6,$7:$7,)-1,1,1)) -> 530774 | L20: =SUM(OFFSET($B20,-($B20-1),MATCH(L$6,$7:$7,)-1,1,1):OFFSET($B20,0,MATCH(L$6,$7:$7,)-1,1,1)) -> 0 | M20: 351063 | N20: 3845 | O20: 462424 | S20: =SUM(OFFSET($B20,-($B20-1),MATCH(S$6,$7:$7,)-1,1,1):OFFSET($B20,0,MATCH(S$6,$7:$7,)-1,1,1)) -> 31896 | T20: =SUM(OFFSET($B20,-($B20-1),MATCH(T$6,$7:$7,)-1,1,1):OFFSET($B20,0,MATCH(T$6,$7:$7,)-1,1,1)) -> 3718500 | U20: =SUM(OFFSET($B20,-($B20-1),MATCH(U$6,$7:$7,)-1,1,1):OFFSET($B20,0,MATCH(U$6,$7:$7,)-1,1,1)) -> 0 | AR20: =SUM(V9:V20) -> 0 | AS20: =SUM(W9:W20) -> 0 | AT20: =SUM(X9:X20) -> 0 | AU20: =SUM(Y9:Y20) -> 0 | AV20: =SUM(Z9:Z20) -> 0 | AW20: =SUM(AA9:AA20) -> 0 | AX20: =SUM(AB9:AB20) -> 0 | BN20: =SUM(OFFSET($B20,-($B20-1),MATCH(BN$6,$7:$7,)-1,1,1):OFFSET($B20,0,MATCH(BN$6,$7:$7,)-1,1,1)) -> 0 | BO20: =SUM(OFFSET($B20,-($B20-1),MATCH(BO$6,$7:$7,)-1,1,1):OFFSET($B20,0,MATCH(BO$6,$7:$7,)-1,1,1)) -> 0 | BP20: =SUM(OFFSET($B20,-($B20-1),MATCH(BP$6,$7:$7,)-1,1,1):OFFSET($B20,0,MATCH(BP$6,$7:$7,)-1,1,1)) -> 0 | BQ20: =SUM(OFFSET($B20,-($B20-1),MATCH(BQ$6,$7:$7,)-1,1,1):OFFSET($B20,0,MATCH(BQ$6,$7:$7,)-1,1,1)) -> 0 | BR20: =SUM(OFFSET($B20,-($B20-1),MATCH(BR$6,$7:$7,)-1,1,1):OFFSET($B20,0,MATCH(BR$6,$7:$7,)-1,1,1)) -> 0 | BS20: =SUM(OFFSET($B20,-($B20-1),MATCH(BS$6,$7:$7,)-1,1,1):OFFSET($B20,0,MATCH(BS$6,$7:$7,)-1,1,1)) -> 0 | BT20: =SUM(OFFSET($B20,-($B20-1),MATCH(BT$6,$7:$7,)-1,1,1):OFFSET($B20,0,MATCH(BT$6,$7:$7,)-1,1,1)) -> 0 | BU20: =SUM(OFFSET($B20,-($B20-1),MATCH(BU$6,$7:$7,)-1,1,1):OFFSET($B20,0,MATCH(BU$6,$7:$7,)-1,1,1)) -> 0 | ... CH20: =SUM(OFFSET($B20,-($B20-1),MATCH(CH$6,$7:$7,)-1,1,1):OFFSET($B20,0,MATCH(CH$6,$7:$7,)-1,1,1)) -> 0 | CJ20: 3652 | CK20: 2750 | CL20: 4334 | CM20: 110 | CN20: 572 | CO20: =SUM(CJ9:CJ20) -> 30970 | CP20: =SUM(CK9:CK20) -> 21096 | CQ20: =SUM(CL9:CL20) -> 39341 | CR20: =SUM(CM9:CM20) -> 1870 | CS20: =SUM(CN9:CN20) -> 4818 | CT20: =SUM(OFFSET($B20,-($B20-1),MATCH(CT$6,$7:$7,)-1,1,1):OFFSET($B20,0,MATCH(CT$6,$7:$7,)-1,1,1)) -> 14605 | CU20: =SUM(OFFSET($B20,-($B20-1),MATCH(CU$6,$7:$7,)-1,1,1):OFFSET($B20,0,MATCH(CU$6,$7:$7,)-1,1,1)) -> 29574 | CV20: =SUM(OFFSET($B20,-($B20-1),MATCH(CV$6,$7:$7,)-1,1,1):OFFSET($B20,0,MATCH(CV$6,$7:$7,)-1,1,1)) -> 1515 | CW20: =SUM(OFFSET($B20,-($B20-1),MATCH(CW$6,$7:$7,)-1,1,1):OFFSET($B20,0,MATCH(CW$6,$7:$7,)-1,1,1)) -> 3831 | CX20: =SUM(OFFSET($B20,-($B20-1),MATCH(CX$6,$7:$7,)-1,1,1):OFFSET($B20,0,MATCH(CX$6,$7:$7,)-1,1,1)) -> 158934
B21: =IF(MONTH(C21)>=4,(MONTH(C21))-3,(MONTH(C21))+9) -> 9 | C21: 39052 | D21: 52550 | E21: 236 | F21: 68182 | G21: =SUM(D10:D21) -> 564430 | H21: =SUM(E10:E21) -> 2861 | I21: =SUM(F10:F21) -> 787738 | J21: =SUM(OFFSET($B21,-($B21-1),MATCH(J$6,$7:$7,)-1,1,1):OFFSET($B21,0,MATCH(J$6,$7:$7,)-1,1,1)) -> 2167 | K21: =SUM(OFFSET($B21,-($B21-1),MATCH(K$6,$7:$7,)-1,1,1):OFFSET($B21,0,MATCH(K$6,$7:$7,)-1,1,1)) -> 598956 | L21: =SUM(OFFSET($B21,-($B21-1),MATCH(L$6,$7:$7,)-1,1,1):OFFSET($B21,0,MATCH(L$6,$7:$7,)-1,1,1)) -> 564430 | M21: 330980 | N21: 3772 | O21: 439232 | P21: =SUM(M10:M21) -> 3990382 | Q21: =SUM(N10:N21) -> 47303 | R21: =SUM(O10:O21) -> 5468614 | S21: =SUM(OFFSET($B21,-($B21-1),MATCH(S$6,$7:$7,)-1,1,1):OFFSET($B21,0,MATCH(S$6,$7:$7,)-1,1,1)) -> 35668 | T21: =SUM(OFFSET($B21,-($B21-1),MATCH(T$6,$7:$7,)-1,1,1):OFFSET($B21,0,MATCH(T$6,$7:$7,)-1,1,1)) -> 4157732 | U21: =SUM(OFFSET($B21,-($B21-1),MATCH(U$6,$7:$7,)-1,1,1):OFFSET($B21,0,MATCH(U$6,$7:$7,)-1,1,1)) -> 3990382 | AR21: =SUM(V10:V21) -> 0 | AS21: =SUM(W10:W21) -> 0 | AT21: =SUM(X10:X21) -> 0 | AU21: =SUM(Y10:Y21) -> 0 | AV21: =SUM(Z10:Z21) -> 0 | AW21: =SUM(AA10:AA21) -> 0 | AX21: =SUM(AB10:AB21) -> 0 | BN21: =SUM(OFFSET($B21,-($B21-1),MATCH(BN$6,$7:$7,)-1,1,1):OFFSET($B21,0,MATCH(BN$6,$7:$7,)-1,1,1)) -> 0 | BO21: =SUM(OFFSET($B21,-($B21-1),MATCH(BO$6,$7:$7,)-1,1,1):OFFSET($B21,0,MATCH(BO$6,$7:$7,)-1,1,1)) -> 0 | BP21: =SUM(OFFSET($B21,-($B21-1),MATCH(BP$6,$7:$7,)-1,1,1):OFFSET($B21,0,MATCH(BP$6,$7:$7,)-1,1,1)) -> 0 | BQ21: =SUM(OFFSET($B21,-($B21-1),MATCH(BQ$6,$7:$7,)-1,1,1):OFFSET($B21,0,MATCH(BQ$6,$7:$7,)-1,1,1)) -> 0 | BR21: =SUM(OFFSET($B21,-($B21-1),MATCH(BR$6,$7:$7,)-1,1,1):OFFSET($B21,0,MATCH(BR$6,$7:$7,)-1,1,1)) -> 0 | BS21: =SUM(OFFSET($B21,-($B21-1),MATCH(BS$6,$7:$7,)-1,1,1):OFFSET($B21,0,MATCH(BS$6,$7:$7,)-1,1,1)) -> 0 | BT21: =SUM(OFFSET($B21,-($B21-1),MATCH(BT$6,$7:$7,)-1,1,1):OFFSET($B21,0,MATCH(BT$6,$7:$7,)-1,1,1)) -> 0 | BU21: =SUM(OFFSET($B21,-($B21-1),MATCH(BU$6,$7:$7,)-1,1,1):OFFSET($B21,0,MATCH(BU$6,$7:$7,)-1,1,1)) -> 0 | ... CH21: =SUM(OFFSET($B21,-($B21-1),MATCH(CH$6,$7:$7,)-1,1,1):OFFSET($B21,0,MATCH(CH$6,$7:$7,)-1,1,1)) -> 0 | CJ21: 2132 | CK21: 4446 | CL21: 9698 | CM21: 26 | CN21: 754 | CO21: =SUM(CJ10:CJ21) -> 33102 | CP21: =SUM(CK10:CK21) -> 25542 | CQ21: =SUM(CL10:CL21) -> 49039 | CR21: =SUM(CM10:CM21) -> 1896 | CS21: =SUM(CN10:CN21) -> 5572 | CT21: =SUM(OFFSET($B21,-($B21-1),MATCH(CT$6,$7:$7,)-1,1,1):OFFSET($B21,0,MATCH(CT$6,$7:$7,)-1,1,1)) -> 19051 | CU21: =SUM(OFFSET($B21,-($B21-1),MATCH(CU$6,$7:$7,)-1,1,1):OFFSET($B21,0,MATCH(CU$6,$7:$7,)-1,1,1)) -> 39272 | CV21: =SUM(OFFSET($B21,-($B21-1),MATCH(CV$6,$7:$7,)-1,1,1):OFFSET($B21,0,MATCH(CV$6,$7:$7,)-1,1,1)) -> 1541 | CW21: =SUM(OFFSET($B21,-($B21-1),MATCH(CW$6,$7:$7,)-1,1,1):OFFSET($B21,0,MATCH(CW$6,$7:$7,)-1,1,1)) -> 4585 | CX21: =SUM(OFFSET($B21,-($B21-1),MATCH(CX$6,$7:$7,)-1,1,1):OFFSET($B21,0,MATCH(CX$6,$7:$7,)-1,1,1)) -> 192036
B22: =IF(MONTH(C22)>=4,(MONTH(C22))-3,(MONTH(C22))+9) -> 10 | C22: 39083 | D22: 53679 | E22: 229 | F22: 65680 | G22: =SUM(D11:D22) -> 566846 | H22: =SUM(E11:E22) -> 2854 | I22: =SUM(F11:F22) -> 789118 | J22: =SUM(OFFSET($B22,-($B22-1),MATCH(J$6,$7:$7,)-1,1,1):OFFSET($B22,0,MATCH(J$6,$7:$7,)-1,1,1)) -> 2396 | K22: =SUM(OFFSET($B22,-($B22-1),MATCH(K$6,$7:$7,)-1,1,1):OFFSET($B22,0,MATCH(K$6,$7:$7,)-1,1,1)) -> 664636 | L22: =SUM(OFFSET($B22,-($B22-1),MATCH(L$6,$7:$7,)-1,1,1):OFFSET($B22,0,MATCH(L$6,$7:$7,)-1,1,1)) -> 1131276 | M22: 283288 | N22: 3586 | O22: 393177 | P22: =SUM(M11:M22) -> 3990629 | Q22: =SUM(N11:N22) -> 47165 | R22: =SUM(O11:O22) -> 5464873 | S22: =SUM(OFFSET($B22,-($B22-1),MATCH(S$6,$7:$7,)-1,1,1):OFFSET($B22,0,MATCH(S$6,$7:$7,)-1,1,1)) -> 39254 | T22: =SUM(OFFSET($B22,-($B22-1),MATCH(T$6,$7:$7,)-1,1,1):OFFSET($B22,0,MATCH(T$6,$7:$7,)-1,1,1)) -> 4550909 | U22: =SUM(OFFSET($B22,-($B22-1),MATCH(U$6,$7:$7,)-1,1,1):OFFSET($B22,0,MATCH(U$6,$7:$7,)-1,1,1)) -> 7981011 | AR22: =SUM(V11:V22) -> 0 | AS22: =SUM(W11:W22) -> 0 | AT22: =SUM(X11:X22) -> 0 | AU22: =SUM(Y11:Y22) -> 0 | AV22: =SUM(Z11:Z22) -> 0 | AW22: =SUM(AA11:AA22) -> 0 | AX22: =SUM(AB11:AB22) -> 0 | BN22: =SUM(OFFSET($B22,-($B22-1),MATCH(BN$6,$7:$7,)-1,1,1):OFFSET($B22,0,MATCH(BN$6,$7:$7,)-1,1,1)) -> 0 | BO22: =SUM(OFFSET($B22,-($B22-1),MATCH(BO$6,$7:$7,)-1,1,1):OFFSET($B22,0,MATCH(BO$6,$7:$7,)-1,1,1)) -> 0 | BP22: =SUM(OFFSET($B22,-($B22-1),MATCH(BP$6,$7:$7,)-1,1,1):OFFSET($B22,0,MATCH(BP$6,$7:$7,)-1,1,1)) -> 0 | BQ22: =SUM(OFFSET($B22,-($B22-1),MATCH(BQ$6,$7:$7,)-1,1,1):OFFSET($B22,0,MATCH(BQ$6,$7:$7,)-1,1,1)) -> 0 | BR22: =SUM(OFFSET($B22,-($B22-1),MATCH(BR$6,$7:$7,)-1,1,1):OFFSET($B22,0,MATCH(BR$6,$7:$7,)-1,1,1)) -> 0 | BS22: =SUM(OFFSET($B22,-($B22-1),MATCH(BS$6,$7:$7,)-1,1,1):OFFSET($B22,0,MATCH(BS$6,$7:$7,)-1,1,1)) -> 0 | BT22: =SUM(OFFSET($B22,-($B22-1),MATCH(BT$6,$7:$7,)-1,1,1):OFFSET($B22,0,MATCH(BT$6,$7:$7,)-1,1,1)) -> 0 | BU22: =SUM(OFFSET($B22,-($B22-1),MATCH(BU$6,$7:$7,)-1,1,1):OFFSET($B22,0,MATCH(BU$6,$7:$7,)-1,1,1)) -> 0 | ... CH22: =SUM(OFFSET($B22,-($B22-1),MATCH(CH$6,$7:$7,)-1,1,1):OFFSET($B22,0,MATCH(CH$6,$7:$7,)-1,1,1)) -> 0 | CJ22: 1540 | CK22: 3500 | CL22: 5432 | CM22: 308 | CN22: 476 | CO22: =SUM(CJ11:CJ22) -> 34642 | CP22: =SUM(CK11:CK22) -> 29042 | CQ22: =SUM(CL11:CL22) -> 54471 | CR22: =SUM(CM11:CM22) -> 2204 | CS22: =SUM(CN11:CN22) -> 6048 | CT22: =SUM(OFFSET($B22,-($B22-1),MATCH(CT$6,$7:$7,)-1,1,1):OFFSET($B22,0,MATCH(CT$6,$7:$7,)-1,1,1)) -> 22551 | CU22: =SUM(OFFSET($B22,-($B22-1),MATCH(CU$6,$7:$7,)-1,1,1):OFFSET($B22,0,MATCH(CU$6,$7:$7,)-1,1,1)) -> 44704 | CV22: =SUM(OFFSET($B22,-($B22-1),MATCH(CV$6,$7:$7,)-1,1,1):OFFSET($B22,0,MATCH(CV$6,$7:$7,)-1,1,1)) -> 1849 | CW22: =SUM(OFFSET($B22,-($B22-1),MATCH(CW$6,$7:$7,)-1,1,1):OFFSET($B22,0,MATCH(CW$6,$7:$7,)-1,1,1)) -> 5061 | CX22: =SUM(OFFSET($B22,-($B22-1),MATCH(CX$6,$7:$7,)-1,1,1):OFFSET($B22,0,MATCH(CX$6,$7:$7,)-1,1,1)) -> 226678
B23: =IF(MONTH(C23)>=4,(MONTH(C23))-3,(MONTH(C23))+9) -> 11 | C23: 39114 | D23: 46656 | E23: 211 | F23: 60140 | G23: =SUM(D12:D23) -> 570609 | H23: =SUM(E12:E23) -> 2846 | I23: =SUM(F12:F23) -> 789650 | J23: =SUM(OFFSET($B23,-($B23-1),MATCH(J$6,$7:$7,)-1,1,1):OFFSET($B23,0,MATCH(J$6,$7:$7,)-1,1,1)) -> 2607 | K23: =SUM(OFFSET($B23,-($B23-1),MATCH(K$6,$7:$7,)-1,1,1):OFFSET($B23,0,MATCH(K$6,$7:$7,)-1,1,1)) -> 724776 | L23: =SUM(OFFSET($B23,-($B23-1),MATCH(L$6,$7:$7,)-1,1,1):OFFSET($B23,0,MATCH(L$6,$7:$7,)-1,1,1)) -> 1701885 | M23: 337044 | N23: 3690 | O23: 436785 | P23: =SUM(M12:M23) -> 4004093 | Q23: =SUM(N12:N23) -> 47065 | R23: =SUM(O12:O23) -> 5467339 | S23: =SUM(OFFSET($B23,-($B23-1),MATCH(S$6,$7:$7,)-1,1,1):OFFSET($B23,0,MATCH(S$6,$7:$7,)-1,1,1)) -> 42944 | T23: =SUM(OFFSET($B23,-($B23-1),MATCH(T$6,$7:$7,)-1,1,1):OFFSET($B23,0,MATCH(T$6,$7:$7,)-1,1,1)) -> 4987694 | U23: =SUM(OFFSET($B23,-($B23-1),MATCH(U$6,$7:$7,)-1,1,1):OFFSET($B23,0,MATCH(U$6,$7:$7,)-1,1,1)) -> 11985104 | AR23: =SUM(V12:V23) -> 0 | AS23: =SUM(W12:W23) -> 0 | AT23: =SUM(X12:X23) -> 0 | AU23: =SUM(Y12:Y23) -> 0 | AV23: =SUM(Z12:Z23) -> 0 | AW23: =SUM(AA12:AA23) -> 0 | AX23: =SUM(AB12:AB23) -> 0 | BN23: =SUM(OFFSET($B23,-($B23-1),MATCH(BN$6,$7:$7,)-1,1,1):OFFSET($B23,0,MATCH(BN$6,$7:$7,)-1,1,1)) -> 0 | BO23: =SUM(OFFSET($B23,-($B23-1),MATCH(BO$6,$7:$7,)-1,1,1):OFFSET($B23,0,MATCH(BO$6,$7:$7,)-1,1,1)) -> 0 | BP23: =SUM(OFFSET($B23,-($B23-1),MATCH(BP$6,$7:$7,)-1,1,1):OFFSET($B23,0,MATCH(BP$6,$7:$7,)-1,1,1)) -> 0 | BQ23: =SUM(OFFSET($B23,-($B23-1),MATCH(BQ$6,$7:$7,)-1,1,1):OFFSET($B23,0,MATCH(BQ$6,$7:$7,)-1,1,1)) -> 0 | BR23: =SUM(OFFSET($B23,-($B23-1),MATCH(BR$6,$7:$7,)-1,1,1):OFFSET($B23,0,MATCH(BR$6,$7:$7,)-1,1,1)) -> 0 | BS23: =SUM(OFFSET($B23,-($B23-1),MATCH(BS$6,$7:$7,)-1,1,1):OFFSET($B23,0,MATCH(BS$6,$7:$7,)-1,1,1)) -> 0 | BT23: =SUM(OFFSET($B23,-($B23-1),MATCH(BT$6,$7:$7,)-1,1,1):OFFSET($B23,0,MATCH(BT$6,$7:$7,)-1,1,1)) -> 0 | BU23: =SUM(OFFSET($B23,-($B23-1),MATCH(BU$6,$7:$7,)-1,1,1):OFFSET($B23,0,MATCH(BU$6,$7:$7,)-1,1,1)) -> 0 | ... CH23: =SUM(OFFSET($B23,-($B23-1),MATCH(CH$6,$7:$7,)-1,1,1):OFFSET($B23,0,MATCH(CH$6,$7:$7,)-1,1,1)) -> 0 | CJ23: 3059 | CK23: 3680 | CL23: 5612 | CM23: 276 | CN23: 736 | CO23: =SUM(CJ12:CJ23) -> 34401 | CP23: =SUM(CK12:CK23) -> 29290 | CQ23: =SUM(CL12:CL23) -> 54847 | CR23: =SUM(CM12:CM23) -> 2194 | CS23: =SUM(CN12:CN23) -> 6234 | CT23: =SUM(OFFSET($B23,-($B23-1),MATCH(CT$6,$7:$7,)-1,1,1):OFFSET($B23,0,MATCH(CT$6,$7:$7,)-1,1,1)) -> 26231 | CU23: =SUM(OFFSET($B23,-($B23-1),MATCH(CU$6,$7:$7,)-1,1,1):OFFSET($B23,0,MATCH(CU$6,$7:$7,)-1,1,1)) -> 50316 | CV23: =SUM(OFFSET($B23,-($B23-1),MATCH(CV$6,$7:$7,)-1,1,1):OFFSET($B23,0,MATCH(CV$6,$7:$7,)-1,1,1)) -> 2125 | CW23: =SUM(OFFSET($B23,-($B23-1),MATCH(CW$6,$7:$7,)-1,1,1):OFFSET($B23,0,MATCH(CW$6,$7:$7,)-1,1,1)) -> 5797 | CX23: =SUM(OFFSET($B23,-($B23-1),MATCH(CX$6,$7:$7,)-1,1,1):OFFSET($B23,0,MATCH(CX$6,$7:$7,)-1,1,1)) -> 261079
